BEGIN:VCALENDAR
VERSION:2.0
PRODID:-//Islands of Beaufort - ECPv6.15.18//NONSGML v1.0//EN
CALSCALE:GREGORIAN
METHOD:PUBLISH
X-WR-CALNAME:Islands of Beaufort
X-ORIGINAL-URL:https://islandsofbeaufort.com
X-WR-CALDESC:Events for Islands of Beaufort
REFRESH-INTERVAL;VALUE=DURATION:PT1H
X-Robots-Tag:noindex
X-PUBLISHED-TTL:PT1H
BEGIN:VTIMEZONE
TZID:America/New_York
BEGIN:DAYLIGHT
TZOFFSETFROM:-0500
TZOFFSETTO:-0400
TZNAME:EDT
DTSTART:20250309T070000
END:DAYLIGHT
BEGIN:STANDARD
TZOFFSETFROM:-0400
TZOFFSETTO:-0500
TZNAME:EST
DTSTART:20251102T060000
END:STANDARD
BEGIN:DAYLIGHT
TZOFFSETFROM:-0500
TZOFFSETTO:-0400
TZNAME:EDT
DTSTART:20260308T070000
END:DAYLIGHT
BEGIN:STANDARD
TZOFFSETFROM:-0400
TZOFFSETTO:-0500
TZNAME:EST
DTSTART:20261101T060000
END:STANDARD
BEGIN:DAYLIGHT
TZOFFSETFROM:-0500
TZOFFSETTO:-0400
TZNAME:EDT
DTSTART:20270314T070000
END:DAYLIGHT
BEGIN:STANDARD
TZOFFSETFROM:-0400
TZOFFSETTO:-0500
TZNAME:EST
DTSTART:20271107T060000
END:STANDARD
END:VTIMEZONE
BEGIN:VEVENT
DTSTART;TZID=America/New_York:20260907T130000
DTEND;TZID=America/New_York:20260907T153000
DTSTAMP:20260422T122644
CREATED:20260120T142410Z
LAST-MODIFIED:20260204T133337Z
UID:5085-1788786000-1788795000@islandsofbeaufort.com
SUMMARY:MAHJONG
DESCRIPTION:
URL:https://islandsofbeaufort.com/event/mahjong-106/
LOCATION:IOB Clubhouse\, 316 Islands Avenue \, Beaufort\, SC\, 29902\, United States
END:VEVENT
BEGIN:VEVENT
DTSTART;TZID=America/New_York:20260908T140000
DTEND;TZID=America/New_York:20260908T160000
DTSTAMP:20260422T122644
CREATED:20260112T143956Z
LAST-MODIFIED:20260112T143956Z
UID:5003-1788876000-1788883200@islandsofbeaufort.com
SUMMARY:Board Meeting
DESCRIPTION:
URL:https://islandsofbeaufort.com/event/board-meeting-5/
LOCATION:IOB Clubhouse\, 316 Islands Avenue \, Beaufort\, SC\, 29902\, United States
END:VEVENT
BEGIN:VEVENT
DTSTART;TZID=America/New_York:20260914T130000
DTEND;TZID=America/New_York:20260914T153000
DTSTAMP:20260422T122644
CREATED:20260120T142441Z
LAST-MODIFIED:20260204T133433Z
UID:5087-1789390800-1789399800@islandsofbeaufort.com
SUMMARY:MAHJONG
DESCRIPTION:
URL:https://islandsofbeaufort.com/event/mahjong-107/
LOCATION:IOB Clubhouse\, 316 Islands Avenue \, Beaufort\, SC\, 29902\, United States
END:VEVENT
BEGIN:VEVENT
DTSTART;TZID=America/New_York:20260915T130000
DTEND;TZID=America/New_York:20260915T170000
DTSTAMP:20260422T122644
CREATED:20251020T125802Z
LAST-MODIFIED:20251020T125802Z
UID:4937-1789477200-1789491600@islandsofbeaufort.com
SUMMARY:Stitch & Bitch
DESCRIPTION:
URL:https://islandsofbeaufort.com/event/stitch-bitch-12/
LOCATION:IOB Clubhouse\, 316 Islands Avenue \, Beaufort\, SC\, 29902\, United States
END:VEVENT
BEGIN:VEVENT
DTSTART;TZID=America/New_York:20260918T173000
DTEND;TZID=America/New_York:20260918T173000
DTSTAMP:20260422T122644
CREATED:20260203T151046Z
LAST-MODIFIED:20260203T151046Z
UID:5157-1789752600-1789752600@islandsofbeaufort.com
SUMMARY:DOCKTAILS
DESCRIPTION:
URL:https://islandsofbeaufort.com/event/docktails-15/
LOCATION:SC
END:VEVENT
BEGIN:VEVENT
DTSTART;VALUE=DATE:20260919
DTEND;VALUE=DATE:20260920
DTSTAMP:20260422T122644
CREATED:20260203T151356Z
LAST-MODIFIED:20260203T151356Z
UID:5165-1789776000-1789862399@islandsofbeaufort.com
SUMMARY:PICNIC IN THE PARK BLOCK PARTY
DESCRIPTION:
URL:https://islandsofbeaufort.com/event/picnic-in-the-park-block-party-2/
LOCATION:SC
END:VEVENT
BEGIN:VEVENT
DTSTART;TZID=America/New_York:20260921T130000
DTEND;TZID=America/New_York:20260921T153000
DTSTAMP:20260422T122644
CREATED:20260120T142512Z
LAST-MODIFIED:20260204T133339Z
UID:5089-1789995600-1790004600@islandsofbeaufort.com
SUMMARY:MAHJONG
DESCRIPTION:
URL:https://islandsofbeaufort.com/event/mahjong-108/
LOCATION:IOB Clubhouse\, 316 Islands Avenue \, Beaufort\, SC\, 29902\, United States
END:VEVENT
BEGIN:VEVENT
DTSTART;TZID=America/New_York:20260928T130000
DTEND;TZID=America/New_York:20260928T153000
DTSTAMP:20260422T122644
CREATED:20260120T142546Z
LAST-MODIFIED:20260204T133344Z
UID:5091-1790600400-1790609400@islandsofbeaufort.com
SUMMARY:MAHJONG
DESCRIPTION:
URL:https://islandsofbeaufort.com/event/mahjong-109/
LOCATION:IOB Clubhouse\, 316 Islands Avenue \, Beaufort\, SC\, 29902\, United States
END:VEVENT
END:VCALENDAR