BEGIN:VCALENDAR
VERSION:2.0
PRODID:-//Islands of Beaufort - ECPv6.15.18//NONSGML v1.0//EN
CALSCALE:GREGORIAN
METHOD:PUBLISH
X-WR-CALNAME:Islands of Beaufort
X-ORIGINAL-URL:https://islandsofbeaufort.com
X-WR-CALDESC:Events for Islands of Beaufort
REFRESH-INTERVAL;VALUE=DURATION:PT1H
X-Robots-Tag:noindex
X-PUBLISHED-TTL:PT1H
BEGIN:VTIMEZONE
TZID:America/New_York
BEGIN:DAYLIGHT
TZOFFSETFROM:-0500
TZOFFSETTO:-0400
TZNAME:EDT
DTSTART:20250309T070000
END:DAYLIGHT
BEGIN:STANDARD
TZOFFSETFROM:-0400
TZOFFSETTO:-0500
TZNAME:EST
DTSTART:20251102T060000
END:STANDARD
BEGIN:DAYLIGHT
TZOFFSETFROM:-0500
TZOFFSETTO:-0400
TZNAME:EDT
DTSTART:20260308T070000
END:DAYLIGHT
BEGIN:STANDARD
TZOFFSETFROM:-0400
TZOFFSETTO:-0500
TZNAME:EST
DTSTART:20261101T060000
END:STANDARD
BEGIN:DAYLIGHT
TZOFFSETFROM:-0500
TZOFFSETTO:-0400
TZNAME:EDT
DTSTART:20270314T070000
END:DAYLIGHT
BEGIN:STANDARD
TZOFFSETFROM:-0400
TZOFFSETTO:-0500
TZNAME:EST
DTSTART:20271107T060000
END:STANDARD
END:VTIMEZONE
BEGIN:VEVENT
DTSTART;TZID=America/New_York:20260803T130000
DTEND;TZID=America/New_York:20260803T153000
DTSTAMP:20260422T084931
CREATED:20260120T142122Z
LAST-MODIFIED:20260204T133317Z
UID:5074-1785762000-1785771000@islandsofbeaufort.com
SUMMARY:MAHJONG
DESCRIPTION:
URL:https://islandsofbeaufort.com/event/mahjong-101/
LOCATION:IOB Clubhouse\, 316 Islands Avenue \, Beaufort\, SC\, 29902\, United States
END:VEVENT
BEGIN:VEVENT
DTSTART;TZID=America/New_York:20260810T130000
DTEND;TZID=America/New_York:20260810T153000
DTSTAMP:20260422T084931
CREATED:20260120T142153Z
LAST-MODIFIED:20260204T133321Z
UID:5076-1786366800-1786375800@islandsofbeaufort.com
SUMMARY:MAHJONG
DESCRIPTION:
URL:https://islandsofbeaufort.com/event/mahjong-102/
LOCATION:IOB Clubhouse\, 316 Islands Avenue \, Beaufort\, SC\, 29902\, United States
END:VEVENT
BEGIN:VEVENT
DTSTART;TZID=America/New_York:20260817T130000
DTEND;TZID=America/New_York:20260817T153000
DTSTAMP:20260422T084931
CREATED:20260120T142216Z
LAST-MODIFIED:20260204T133320Z
UID:5078-1786971600-1786980600@islandsofbeaufort.com
SUMMARY:MAHJONG
DESCRIPTION:
URL:https://islandsofbeaufort.com/event/mahjong-103/
LOCATION:IOB Clubhouse\, 316 Islands Avenue \, Beaufort\, SC\, 29902\, United States
END:VEVENT
BEGIN:VEVENT
DTSTART;TZID=America/New_York:20260818T130000
DTEND;TZID=America/New_York:20260818T170000
DTSTAMP:20260422T084931
CREATED:20251020T125710Z
LAST-MODIFIED:20251020T125710Z
UID:4935-1787058000-1787072400@islandsofbeaufort.com
SUMMARY:Stitch & Bitch
DESCRIPTION:
URL:https://islandsofbeaufort.com/event/stitch-bitch-11/
LOCATION:IOB Clubhouse\, 316 Islands Avenue \, Beaufort\, SC\, 29902\, United States
END:VEVENT
BEGIN:VEVENT
DTSTART;TZID=America/New_York:20260821T173000
DTEND;TZID=America/New_York:20260821T173000
DTSTAMP:20260422T084931
CREATED:20260203T151006Z
LAST-MODIFIED:20260203T151006Z
UID:5155-1787333400-1787333400@islandsofbeaufort.com
SUMMARY:DOCKTAILS
DESCRIPTION:
URL:https://islandsofbeaufort.com/event/docktails-14/
LOCATION:SC
END:VEVENT
BEGIN:VEVENT
DTSTART;TZID=America/New_York:20260824T130000
DTEND;TZID=America/New_York:20260824T153000
DTSTAMP:20260422T084931
CREATED:20260120T142240Z
LAST-MODIFIED:20260204T133323Z
UID:5080-1787576400-1787585400@islandsofbeaufort.com
SUMMARY:MAHJONG
DESCRIPTION:
URL:https://islandsofbeaufort.com/event/mahjong-104/
LOCATION:IOB Clubhouse\, 316 Islands Avenue \, Beaufort\, SC\, 29902\, United States
END:VEVENT
BEGIN:VEVENT
DTSTART;TZID=America/New_York:20260825T133000
DTEND;TZID=America/New_York:20260825T150000
DTSTAMP:20260422T084931
CREATED:20260128T153351Z
LAST-MODIFIED:20260128T153351Z
UID:5132-1787664600-1787670000@islandsofbeaufort.com
SUMMARY:Open Space Committee
DESCRIPTION:
URL:https://islandsofbeaufort.com/event/open-space-committee-32/
LOCATION:IOB Clubhouse\, 316 Islands Avenue \, Beaufort\, SC\, 29902\, United States
END:VEVENT
BEGIN:VEVENT
DTSTART;TZID=America/New_York:20260831T130000
DTEND;TZID=America/New_York:20260831T153000
DTSTAMP:20260422T084931
CREATED:20260120T142332Z
LAST-MODIFIED:20260204T133335Z
UID:5083-1788181200-1788190200@islandsofbeaufort.com
SUMMARY:MAHJONG
DESCRIPTION:
URL:https://islandsofbeaufort.com/event/mahjong-105/
LOCATION:IOB Clubhouse\, 316 Islands Avenue \, Beaufort\, SC\, 29902\, United States
END:VEVENT
END:VCALENDAR