BEGIN:VCALENDAR
VERSION:2.0
PRODID:-//Islands of Beaufort - ECPv6.15.18//NONSGML v1.0//EN
CALSCALE:GREGORIAN
METHOD:PUBLISH
X-ORIGINAL-URL:https://islandsofbeaufort.com
X-WR-CALDESC:Events for Islands of Beaufort
REFRESH-INTERVAL;VALUE=DURATION:PT1H
X-Robots-Tag:noindex
X-PUBLISHED-TTL:PT1H
BEGIN:VTIMEZONE
TZID:America/New_York
BEGIN:DAYLIGHT
TZOFFSETFROM:-0500
TZOFFSETTO:-0400
TZNAME:EDT
DTSTART:20250309T070000
END:DAYLIGHT
BEGIN:STANDARD
TZOFFSETFROM:-0400
TZOFFSETTO:-0500
TZNAME:EST
DTSTART:20251102T060000
END:STANDARD
BEGIN:DAYLIGHT
TZOFFSETFROM:-0500
TZOFFSETTO:-0400
TZNAME:EDT
DTSTART:20260308T070000
END:DAYLIGHT
BEGIN:STANDARD
TZOFFSETFROM:-0400
TZOFFSETTO:-0500
TZNAME:EST
DTSTART:20261101T060000
END:STANDARD
BEGIN:DAYLIGHT
TZOFFSETFROM:-0500
TZOFFSETTO:-0400
TZNAME:EDT
DTSTART:20270314T070000
END:DAYLIGHT
BEGIN:STANDARD
TZOFFSETFROM:-0400
TZOFFSETTO:-0500
TZNAME:EST
DTSTART:20271107T060000
END:STANDARD
END:VTIMEZONE
BEGIN:VEVENT
DTSTART;TZID=America/New_York:20260704T100000
DTEND;TZID=America/New_York:20260704T160000
DTSTAMP:20260422T072319
CREATED:20260130T170829Z
LAST-MODIFIED:20260130T195914Z
UID:5138-1783159200-1783180800@islandsofbeaufort.com
SUMMARY:July 4th Party
DESCRIPTION:
URL:https://islandsofbeaufort.com/event/iob-community-event-2/
LOCATION:IOB Clubhouse\, 316 Islands Avenue \, Beaufort\, SC\, 29902\, United States
END:VEVENT
BEGIN:VEVENT
DTSTART;TZID=America/New_York:20260706T130000
DTEND;TZID=America/New_York:20260706T153000
DTSTAMP:20260422T072319
CREATED:20260120T141906Z
LAST-MODIFIED:20260204T133105Z
UID:5066-1783342800-1783351800@islandsofbeaufort.com
SUMMARY:MAHJONG
DESCRIPTION:
URL:https://islandsofbeaufort.com/event/mahjong-97/
LOCATION:IOB Clubhouse\, 316 Islands Avenue \, Beaufort\, SC\, 29902\, United States
END:VEVENT
BEGIN:VEVENT
DTSTART;TZID=America/New_York:20260713T130000
DTEND;TZID=America/New_York:20260713T153000
DTSTAMP:20260422T072319
CREATED:20260120T141943Z
LAST-MODIFIED:20260204T133119Z
UID:5068-1783947600-1783956600@islandsofbeaufort.com
SUMMARY:MAHJONG
DESCRIPTION:
URL:https://islandsofbeaufort.com/event/mahjong-98/
LOCATION:IOB Clubhouse\, 316 Islands Avenue \, Beaufort\, SC\, 29902\, United States
END:VEVENT
BEGIN:VEVENT
DTSTART;TZID=America/New_York:20260714T140000
DTEND;TZID=America/New_York:20260714T160000
DTSTAMP:20260422T072319
CREATED:20260112T143859Z
LAST-MODIFIED:20260112T143859Z
UID:5001-1784037600-1784044800@islandsofbeaufort.com
SUMMARY:Board Meeting
DESCRIPTION:
URL:https://islandsofbeaufort.com/event/board-meeting-4/
LOCATION:IOB Clubhouse\, 316 Islands Avenue \, Beaufort\, SC\, 29902\, United States
END:VEVENT
BEGIN:VEVENT
DTSTART;TZID=America/New_York:20260717T173000
DTEND;TZID=America/New_York:20260717T173000
DTSTAMP:20260422T072319
CREATED:20260203T150931Z
LAST-MODIFIED:20260203T150931Z
UID:5153-1784309400-1784309400@islandsofbeaufort.com
SUMMARY:DOCKTAILS
DESCRIPTION:
URL:https://islandsofbeaufort.com/event/docktails-13/
LOCATION:SC
END:VEVENT
BEGIN:VEVENT
DTSTART;TZID=America/New_York:20260720T130000
DTEND;TZID=America/New_York:20260720T153000
DTSTAMP:20260422T072319
CREATED:20260120T142009Z
LAST-MODIFIED:20260204T133125Z
UID:5070-1784552400-1784561400@islandsofbeaufort.com
SUMMARY:MAHJONG
DESCRIPTION:
URL:https://islandsofbeaufort.com/event/mahjong-99/
LOCATION:IOB Clubhouse\, 316 Islands Avenue \, Beaufort\, SC\, 29902\, United States
END:VEVENT
BEGIN:VEVENT
DTSTART;TZID=America/New_York:20260721T130000
DTEND;TZID=America/New_York:20260721T170000
DTSTAMP:20260422T072319
CREATED:20251020T125626Z
LAST-MODIFIED:20251020T125626Z
UID:4933-1784638800-1784653200@islandsofbeaufort.com
SUMMARY:Stitch & Bitch
DESCRIPTION:
URL:https://islandsofbeaufort.com/event/stitch-bitch-10/
LOCATION:IOB Clubhouse\, 316 Islands Avenue \, Beaufort\, SC\, 29902\, United States
END:VEVENT
BEGIN:VEVENT
DTSTART;TZID=America/New_York:20260727T130000
DTEND;TZID=America/New_York:20260727T153000
DTSTAMP:20260422T072319
CREATED:20260120T142039Z
LAST-MODIFIED:20260204T133223Z
UID:5072-1785157200-1785166200@islandsofbeaufort.com
SUMMARY:MAHJONG
DESCRIPTION:
URL:https://islandsofbeaufort.com/event/mahjong-100/
LOCATION:IOB Clubhouse\, 316 Islands Avenue \, Beaufort\, SC\, 29902\, United States
END:VEVENT
END:VCALENDAR