BEGIN:VCALENDAR
VERSION:2.0
PRODID:-//Islands of Beaufort - ECPv6.15.18//NONSGML v1.0//EN
CALSCALE:GREGORIAN
METHOD:PUBLISH
X-WR-CALNAME:Islands of Beaufort
X-ORIGINAL-URL:https://islandsofbeaufort.com
X-WR-CALDESC:Events for Islands of Beaufort
REFRESH-INTERVAL;VALUE=DURATION:PT1H
X-Robots-Tag:noindex
X-PUBLISHED-TTL:PT1H
BEGIN:VTIMEZONE
TZID:America/New_York
BEGIN:DAYLIGHT
TZOFFSETFROM:-0500
TZOFFSETTO:-0400
TZNAME:EDT
DTSTART:20240310T070000
END:DAYLIGHT
BEGIN:STANDARD
TZOFFSETFROM:-0400
TZOFFSETTO:-0500
TZNAME:EST
DTSTART:20241103T060000
END:STANDARD
BEGIN:DAYLIGHT
TZOFFSETFROM:-0500
TZOFFSETTO:-0400
TZNAME:EDT
DTSTART:20250309T070000
END:DAYLIGHT
BEGIN:STANDARD
TZOFFSETFROM:-0400
TZOFFSETTO:-0500
TZNAME:EST
DTSTART:20251102T060000
END:STANDARD
BEGIN:DAYLIGHT
TZOFFSETFROM:-0500
TZOFFSETTO:-0400
TZNAME:EDT
DTSTART:20260308T070000
END:DAYLIGHT
BEGIN:STANDARD
TZOFFSETFROM:-0400
TZOFFSETTO:-0500
TZNAME:EST
DTSTART:20261101T060000
END:STANDARD
END:VTIMEZONE
BEGIN:VEVENT
DTSTART;TZID=America/New_York:20250811T130000
DTEND;TZID=America/New_York:20250811T160000
DTSTAMP:20260421T075155
CREATED:20250106T191636Z
LAST-MODIFIED:20250106T191636Z
UID:4566-1754917200-1754928000@islandsofbeaufort.com
SUMMARY:CLUBHOUSE CLEANING
DESCRIPTION:
URL:https://islandsofbeaufort.com/event/clubhouse-cleaning-129/
LOCATION:SC
END:VEVENT
BEGIN:VEVENT
DTSTART;TZID=America/New_York:20250811T130000
DTEND;TZID=America/New_York:20250811T153000
DTSTAMP:20260421T075155
CREATED:20250102T211413Z
LAST-MODIFIED:20260204T131311Z
UID:4506-1754917200-1754926200@islandsofbeaufort.com
SUMMARY:MAHJONG
DESCRIPTION:
URL:https://islandsofbeaufort.com/event/mahjong-50/
LOCATION:SC
END:VEVENT
BEGIN:VEVENT
DTSTART;TZID=America/New_York:20250807T093000
DTEND;TZID=America/New_York:20250807T170000
DTSTAMP:20260421T075155
CREATED:20250805T190827Z
LAST-MODIFIED:20250805T190827Z
UID:4874-1754559000-1754586000@islandsofbeaufort.com
SUMMARY:Kathy Whitehead
DESCRIPTION:
URL:https://islandsofbeaufort.com/event/kathy-whitehead-2/
LOCATION:IOB Clubhouse\, 316 Islands Avenue \, Beaufort\, SC\, 29902\, United States
END:VEVENT
BEGIN:VEVENT
DTSTART;TZID=America/New_York:20250805T170000
DTEND;TZID=America/New_York:20250805T180000
DTSTAMP:20260421T075155
CREATED:20241213T151141Z
LAST-MODIFIED:20250108T145315Z
UID:4459-1754413200-1754416800@islandsofbeaufort.com
SUMMARY:SOCIAL COMMITTEE
DESCRIPTION:
URL:https://islandsofbeaufort.com/event/social-committee-29/
LOCATION:SC
END:VEVENT
BEGIN:VEVENT
DTSTART;TZID=America/New_York:20250804T130000
DTEND;TZID=America/New_York:20250804T160000
DTSTAMP:20260421T075155
CREATED:20250106T191636Z
LAST-MODIFIED:20250106T191636Z
UID:4565-1754312400-1754323200@islandsofbeaufort.com
SUMMARY:CLUBHOUSE CLEANING
DESCRIPTION:
URL:https://islandsofbeaufort.com/event/clubhouse-cleaning-128/
LOCATION:SC
END:VEVENT
BEGIN:VEVENT
DTSTART;TZID=America/New_York:20250804T130000
DTEND;TZID=America/New_York:20250804T153000
DTSTAMP:20260421T075155
CREATED:20250102T211413Z
LAST-MODIFIED:20260204T131257Z
UID:4505-1754312400-1754321400@islandsofbeaufort.com
SUMMARY:MAHJONG
DESCRIPTION:
URL:https://islandsofbeaufort.com/event/mahjong-49/
LOCATION:SC
END:VEVENT
BEGIN:VEVENT
DTSTART;TZID=America/New_York:20250729T150000
DTEND;TZID=America/New_York:20250729T170000
DTSTAMP:20260421T075155
CREATED:20250324T134113Z
LAST-MODIFIED:20250324T134113Z
UID:4768-1753801200-1753808400@islandsofbeaufort.com
SUMMARY:OPEN SPACE COMMITTEE
DESCRIPTION:
URL:https://islandsofbeaufort.com/event/open-space-committee-25/
LOCATION:SC
END:VEVENT
BEGIN:VEVENT
DTSTART;TZID=America/New_York:20250728T130000
DTEND;TZID=America/New_York:20250728T160000
DTSTAMP:20260421T075155
CREATED:20250106T191622Z
LAST-MODIFIED:20250106T191622Z
UID:4564-1753707600-1753718400@islandsofbeaufort.com
SUMMARY:CLUBHOUSE CLEANING
DESCRIPTION:
URL:https://islandsofbeaufort.com/event/clubhouse-cleaning-127/
LOCATION:SC
END:VEVENT
BEGIN:VEVENT
DTSTART;TZID=America/New_York:20250728T130000
DTEND;TZID=America/New_York:20250728T153000
DTSTAMP:20260421T075155
CREATED:20250102T211358Z
LAST-MODIFIED:20260204T131252Z
UID:4504-1753707600-1753716600@islandsofbeaufort.com
SUMMARY:MAHJONG
DESCRIPTION:
URL:https://islandsofbeaufort.com/event/mahjong-48/
LOCATION:SC
END:VEVENT
BEGIN:VEVENT
DTSTART;TZID=America/New_York:20250722T180000
DTEND;TZID=America/New_York:20250722T200000
DTSTAMP:20260421T075155
CREATED:20250109T143110Z
LAST-MODIFIED:20250305T180453Z
UID:4611-1753207200-1753214400@islandsofbeaufort.com
SUMMARY:GAME NIGHT
DESCRIPTION:
URL:https://islandsofbeaufort.com/event/game-night-41/
LOCATION:SC
END:VEVENT
BEGIN:VEVENT
DTSTART;TZID=America/New_York:20250721T130000
DTEND;TZID=America/New_York:20250721T160000
DTSTAMP:20260421T075155
CREATED:20250106T191622Z
LAST-MODIFIED:20250106T191622Z
UID:4563-1753102800-1753113600@islandsofbeaufort.com
SUMMARY:CLUBHOUSE CLEANING
DESCRIPTION:
URL:https://islandsofbeaufort.com/event/clubhouse-cleaning-126/
LOCATION:SC
END:VEVENT
BEGIN:VEVENT
DTSTART;TZID=America/New_York:20250721T130000
DTEND;TZID=America/New_York:20250721T153000
DTSTAMP:20260421T075155
CREATED:20250102T211358Z
LAST-MODIFIED:20260204T131241Z
UID:4503-1753102800-1753111800@islandsofbeaufort.com
SUMMARY:MAHJONG
DESCRIPTION:
URL:https://islandsofbeaufort.com/event/mahjong-47/
LOCATION:SC
END:VEVENT
BEGIN:VEVENT
DTSTART;TZID=America/New_York:20250718T180000
DTEND;TZID=America/New_York:20250718T180000
DTSTAMP:20260421T075155
CREATED:20250326T124224Z
LAST-MODIFIED:20250711T145830Z
UID:4781-1752861600-1752861600@islandsofbeaufort.com
SUMMARY:DOCKTAILS
DESCRIPTION:
URL:https://islandsofbeaufort.com/event/docktails-5/
LOCATION:de la Gaye Dock
END:VEVENT
BEGIN:VEVENT
DTSTART;TZID=America/New_York:20250714T130000
DTEND;TZID=America/New_York:20250714T160000
DTSTAMP:20260421T075155
CREATED:20250106T191622Z
LAST-MODIFIED:20250106T191622Z
UID:4562-1752498000-1752508800@islandsofbeaufort.com
SUMMARY:CLUBHOUSE CLEANING
DESCRIPTION:
URL:https://islandsofbeaufort.com/event/clubhouse-cleaning-125/
LOCATION:SC
END:VEVENT
BEGIN:VEVENT
DTSTART;TZID=America/New_York:20250714T130000
DTEND;TZID=America/New_York:20250714T153000
DTSTAMP:20260421T075155
CREATED:20250102T211358Z
LAST-MODIFIED:20260204T130432Z
UID:4502-1752498000-1752507000@islandsofbeaufort.com
SUMMARY:MAHJONG
DESCRIPTION:
URL:https://islandsofbeaufort.com/event/mahjong-46/
LOCATION:SC
END:VEVENT
BEGIN:VEVENT
DTSTART;TZID=America/New_York:20250710T140000
DTEND;TZID=America/New_York:20250710T160000
DTSTAMP:20260421T075155
CREATED:20250707T132342Z
LAST-MODIFIED:20250707T132342Z
UID:4835-1752156000-1752163200@islandsofbeaufort.com
SUMMARY:IOB Budget Meeting
DESCRIPTION:
URL:https://islandsofbeaufort.com/event/iob-budget-meeting-2/
LOCATION:IOB Clubhouse\, 316 Islands Avenue \, Beaufort\, SC\, 29902\, United States
END:VEVENT
BEGIN:VEVENT
DTSTART;TZID=America/New_York:20250708T140000
DTEND;TZID=America/New_York:20250708T170000
DTSTAMP:20260421T075155
CREATED:20250529T174401Z
LAST-MODIFIED:20250529T174401Z
UID:4813-1751983200-1751994000@islandsofbeaufort.com
SUMMARY:IOB BOD Meeting
DESCRIPTION:
URL:https://islandsofbeaufort.com/event/iob-bod-meeting/
LOCATION:IOB Clubhouse\, 316 Islands Avenue \, Beaufort\, SC\, 29902\, United States
END:VEVENT
BEGIN:VEVENT
DTSTART;TZID=America/New_York:20250708T093000
DTEND;TZID=America/New_York:20250708T120000
DTSTAMP:20260421T075155
CREATED:20250707T132217Z
LAST-MODIFIED:20250707T132239Z
UID:4833-1751967000-1751976000@islandsofbeaufort.com
SUMMARY:IOB Budget Meeting
DESCRIPTION:
URL:https://islandsofbeaufort.com/event/iob-budget-meeting/
LOCATION:IOB Clubhouse\, 316 Islands Avenue \, Beaufort\, SC\, 29902\, United States
END:VEVENT
BEGIN:VEVENT
DTSTART;TZID=America/New_York:20250707T130000
DTEND;TZID=America/New_York:20250707T160000
DTSTAMP:20260421T075155
CREATED:20250106T191622Z
LAST-MODIFIED:20250106T191622Z
UID:4561-1751893200-1751904000@islandsofbeaufort.com
SUMMARY:CLUBHOUSE CLEANING
DESCRIPTION:
URL:https://islandsofbeaufort.com/event/clubhouse-cleaning-124/
LOCATION:SC
END:VEVENT
BEGIN:VEVENT
DTSTART;TZID=America/New_York:20250707T130000
DTEND;TZID=America/New_York:20250707T153000
DTSTAMP:20260421T075155
CREATED:20250102T211358Z
LAST-MODIFIED:20260204T130427Z
UID:4501-1751893200-1751902200@islandsofbeaufort.com
SUMMARY:MAHJONG
DESCRIPTION:
URL:https://islandsofbeaufort.com/event/mahjong-45/
LOCATION:SC
END:VEVENT
BEGIN:VEVENT
DTSTART;TZID=America/New_York:20250704T093000
DTEND;TZID=America/New_York:20250704T110000
DTSTAMP:20260421T075155
CREATED:20250311T185309Z
LAST-MODIFIED:20250311T185309Z
UID:4755-1751621400-1751626800@islandsofbeaufort.com
SUMMARY:INDEPENDENCE DAY SOCIAL EVENT
DESCRIPTION:
URL:https://islandsofbeaufort.com/event/independence-day-social-event/
LOCATION:IOB Clubhouse\, 316 Islands Avenue \, Beaufort\, SC\, 29902\, United States
END:VEVENT
BEGIN:VEVENT
DTSTART;TZID=America/New_York:20250702T150000
DTEND;TZID=America/New_York:20250702T170000
DTSTAMP:20260421T075155
CREATED:20241212T192616Z
LAST-MODIFIED:20250621T133530Z
UID:4442-1751468400-1751475600@islandsofbeaufort.com
SUMMARY:OPEN SPACE COMMITTEE
DESCRIPTION:
URL:https://islandsofbeaufort.com/event/open-space-committee-18/
LOCATION:SC
END:VEVENT
BEGIN:VEVENT
DTSTART;TZID=America/New_York:20250701T170000
DTEND;TZID=America/New_York:20250701T180000
DTSTAMP:20260421T075155
CREATED:20241213T151141Z
LAST-MODIFIED:20250108T145252Z
UID:4458-1751389200-1751392800@islandsofbeaufort.com
SUMMARY:SOCIAL COMMITTEE
DESCRIPTION:
URL:https://islandsofbeaufort.com/event/social-committee-28/
LOCATION:SC
END:VEVENT
BEGIN:VEVENT
DTSTART;TZID=America/New_York:20250630T130000
DTEND;TZID=America/New_York:20250630T160000
DTSTAMP:20260421T075155
CREATED:20250106T191621Z
LAST-MODIFIED:20250106T191621Z
UID:4560-1751288400-1751299200@islandsofbeaufort.com
SUMMARY:CLUBHOUSE CLEANING
DESCRIPTION:
URL:https://islandsofbeaufort.com/event/clubhouse-cleaning-123/
LOCATION:SC
END:VEVENT
BEGIN:VEVENT
DTSTART;TZID=America/New_York:20250630T130000
DTEND;TZID=America/New_York:20250630T153000
DTSTAMP:20260421T075155
CREATED:20250102T211358Z
LAST-MODIFIED:20260204T131509Z
UID:4500-1751288400-1751297400@islandsofbeaufort.com
SUMMARY:MAHJONG
DESCRIPTION:
URL:https://islandsofbeaufort.com/event/mahjong-44/
LOCATION:SC
END:VEVENT
BEGIN:VEVENT
DTSTART;TZID=America/New_York:20250624T180000
DTEND;TZID=America/New_York:20250624T200000
DTSTAMP:20260421T075155
CREATED:20250109T143110Z
LAST-MODIFIED:20250214T172310Z
UID:4610-1750788000-1750795200@islandsofbeaufort.com
SUMMARY:GAME NIGHT
DESCRIPTION:
URL:https://islandsofbeaufort.com/event/game-night-40/
LOCATION:SC
END:VEVENT
BEGIN:VEVENT
DTSTART;TZID=America/New_York:20250623T130000
DTEND;TZID=America/New_York:20250623T160000
DTSTAMP:20260421T075155
CREATED:20250106T191607Z
LAST-MODIFIED:20250106T191607Z
UID:4559-1750683600-1750694400@islandsofbeaufort.com
SUMMARY:CLUBHOUSE CLEANING
DESCRIPTION:
URL:https://islandsofbeaufort.com/event/clubhouse-cleaning-122/
LOCATION:SC
END:VEVENT
BEGIN:VEVENT
DTSTART;TZID=America/New_York:20250623T130000
DTEND;TZID=America/New_York:20250623T153000
DTSTAMP:20260421T075155
CREATED:20250102T211343Z
LAST-MODIFIED:20260204T130428Z
UID:4499-1750683600-1750692600@islandsofbeaufort.com
SUMMARY:MAHJONG
DESCRIPTION:
URL:https://islandsofbeaufort.com/event/mahjong-43/
LOCATION:SC
END:VEVENT
BEGIN:VEVENT
DTSTART;TZID=America/New_York:20250620T173000
DTEND;TZID=America/New_York:20250620T173000
DTSTAMP:20260421T075155
CREATED:20250326T123944Z
LAST-MODIFIED:20250326T123944Z
UID:4779-1750440600-1750440600@islandsofbeaufort.com
SUMMARY:DOCKTAILS
DESCRIPTION:
URL:https://islandsofbeaufort.com/event/docktails-4/
LOCATION:de la Gaye Dock
END:VEVENT
BEGIN:VEVENT
DTSTART;TZID=America/New_York:20250616T130000
DTEND;TZID=America/New_York:20250616T160000
DTSTAMP:20260421T075155
CREATED:20250106T191607Z
LAST-MODIFIED:20250106T191607Z
UID:4558-1750078800-1750089600@islandsofbeaufort.com
SUMMARY:CLUBHOUSE CLEANING
DESCRIPTION:
URL:https://islandsofbeaufort.com/event/clubhouse-cleaning-121/
LOCATION:SC
END:VEVENT
END:VCALENDAR