BEGIN:VCALENDAR
VERSION:2.0
PRODID:-//Islands of Beaufort - ECPv6.15.18//NONSGML v1.0//EN
CALSCALE:GREGORIAN
METHOD:PUBLISH
X-WR-CALNAME:Islands of Beaufort
X-ORIGINAL-URL:https://islandsofbeaufort.com
X-WR-CALDESC:Events for Islands of Beaufort
REFRESH-INTERVAL;VALUE=DURATION:PT1H
X-Robots-Tag:noindex
X-PUBLISHED-TTL:PT1H
BEGIN:VTIMEZONE
TZID:America/New_York
BEGIN:DAYLIGHT
TZOFFSETFROM:-0500
TZOFFSETTO:-0400
TZNAME:EDT
DTSTART:20210314T070000
END:DAYLIGHT
BEGIN:STANDARD
TZOFFSETFROM:-0400
TZOFFSETTO:-0500
TZNAME:EST
DTSTART:20211107T060000
END:STANDARD
BEGIN:DAYLIGHT
TZOFFSETFROM:-0500
TZOFFSETTO:-0400
TZNAME:EDT
DTSTART:20220313T070000
END:DAYLIGHT
BEGIN:STANDARD
TZOFFSETFROM:-0400
TZOFFSETTO:-0500
TZNAME:EST
DTSTART:20221106T060000
END:STANDARD
BEGIN:DAYLIGHT
TZOFFSETFROM:-0500
TZOFFSETTO:-0400
TZNAME:EDT
DTSTART:20230312T070000
END:DAYLIGHT
BEGIN:STANDARD
TZOFFSETFROM:-0400
TZOFFSETTO:-0500
TZNAME:EST
DTSTART:20231105T060000
END:STANDARD
END:VTIMEZONE
BEGIN:VEVENT
DTSTART;TZID=America/New_York:20221219T130000
DTEND;TZID=America/New_York:20221219T150000
DTSTAMP:20260425T220505
CREATED:20220222T210535Z
LAST-MODIFIED:20220222T210535Z
UID:2855-1671454800-1671462000@islandsofbeaufort.com
SUMMARY:HOUSE CLEANING
DESCRIPTION:
URL:https://islandsofbeaufort.com/event/house-cleaning-42/
LOCATION:IOB Clubhouse\, 316 Islands Avenue \, Beaufort\, SC\, 29902\, United States
CATEGORIES:Maintenance
END:VEVENT
BEGIN:VEVENT
DTSTART;TZID=America/New_York:20221213T133000
DTEND;TZID=America/New_York:20221213T163000
DTSTAMP:20260425T220505
CREATED:20220113T175805Z
LAST-MODIFIED:20220113T175805Z
UID:2654-1670938200-1670949000@islandsofbeaufort.com
SUMMARY:BOD MTG
DESCRIPTION:
URL:https://islandsofbeaufort.com/event/bod-mtg-11/
LOCATION:IOB Clubhouse\, 316 Islands Avenue \, Beaufort\, SC\, 29902\, United States
CATEGORIES:HOA Meeting
END:VEVENT
BEGIN:VEVENT
DTSTART;TZID=America/New_York:20221212T190000
DTEND;TZID=America/New_York:20221212T220000
DTSTAMP:20260425T220505
CREATED:20220222T210459Z
LAST-MODIFIED:20220222T210459Z
UID:2853-1670871600-1670882400@islandsofbeaufort.com
SUMMARY:BOOK CLUB
DESCRIPTION:
URL:https://islandsofbeaufort.com/event/book-club-49/
LOCATION:IOB Clubhouse\, 316 Islands Avenue \, Beaufort\, SC\, 29902\, United States
CATEGORIES:Social Event
END:VEVENT
BEGIN:VEVENT
DTSTART;TZID=America/New_York:20221212T130000
DTEND;TZID=America/New_York:20221212T150000
DTSTAMP:20260425T220505
CREATED:20220222T210400Z
LAST-MODIFIED:20220222T210400Z
UID:2851-1670850000-1670857200@islandsofbeaufort.com
SUMMARY:HOUSE CLEANING
DESCRIPTION:
URL:https://islandsofbeaufort.com/event/house-cleaning-41/
LOCATION:IOB Clubhouse\, 316 Islands Avenue \, Beaufort\, SC\, 29902\, United States
CATEGORIES:Maintenance
END:VEVENT
BEGIN:VEVENT
DTSTART;VALUE=DATE:20221210
DTEND;VALUE=DATE:20221211
DTSTAMP:20260425T220505
CREATED:20220218T200810Z
LAST-MODIFIED:20220218T200810Z
UID:2753-1670630400-1670716799@islandsofbeaufort.com
SUMMARY:MERRY MINGLE
DESCRIPTION:
URL:https://islandsofbeaufort.com/event/merry-mingle/
LOCATION:IOB Clubhouse\, 316 Islands Avenue \, Beaufort\, SC\, 29902\, United States
CATEGORIES:Community Club Event
END:VEVENT
BEGIN:VEVENT
DTSTART;TZID=America/New_York:20221207T090000
DTEND;TZID=America/New_York:20221207T090000
DTSTAMP:20260425T220505
CREATED:20221121T211434Z
LAST-MODIFIED:20221121T211434Z
UID:3007-1670403600-1670403600@islandsofbeaufort.com
SUMMARY:GROUNDS & LANDSCAPING
DESCRIPTION:
URL:https://islandsofbeaufort.com/event/grounds-landscaping/
LOCATION:SC
END:VEVENT
BEGIN:VEVENT
DTSTART;TZID=America/New_York:20221206T140000
DTEND;TZID=America/New_York:20221206T153000
DTSTAMP:20260425T220505
CREATED:20221205T204146Z
LAST-MODIFIED:20221205T204146Z
UID:3014-1670335200-1670340600@islandsofbeaufort.com
SUMMARY:BAND PRACTICE
DESCRIPTION:
URL:https://islandsofbeaufort.com/event/band-practice/
LOCATION:SC
END:VEVENT
BEGIN:VEVENT
DTSTART;TZID=America/New_York:20221205T170000
DTEND;TZID=America/New_York:20221205T190000
DTSTAMP:20260425T220505
CREATED:20220222T210321Z
LAST-MODIFIED:20220222T210321Z
UID:2849-1670259600-1670266800@islandsofbeaufort.com
SUMMARY:SOCIAL COMMITTEE
DESCRIPTION:
URL:https://islandsofbeaufort.com/event/social-committee-8/
LOCATION:IOB Clubhouse\, 316 Islands Avenue \, Beaufort\, SC\, 29902\, United States
CATEGORIES:Committee Meeting
END:VEVENT
BEGIN:VEVENT
DTSTART;TZID=America/New_York:20221205T130000
DTEND;TZID=America/New_York:20221205T150000
DTSTAMP:20260425T220505
CREATED:20220222T210237Z
LAST-MODIFIED:20220222T210237Z
UID:2847-1670245200-1670252400@islandsofbeaufort.com
SUMMARY:HOUSE CLEANING
DESCRIPTION:
URL:https://islandsofbeaufort.com/event/house-cleaning-40/
LOCATION:IOB Clubhouse\, 316 Islands Avenue \, Beaufort\, SC\, 29902\, United States
CATEGORIES:Maintenance
END:VEVENT
BEGIN:VEVENT
DTSTART;VALUE=DATE:20221204
DTEND;VALUE=DATE:20221205
DTSTAMP:20260425T220505
CREATED:20220615T115201Z
LAST-MODIFIED:20220615T115201Z
UID:2930-1670112000-1670198399@islandsofbeaufort.com
SUMMARY:IOB-Retirement Reception
DESCRIPTION:Retirement Reception
URL:https://islandsofbeaufort.com/event/iob-retirement-reception/
LOCATION:SC
END:VEVENT
BEGIN:VEVENT
DTSTART;TZID=America/New_York:20221202T090000
DTEND;TZID=America/New_York:20221202T120000
DTSTAMP:20260425T220505
CREATED:20221019T142947Z
LAST-MODIFIED:20221019T142947Z
UID:3002-1669971600-1669982400@islandsofbeaufort.com
SUMMARY:CHRISTMAS TREE DECORATING
DESCRIPTION:
URL:https://islandsofbeaufort.com/event/christmas-tree-decorating/
LOCATION:SC
END:VEVENT
BEGIN:VEVENT
DTSTART;TZID=America/New_York:20221201T080000
DTEND;TZID=America/New_York:20221201T170000
DTSTAMP:20260425T220505
CREATED:20220128T182720Z
LAST-MODIFIED:20220128T182720Z
UID:2686-1669881600-1669914000@islandsofbeaufort.com
SUMMARY:GROUNDS + LANDSCAPING COMMITTEE MTG
DESCRIPTION:
URL:https://islandsofbeaufort.com/event/grounds-landscaping-committee-mtg-7/
LOCATION:IOB Clubhouse\, 316 Islands Avenue \, Beaufort\, SC\, 29902\, United States
CATEGORIES:Committee Meeting
END:VEVENT
BEGIN:VEVENT
DTSTART;TZID=America/New_York:20221128T130000
DTEND;TZID=America/New_York:20221128T150000
DTSTAMP:20260425T220505
CREATED:20220222T210008Z
LAST-MODIFIED:20220222T210008Z
UID:2845-1669640400-1669647600@islandsofbeaufort.com
SUMMARY:HOUSE CLEANING
DESCRIPTION:
URL:https://islandsofbeaufort.com/event/house-cleaning-39/
LOCATION:IOB Clubhouse\, 316 Islands Avenue \, Beaufort\, SC\, 29902\, United States
CATEGORIES:Maintenance
END:VEVENT
BEGIN:VEVENT
DTSTART;TZID=America/New_York:20221121T130000
DTEND;TZID=America/New_York:20221121T150000
DTSTAMP:20260425T220505
CREATED:20220222T205923Z
LAST-MODIFIED:20220222T205923Z
UID:2843-1669035600-1669042800@islandsofbeaufort.com
SUMMARY:HOUSE CLEANING
DESCRIPTION:
URL:https://islandsofbeaufort.com/event/house-cleaning-38/
LOCATION:IOB Clubhouse\, 316 Islands Avenue \, Beaufort\, SC\, 29902\, United States
CATEGORIES:Maintenance
END:VEVENT
BEGIN:VEVENT
DTSTART;TZID=America/New_York:20221115T130000
DTEND;TZID=America/New_York:20221115T170000
DTSTAMP:20260425T220505
CREATED:20220113T175715Z
LAST-MODIFIED:20220113T175715Z
UID:2652-1668517200-1668531600@islandsofbeaufort.com
SUMMARY:STITCH CLUB
DESCRIPTION:
URL:https://islandsofbeaufort.com/event/stitch-club-55/
LOCATION:IOB Clubhouse\, 316 Islands Avenue \, Beaufort\, SC\, 29902\, United States
CATEGORIES:Community Club Event
END:VEVENT
BEGIN:VEVENT
DTSTART;TZID=America/New_York:20221114T190000
DTEND;TZID=America/New_York:20221114T230000
DTSTAMP:20260425T220505
CREATED:20220222T205835Z
LAST-MODIFIED:20220222T205835Z
UID:2841-1668452400-1668466800@islandsofbeaufort.com
SUMMARY:BOOK CLUB
DESCRIPTION:
URL:https://islandsofbeaufort.com/event/book-club-48/
LOCATION:IOB Clubhouse\, 316 Islands Avenue \, Beaufort\, SC\, 29902\, United States
CATEGORIES:Social Event
END:VEVENT
BEGIN:VEVENT
DTSTART;TZID=America/New_York:20221114T130000
DTEND;TZID=America/New_York:20221114T150000
DTSTAMP:20260425T220505
CREATED:20220222T205736Z
LAST-MODIFIED:20220222T205736Z
UID:2839-1668430800-1668438000@islandsofbeaufort.com
SUMMARY:HOUSE CLEANING
DESCRIPTION:
URL:https://islandsofbeaufort.com/event/house-cleaning-37/
LOCATION:IOB Clubhouse\, 316 Islands Avenue \, Beaufort\, SC\, 29902\, United States
CATEGORIES:Maintenance
END:VEVENT
BEGIN:VEVENT
DTSTART;TZID=America/New_York:20221108T170000
DTEND;TZID=America/New_York:20221108T210000
DTSTAMP:20260425T220505
CREATED:20220921T163643Z
LAST-MODIFIED:20220921T163643Z
UID:2981-1667926800-1667941200@islandsofbeaufort.com
SUMMARY:SORORITY ALUMNI MEETING/DINNER
DESCRIPTION:
URL:https://islandsofbeaufort.com/event/sorority-alumni-meeting-dinner/
LOCATION:SC
END:VEVENT
BEGIN:VEVENT
DTSTART;TZID=America/New_York:20221108T133000
DTEND;TZID=America/New_York:20221108T163000
DTSTAMP:20260425T220505
CREATED:20220113T175611Z
LAST-MODIFIED:20220113T175611Z
UID:2650-1667914200-1667925000@islandsofbeaufort.com
SUMMARY:BOD MTG
DESCRIPTION:
URL:https://islandsofbeaufort.com/event/bod-mtg-10/
LOCATION:IOB Clubhouse\, 316 Islands Avenue \, Beaufort\, SC\, 29902\, United States
CATEGORIES:HOA Meeting
END:VEVENT
BEGIN:VEVENT
DTSTART;TZID=America/New_York:20221107T170000
DTEND;TZID=America/New_York:20221107T190000
DTSTAMP:20260425T220505
CREATED:20220222T205651Z
LAST-MODIFIED:20220222T205651Z
UID:2837-1667840400-1667847600@islandsofbeaufort.com
SUMMARY:SOCIAL COMMITTEE
DESCRIPTION:
URL:https://islandsofbeaufort.com/event/social-committee-7/
LOCATION:IOB Clubhouse\, 316 Islands Avenue \, Beaufort\, SC\, 29902\, United States
CATEGORIES:Committee Meeting
END:VEVENT
BEGIN:VEVENT
DTSTART;TZID=America/New_York:20221107T130000
DTEND;TZID=America/New_York:20221107T150000
DTSTAMP:20260425T220505
CREATED:20220222T205554Z
LAST-MODIFIED:20220222T205554Z
UID:2835-1667826000-1667833200@islandsofbeaufort.com
SUMMARY:HOUSE CLEANING
DESCRIPTION:
URL:https://islandsofbeaufort.com/event/house-cleaning-36/
LOCATION:IOB Clubhouse\, 316 Islands Avenue \, Beaufort\, SC\, 29902\, United States
CATEGORIES:Maintenance
END:VEVENT
BEGIN:VEVENT
DTSTART;TZID=America/New_York:20221105T090000
DTEND;TZID=America/New_York:20221105T180000
DTSTAMP:20260425T220505
CREATED:20220222T205424Z
LAST-MODIFIED:20220222T205424Z
UID:2833-1667638800-1667671200@islandsofbeaufort.com
SUMMARY:CORSARO/ AMER. BOATING CLUB OF BFT
DESCRIPTION:
URL:https://islandsofbeaufort.com/event/corsaro-amer-boating-club-of-bft/
LOCATION:IOB Clubhouse\, 316 Islands Avenue \, Beaufort\, SC\, 29902\, United States
CATEGORIES:Private Event
END:VEVENT
BEGIN:VEVENT
DTSTART;TZID=America/New_York:20221103T150000
DTEND;TZID=America/New_York:20221103T163000
DTSTAMP:20260425T220505
CREATED:20220128T182647Z
LAST-MODIFIED:20220128T182647Z
UID:2684-1667487600-1667493000@islandsofbeaufort.com
SUMMARY:GROUNDS + LANDSCAPING COMMITTEE MTG
DESCRIPTION:
URL:https://islandsofbeaufort.com/event/grounds-landscaping-committee-mtg-6/
LOCATION:IOB Clubhouse\, 316 Islands Avenue \, Beaufort\, SC\, 29902\, United States
CATEGORIES:Committee Meeting
END:VEVENT
BEGIN:VEVENT
DTSTART;TZID=America/New_York:20221031T130000
DTEND;TZID=America/New_York:20221031T150000
DTSTAMP:20260425T220505
CREATED:20220222T205046Z
LAST-MODIFIED:20220222T205046Z
UID:2831-1667221200-1667228400@islandsofbeaufort.com
SUMMARY:HOUSE CLEANING
DESCRIPTION:
URL:https://islandsofbeaufort.com/event/house-cleaning-35/
LOCATION:IOB Clubhouse\, 316 Islands Avenue \, Beaufort\, SC\, 29902\, United States
CATEGORIES:Maintenance
END:VEVENT
BEGIN:VEVENT
DTSTART;TZID=America/New_York:20221025T180000
DTEND;TZID=America/New_York:20221025T230000
DTSTAMP:20260425T220505
CREATED:20220113T175529Z
LAST-MODIFIED:20220113T175529Z
UID:2648-1666720800-1666738800@islandsofbeaufort.com
SUMMARY:GAME NIGHT
DESCRIPTION:
URL:https://islandsofbeaufort.com/event/game-night-12/
LOCATION:IOB Clubhouse\, 316 Islands Avenue \, Beaufort\, SC\, 29902\, United States
CATEGORIES:Social Event
END:VEVENT
BEGIN:VEVENT
DTSTART;TZID=America/New_York:20221024T080000
DTEND;TZID=America/New_York:20221024T170000
DTSTAMP:20260425T220505
CREATED:20220223T151902Z
LAST-MODIFIED:20220223T151902Z
UID:2861-1666598400-1666630800@islandsofbeaufort.com
SUMMARY:HOUSE CLEANING
DESCRIPTION:
URL:https://islandsofbeaufort.com/event/house-cleaning-44/
LOCATION:IOB Clubhouse\, 316 Islands Avenue \, Beaufort\, SC\, 29902\, United States
CATEGORIES:Maintenance
END:VEVENT
BEGIN:VEVENT
DTSTART;VALUE=DATE:20221023
DTEND;VALUE=DATE:20221024
DTSTAMP:20260425T220505
CREATED:20220223T151730Z
LAST-MODIFIED:20220223T151730Z
UID:2859-1666483200-1666569599@islandsofbeaufort.com
SUMMARY:IOB
DESCRIPTION:
URL:https://islandsofbeaufort.com/event/iob/
LOCATION:IOB Clubhouse\, 316 Islands Avenue \, Beaufort\, SC\, 29902\, United States
CATEGORIES:Community Club Event
END:VEVENT
BEGIN:VEVENT
DTSTART;TZID=America/New_York:20221022T183000
DTEND;TZID=America/New_York:20221022T233000
DTSTAMP:20260425T220505
CREATED:20220222T204954Z
LAST-MODIFIED:20221020T172408Z
UID:2829-1666463400-1666481400@islandsofbeaufort.com
SUMMARY:IOB ANNUAL PARTY
DESCRIPTION:
URL:https://islandsofbeaufort.com/event/iob-annual-party/
LOCATION:IOB Clubhouse\, 316 Islands Avenue \, Beaufort\, SC\, 29902\, United States
CATEGORIES:Community Club Event
END:VEVENT
BEGIN:VEVENT
DTSTART;VALUE=DATE:20221022
DTEND;VALUE=DATE:20221023
DTSTAMP:20260425T220505
CREATED:20220222T204908Z
LAST-MODIFIED:20220222T204908Z
UID:2827-1666396800-1666483199@islandsofbeaufort.com
SUMMARY:IOB BOD
DESCRIPTION:
URL:https://islandsofbeaufort.com/event/iob-bod-2/
LOCATION:IOB Clubhouse\, 316 Islands Avenue \, Beaufort\, SC\, 29902\, United States
CATEGORIES:Community Club Event
END:VEVENT
BEGIN:VEVENT
DTSTART;VALUE=DATE:20221021
DTEND;VALUE=DATE:20221022
DTSTAMP:20260425T220505
CREATED:20220222T204828Z
LAST-MODIFIED:20220222T204828Z
UID:2825-1666310400-1666396799@islandsofbeaufort.com
SUMMARY:IOB BOD
DESCRIPTION:
URL:https://islandsofbeaufort.com/event/iob-bod/
LOCATION:IOB Clubhouse\, 316 Islands Avenue \, Beaufort\, SC\, 29902\, United States
CATEGORIES:Community Club Event
END:VEVENT
END:VCALENDAR