BEGIN:VCALENDAR
VERSION:2.0
PRODID:-//Islands of Beaufort - ECPv6.15.18//NONSGML v1.0//EN
CALSCALE:GREGORIAN
METHOD:PUBLISH
X-WR-CALNAME:Islands of Beaufort
X-ORIGINAL-URL:https://islandsofbeaufort.com
X-WR-CALDESC:Events for Islands of Beaufort
REFRESH-INTERVAL;VALUE=DURATION:PT1H
X-Robots-Tag:noindex
X-PUBLISHED-TTL:PT1H
BEGIN:VTIMEZONE
TZID:America/New_York
BEGIN:DAYLIGHT
TZOFFSETFROM:-0500
TZOFFSETTO:-0400
TZNAME:EDT
DTSTART:20210314T070000
END:DAYLIGHT
BEGIN:STANDARD
TZOFFSETFROM:-0400
TZOFFSETTO:-0500
TZNAME:EST
DTSTART:20211107T060000
END:STANDARD
BEGIN:DAYLIGHT
TZOFFSETFROM:-0500
TZOFFSETTO:-0400
TZNAME:EDT
DTSTART:20220313T070000
END:DAYLIGHT
BEGIN:STANDARD
TZOFFSETFROM:-0400
TZOFFSETTO:-0500
TZNAME:EST
DTSTART:20221106T060000
END:STANDARD
BEGIN:DAYLIGHT
TZOFFSETFROM:-0500
TZOFFSETTO:-0400
TZNAME:EDT
DTSTART:20230312T070000
END:DAYLIGHT
BEGIN:STANDARD
TZOFFSETFROM:-0400
TZOFFSETTO:-0500
TZNAME:EST
DTSTART:20231105T060000
END:STANDARD
BEGIN:DAYLIGHT
TZOFFSETFROM:-0500
TZOFFSETTO:-0400
TZNAME:EDT
DTSTART:20240310T070000
END:DAYLIGHT
BEGIN:STANDARD
TZOFFSETFROM:-0400
TZOFFSETTO:-0500
TZNAME:EST
DTSTART:20241103T060000
END:STANDARD
END:VTIMEZONE
BEGIN:VEVENT
DTSTART;TZID=America/New_York:20230227T130000
DTEND;TZID=America/New_York:20230227T150000
DTSTAMP:20260425T121620
CREATED:20230131T145023Z
LAST-MODIFIED:20230131T145023Z
UID:3241-1677502800-1677510000@islandsofbeaufort.com
SUMMARY:CLUBHOUSE CLEANING
DESCRIPTION:
URL:https://islandsofbeaufort.com/event/clubhouse-cleaning-9/
END:VEVENT
BEGIN:VEVENT
DTSTART;TZID=America/New_York:20230221T130000
DTEND;TZID=America/New_York:20230221T170000
DTSTAMP:20260425T121620
CREATED:20230116T165739Z
LAST-MODIFIED:20230116T165739Z
UID:3163-1676984400-1676998800@islandsofbeaufort.com
SUMMARY:Stitch Club
DESCRIPTION:
URL:https://islandsofbeaufort.com/event/stitch-club-58/
LOCATION:IOB Clubhouse\, 316 Islands Avenue \, Beaufort\, SC\, 29902\, United States
END:VEVENT
BEGIN:VEVENT
DTSTART;TZID=America/New_York:20230220T160000
DTEND;TZID=America/New_York:20230220T160000
DTSTAMP:20260425T121620
CREATED:20230111T210235Z
LAST-MODIFIED:20230111T210235Z
UID:3107-1676908800-1676908800@islandsofbeaufort.com
SUMMARY:ARB MEETING
DESCRIPTION:
URL:https://islandsofbeaufort.com/event/arb-meeting-4/
END:VEVENT
BEGIN:VEVENT
DTSTART;TZID=America/New_York:20230220T130000
DTEND;TZID=America/New_York:20230220T150000
DTSTAMP:20260425T121620
CREATED:20230131T145023Z
LAST-MODIFIED:20230131T145023Z
UID:3240-1676898000-1676905200@islandsofbeaufort.com
SUMMARY:CLUBHOUSE CLEANING
DESCRIPTION:
URL:https://islandsofbeaufort.com/event/clubhouse-cleaning-8/
END:VEVENT
BEGIN:VEVENT
DTSTART;TZID=America/New_York:20230214T133000
DTEND;TZID=America/New_York:20230214T133000
DTSTAMP:20260425T121620
CREATED:20230110T135821Z
LAST-MODIFIED:20230110T135821Z
UID:3041-1676381400-1676381400@islandsofbeaufort.com
SUMMARY:IOB BOARD MEETING
DESCRIPTION:
URL:https://islandsofbeaufort.com/event/iob-board-meeting-2/
END:VEVENT
BEGIN:VEVENT
DTSTART;TZID=America/New_York:20230213T190000
DTEND;TZID=America/New_York:20230213T210000
DTSTAMP:20260425T121620
CREATED:20230110T212250Z
LAST-MODIFIED:20230110T212250Z
UID:3064-1676314800-1676322000@islandsofbeaufort.com
SUMMARY:IOB BOOK CLUB
DESCRIPTION:
URL:https://islandsofbeaufort.com/event/iob-book-club/
END:VEVENT
BEGIN:VEVENT
DTSTART;TZID=America/New_York:20230213T130000
DTEND;TZID=America/New_York:20230213T150000
DTSTAMP:20260425T121620
CREATED:20230131T145023Z
LAST-MODIFIED:20230131T145023Z
UID:3239-1676293200-1676300400@islandsofbeaufort.com
SUMMARY:CLUBHOUSE CLEANING
DESCRIPTION:
URL:https://islandsofbeaufort.com/event/clubhouse-cleaning-7/
END:VEVENT
BEGIN:VEVENT
DTSTART;TZID=America/New_York:20230207T163000
DTEND;TZID=America/New_York:20230207T180000
DTSTAMP:20260425T121620
CREATED:20230207T123410Z
LAST-MODIFIED:20230207T123410Z
UID:3295-1675787400-1675792800@islandsofbeaufort.com
SUMMARY:David Skinner
DESCRIPTION:
URL:https://islandsofbeaufort.com/event/david-skinner/
LOCATION:IOB Clubhouse\, 316 Islands Avenue \, Beaufort\, SC\, 29902\, United States
END:VEVENT
BEGIN:VEVENT
DTSTART;TZID=America/New_York:20230206T180000
DTEND;TZID=America/New_York:20230206T200000
DTSTAMP:20260425T121620
CREATED:20230113T195140Z
LAST-MODIFIED:20230113T195140Z
UID:3129-1675706400-1675713600@islandsofbeaufort.com
SUMMARY:Social Committee
DESCRIPTION:
URL:https://islandsofbeaufort.com/event/social-committee-9/
END:VEVENT
BEGIN:VEVENT
DTSTART;TZID=America/New_York:20230206T130000
DTEND;TZID=America/New_York:20230206T150000
DTSTAMP:20260425T121620
CREATED:20230131T145023Z
LAST-MODIFIED:20230131T145023Z
UID:3238-1675688400-1675695600@islandsofbeaufort.com
SUMMARY:CLUBHOUSE CLEANING
DESCRIPTION:
URL:https://islandsofbeaufort.com/event/clubhouse-cleaning-6/
END:VEVENT
BEGIN:VEVENT
DTSTART;TZID=America/New_York:20230202T150000
DTEND;TZID=America/New_York:20230202T150000
DTSTAMP:20260425T121620
CREATED:20230111T205503Z
LAST-MODIFIED:20230111T205503Z
UID:3083-1675350000-1675350000@islandsofbeaufort.com
SUMMARY:Grounds & Landscaping Committee
DESCRIPTION:
URL:https://islandsofbeaufort.com/event/grounds-landscaping-committee-2/
END:VEVENT
BEGIN:VEVENT
DTSTART;TZID=America/New_York:20230130T130000
DTEND;TZID=America/New_York:20230130T150000
DTSTAMP:20260425T121620
CREATED:20230131T145022Z
LAST-MODIFIED:20230131T145022Z
UID:3237-1675083600-1675090800@islandsofbeaufort.com
SUMMARY:CLUBHOUSE CLEANING
DESCRIPTION:
URL:https://islandsofbeaufort.com/event/clubhouse-cleaning-5/
END:VEVENT
BEGIN:VEVENT
DTSTART;TZID=America/New_York:20230128T100000
DTEND;TZID=America/New_York:20230128T190000
DTSTAMP:20260425T121620
CREATED:20221228T210543Z
LAST-MODIFIED:20221228T210543Z
UID:3030-1674900000-1674932400@islandsofbeaufort.com
SUMMARY:DORE BABY SHOWER
DESCRIPTION:
URL:https://islandsofbeaufort.com/event/dore-baby-shower-2/
END:VEVENT
BEGIN:VEVENT
DTSTART;TZID=America/New_York:20230124T180000
DTEND;TZID=America/New_York:20230124T210000
DTSTAMP:20260425T121620
CREATED:20230116T170842Z
LAST-MODIFIED:20230116T170914Z
UID:3185-1674583200-1674594000@islandsofbeaufort.com
SUMMARY:Game Night
DESCRIPTION:
URL:https://islandsofbeaufort.com/event/game-night-13/
LOCATION:IOB Clubhouse\, 316 Islands Avenue \, Beaufort\, SC\, 29902\, United States
END:VEVENT
BEGIN:VEVENT
DTSTART;TZID=America/New_York:20230123T130000
DTEND;TZID=America/New_York:20230123T150000
DTSTAMP:20260425T121620
CREATED:20230131T145022Z
LAST-MODIFIED:20230131T145022Z
UID:3236-1674478800-1674486000@islandsofbeaufort.com
SUMMARY:CLUBHOUSE CLEANING
DESCRIPTION:
URL:https://islandsofbeaufort.com/event/clubhouse-cleaning-4/
END:VEVENT
BEGIN:VEVENT
DTSTART;TZID=America/New_York:20230117T130000
DTEND;TZID=America/New_York:20230117T170000
DTSTAMP:20260425T121620
CREATED:20230116T165659Z
LAST-MODIFIED:20230116T165659Z
UID:3161-1673960400-1673974800@islandsofbeaufort.com
SUMMARY:Stitch Club
DESCRIPTION:
URL:https://islandsofbeaufort.com/event/stitch-club-51/
LOCATION:IOB Clubhouse\, 316 Islands Avenue \, Beaufort\, SC\, 29902\, United States
END:VEVENT
BEGIN:VEVENT
DTSTART;TZID=America/New_York:20230116T160000
DTEND;TZID=America/New_York:20230116T160000
DTSTAMP:20260425T121620
CREATED:20230111T210201Z
LAST-MODIFIED:20230111T210201Z
UID:3105-1673884800-1673884800@islandsofbeaufort.com
SUMMARY:ARB MEETING
DESCRIPTION:
URL:https://islandsofbeaufort.com/event/arb-meeting-3/
END:VEVENT
BEGIN:VEVENT
DTSTART;TZID=America/New_York:20230116T130000
DTEND;TZID=America/New_York:20230116T150000
DTSTAMP:20260425T121620
CREATED:20230131T145021Z
LAST-MODIFIED:20230131T145021Z
UID:3235-1673874000-1673881200@islandsofbeaufort.com
SUMMARY:CLUBHOUSE CLEANING
DESCRIPTION:
URL:https://islandsofbeaufort.com/event/clubhouse-cleaning-3/
END:VEVENT
BEGIN:VEVENT
DTSTART;TZID=America/New_York:20230114T180000
DTEND;TZID=America/New_York:20230114T220000
DTSTAMP:20260425T121620
CREATED:20221229T193428Z
LAST-MODIFIED:20221229T193428Z
UID:3036-1673719200-1673733600@islandsofbeaufort.com
SUMMARY:ANNIE POWELL
DESCRIPTION:
URL:https://islandsofbeaufort.com/event/annie-powell-2/
END:VEVENT
BEGIN:VEVENT
DTSTART;TZID=America/New_York:20230113T180000
DTEND;TZID=America/New_York:20230113T210000
DTSTAMP:20260425T121620
CREATED:20221229T193351Z
LAST-MODIFIED:20221229T193351Z
UID:3034-1673632800-1673643600@islandsofbeaufort.com
SUMMARY:ANNIE POWELL
DESCRIPTION:
URL:https://islandsofbeaufort.com/event/annie-powell/
END:VEVENT
BEGIN:VEVENT
DTSTART;TZID=America/New_York:20230110T133000
DTEND;TZID=America/New_York:20230110T133000
DTSTAMP:20260425T121620
CREATED:20230110T135459Z
LAST-MODIFIED:20230110T135459Z
UID:3039-1673357400-1673357400@islandsofbeaufort.com
SUMMARY:IOB BOARD MEETING
DESCRIPTION:
URL:https://islandsofbeaufort.com/event/iob-board-meeting/
END:VEVENT
BEGIN:VEVENT
DTSTART;TZID=America/New_York:20230109T130000
DTEND;TZID=America/New_York:20230109T150000
DTSTAMP:20260425T121620
CREATED:20230131T145021Z
LAST-MODIFIED:20230131T145021Z
UID:3234-1673269200-1673276400@islandsofbeaufort.com
SUMMARY:CLUBHOUSE CLEANING
DESCRIPTION:
URL:https://islandsofbeaufort.com/event/clubhouse-cleaning-2/
END:VEVENT
BEGIN:VEVENT
DTSTART;TZID=America/New_York:20230105T150000
DTEND;TZID=America/New_York:20230105T150000
DTSTAMP:20260425T121620
CREATED:20230111T205430Z
LAST-MODIFIED:20230111T205430Z
UID:3081-1672930800-1672930800@islandsofbeaufort.com
SUMMARY:Grounds & Landscaping Committee
DESCRIPTION:
URL:https://islandsofbeaufort.com/event/grounds-landscaping-committee/
END:VEVENT
BEGIN:VEVENT
DTSTART;TZID=America/New_York:20230102T130000
DTEND;TZID=America/New_York:20230102T150000
DTSTAMP:20260425T121620
CREATED:20230131T145021Z
LAST-MODIFIED:20230131T145021Z
UID:3233-1672664400-1672671600@islandsofbeaufort.com
SUMMARY:CLUBHOUSE CLEANING
DESCRIPTION:
URL:https://islandsofbeaufort.com/event/clubhouse-cleaning/
END:VEVENT
BEGIN:VEVENT
DTSTART;TZID=America/New_York:20221231T200000
DTEND;TZID=America/New_York:20230101T000000
DTSTAMP:20260425T121620
CREATED:20221220T193626Z
LAST-MODIFIED:20221220T193626Z
UID:3022-1672516800-1672531200@islandsofbeaufort.com
SUMMARY:NEIGHBORHOOD NYE PARTY
DESCRIPTION:
URL:https://islandsofbeaufort.com/event/neighborhood-nye-party/
END:VEVENT
BEGIN:VEVENT
DTSTART;TZID=America/New_York:20221226T130000
DTEND;TZID=America/New_York:20221226T150000
DTSTAMP:20260425T121620
CREATED:20220222T210618Z
LAST-MODIFIED:20220222T210618Z
UID:2857-1672059600-1672066800@islandsofbeaufort.com
SUMMARY:HOUSE CLEANING
DESCRIPTION:
URL:https://islandsofbeaufort.com/event/house-cleaning-43/
LOCATION:IOB Clubhouse\, 316 Islands Avenue \, Beaufort\, SC\, 29902\, United States
CATEGORIES:Maintenance
END:VEVENT
BEGIN:VEVENT
DTSTART;TZID=America/New_York:20221221T130000
DTEND;TZID=America/New_York:20221221T160000
DTSTAMP:20260425T121620
CREATED:20221221T174151Z
LAST-MODIFIED:20221221T174151Z
UID:3024-1671627600-1671638400@islandsofbeaufort.com
SUMMARY:MEETING - VERNITA DORE
DESCRIPTION:
URL:https://islandsofbeaufort.com/event/meeting-vernita-dore/
END:VEVENT
BEGIN:VEVENT
DTSTART;TZID=America/New_York:20221220T130000
DTEND;TZID=America/New_York:20221220T170000
DTSTAMP:20260425T121620
CREATED:20220113T175900Z
LAST-MODIFIED:20220113T175937Z
UID:2656-1671541200-1671555600@islandsofbeaufort.com
SUMMARY:STITCH CLUB
DESCRIPTION:
URL:https://islandsofbeaufort.com/event/stitch-club-56/
LOCATION:IOB Clubhouse\, 316 Islands Avenue \, Beaufort\, SC\, 29902\, United States
CATEGORIES:Community Club Event
END:VEVENT
BEGIN:VEVENT
DTSTART;TZID=America/New_York:20221219T130000
DTEND;TZID=America/New_York:20221219T150000
DTSTAMP:20260425T121620
CREATED:20220222T210535Z
LAST-MODIFIED:20220222T210535Z
UID:2855-1671454800-1671462000@islandsofbeaufort.com
SUMMARY:HOUSE CLEANING
DESCRIPTION:
URL:https://islandsofbeaufort.com/event/house-cleaning-42/
LOCATION:IOB Clubhouse\, 316 Islands Avenue \, Beaufort\, SC\, 29902\, United States
CATEGORIES:Maintenance
END:VEVENT
BEGIN:VEVENT
DTSTART;TZID=America/New_York:20221213T133000
DTEND;TZID=America/New_York:20221213T163000
DTSTAMP:20260425T121620
CREATED:20220113T175805Z
LAST-MODIFIED:20220113T175805Z
UID:2654-1670938200-1670949000@islandsofbeaufort.com
SUMMARY:BOD MTG
DESCRIPTION:
URL:https://islandsofbeaufort.com/event/bod-mtg-11/
LOCATION:IOB Clubhouse\, 316 Islands Avenue \, Beaufort\, SC\, 29902\, United States
CATEGORIES:HOA Meeting
END:VEVENT
END:VCALENDAR