BEGIN:VCALENDAR
VERSION:2.0
PRODID:-//Islands of Beaufort - ECPv6.15.18//NONSGML v1.0//EN
CALSCALE:GREGORIAN
METHOD:PUBLISH
X-WR-CALNAME:Islands of Beaufort
X-ORIGINAL-URL:https://islandsofbeaufort.com
X-WR-CALDESC:Events for Islands of Beaufort
REFRESH-INTERVAL;VALUE=DURATION:PT1H
X-Robots-Tag:noindex
X-PUBLISHED-TTL:PT1H
BEGIN:VTIMEZONE
TZID:America/New_York
BEGIN:DAYLIGHT
TZOFFSETFROM:-0500
TZOFFSETTO:-0400
TZNAME:EDT
DTSTART:20220313T070000
END:DAYLIGHT
BEGIN:STANDARD
TZOFFSETFROM:-0400
TZOFFSETTO:-0500
TZNAME:EST
DTSTART:20221106T060000
END:STANDARD
BEGIN:DAYLIGHT
TZOFFSETFROM:-0500
TZOFFSETTO:-0400
TZNAME:EDT
DTSTART:20230312T070000
END:DAYLIGHT
BEGIN:STANDARD
TZOFFSETFROM:-0400
TZOFFSETTO:-0500
TZNAME:EST
DTSTART:20231105T060000
END:STANDARD
BEGIN:DAYLIGHT
TZOFFSETFROM:-0500
TZOFFSETTO:-0400
TZNAME:EDT
DTSTART:20240310T070000
END:DAYLIGHT
BEGIN:STANDARD
TZOFFSETFROM:-0400
TZOFFSETTO:-0500
TZNAME:EST
DTSTART:20241103T060000
END:STANDARD
END:VTIMEZONE
BEGIN:VEVENT
DTSTART;TZID=America/New_York:20230504T150000
DTEND;TZID=America/New_York:20230504T150000
DTSTAMP:20260425T081614
CREATED:20230111T205630Z
LAST-MODIFIED:20230111T205630Z
UID:3089-1683212400-1683212400@islandsofbeaufort.com
SUMMARY:Grounds & Landscaping Committee
DESCRIPTION:
URL:https://islandsofbeaufort.com/event/grounds-landscaping-committee-5/
END:VEVENT
BEGIN:VEVENT
DTSTART;TZID=America/New_York:20230501T180000
DTEND;TZID=America/New_York:20230501T200000
DTSTAMP:20260425T081614
CREATED:20230113T195512Z
LAST-MODIFIED:20230113T195512Z
UID:3135-1682964000-1682971200@islandsofbeaufort.com
SUMMARY:Social Committee Meeting
DESCRIPTION:
URL:https://islandsofbeaufort.com/event/social-committee-meeting-4/
LOCATION:IOB Clubhouse\, 316 Islands Avenue \, Beaufort\, SC\, 29902\, United States
END:VEVENT
BEGIN:VEVENT
DTSTART;TZID=America/New_York:20230501T130000
DTEND;TZID=America/New_York:20230501T160000
DTSTAMP:20260425T081614
CREATED:20230131T151319Z
LAST-MODIFIED:20230131T151319Z
UID:3252-1682946000-1682956800@islandsofbeaufort.com
SUMMARY:CLUBHOUSE CLEANING
DESCRIPTION:
URL:https://islandsofbeaufort.com/event/clubhouse-cleaning-18/
END:VEVENT
BEGIN:VEVENT
DTSTART;TZID=America/New_York:20230425T180000
DTEND;TZID=America/New_York:20230425T210000
DTSTAMP:20260425T081614
CREATED:20230116T171641Z
LAST-MODIFIED:20230116T171641Z
UID:3191-1682445600-1682456400@islandsofbeaufort.com
SUMMARY:Game Night
DESCRIPTION:
URL:https://islandsofbeaufort.com/event/game-night-16/
LOCATION:IOB Clubhouse\, 316 Islands Avenue \, Beaufort\, SC\, 29902\, United States
END:VEVENT
BEGIN:VEVENT
DTSTART;TZID=America/New_York:20230425T120000
DTEND;TZID=America/New_York:20230425T150000
DTSTAMP:20260425T081614
CREATED:20230415T131000Z
LAST-MODIFIED:20230415T131000Z
UID:3346-1682424000-1682434800@islandsofbeaufort.com
SUMMARY:Weichert Realtors-Nancy Hansen
DESCRIPTION:
URL:https://islandsofbeaufort.com/event/weichert-realtors-nancy-hansen/
LOCATION:IOB Clubhouse\, 316 Islands Avenue \, Beaufort\, SC\, 29902\, United States
END:VEVENT
BEGIN:VEVENT
DTSTART;TZID=America/New_York:20230424T130000
DTEND;TZID=America/New_York:20230424T160000
DTSTAMP:20260425T081614
CREATED:20230131T151319Z
LAST-MODIFIED:20230131T151319Z
UID:3251-1682341200-1682352000@islandsofbeaufort.com
SUMMARY:CLUBHOUSE CLEANING
DESCRIPTION:
URL:https://islandsofbeaufort.com/event/clubhouse-cleaning-17/
END:VEVENT
BEGIN:VEVENT
DTSTART;TZID=America/New_York:20230418T130000
DTEND;TZID=America/New_York:20230418T170000
DTSTAMP:20260425T081614
CREATED:20230116T165905Z
LAST-MODIFIED:20230116T165905Z
UID:3167-1681822800-1681837200@islandsofbeaufort.com
SUMMARY:Stitch Club
DESCRIPTION:
URL:https://islandsofbeaufort.com/event/stitch-club-60/
LOCATION:IOB Clubhouse\, 316 Islands Avenue \, Beaufort\, SC\, 29902\, United States
END:VEVENT
BEGIN:VEVENT
DTSTART;TZID=America/New_York:20230417T160000
DTEND;TZID=America/New_York:20230417T160000
DTSTAMP:20260425T081614
CREATED:20230111T210344Z
LAST-MODIFIED:20230111T210344Z
UID:3111-1681747200-1681747200@islandsofbeaufort.com
SUMMARY:ARB MEETING
DESCRIPTION:
URL:https://islandsofbeaufort.com/event/arb-meeting-6/
END:VEVENT
BEGIN:VEVENT
DTSTART;TZID=America/New_York:20230417T130000
DTEND;TZID=America/New_York:20230417T160000
DTSTAMP:20260425T081614
CREATED:20230131T151318Z
LAST-MODIFIED:20230131T151318Z
UID:3250-1681736400-1681747200@islandsofbeaufort.com
SUMMARY:CLUBHOUSE CLEANING
DESCRIPTION:
URL:https://islandsofbeaufort.com/event/clubhouse-cleaning-16/
END:VEVENT
BEGIN:VEVENT
DTSTART;TZID=America/New_York:20230414T183000
DTEND;TZID=America/New_York:20230414T220000
DTSTAMP:20260425T081614
CREATED:20230315T181416Z
LAST-MODIFIED:20230315T181416Z
UID:3334-1681497000-1681509600@islandsofbeaufort.com
SUMMARY:Three Palms Bistro
DESCRIPTION:
URL:https://islandsofbeaufort.com/event/three-palms-bistro/
END:VEVENT
BEGIN:VEVENT
DTSTART;TZID=America/New_York:20230411T133000
DTEND;TZID=America/New_York:20230411T133000
DTSTAMP:20260425T081614
CREATED:20230110T141117Z
LAST-MODIFIED:20230110T141117Z
UID:3045-1681219800-1681219800@islandsofbeaufort.com
SUMMARY:IOB BOARD MEETING
DESCRIPTION:
URL:https://islandsofbeaufort.com/event/iob-board-meeting-4/
END:VEVENT
BEGIN:VEVENT
DTSTART;TZID=America/New_York:20230410T190000
DTEND;TZID=America/New_York:20230410T210000
DTSTAMP:20260425T081614
CREATED:20230111T204725Z
LAST-MODIFIED:20230111T204725Z
UID:3069-1681153200-1681160400@islandsofbeaufort.com
SUMMARY:IOB BOOK CLUB
DESCRIPTION:
URL:https://islandsofbeaufort.com/event/iob-book-club-3/
END:VEVENT
BEGIN:VEVENT
DTSTART;TZID=America/New_York:20230410T130000
DTEND;TZID=America/New_York:20230410T160000
DTSTAMP:20260425T081614
CREATED:20230131T151318Z
LAST-MODIFIED:20230131T151318Z
UID:3249-1681131600-1681142400@islandsofbeaufort.com
SUMMARY:CLUBHOUSE CLEANING
DESCRIPTION:
URL:https://islandsofbeaufort.com/event/clubhouse-cleaning-15/
END:VEVENT
BEGIN:VEVENT
DTSTART;TZID=America/New_York:20230406T150000
DTEND;TZID=America/New_York:20230406T150000
DTSTAMP:20260425T081615
CREATED:20230111T205610Z
LAST-MODIFIED:20230111T205610Z
UID:3087-1680793200-1680793200@islandsofbeaufort.com
SUMMARY:Grounds & Landscaping Committee
DESCRIPTION:
URL:https://islandsofbeaufort.com/event/grounds-landscaping-committee-4/
END:VEVENT
BEGIN:VEVENT
DTSTART;TZID=America/New_York:20230403T180000
DTEND;TZID=America/New_York:20230403T200000
DTSTAMP:20260425T081615
CREATED:20230113T195403Z
LAST-MODIFIED:20230113T195403Z
UID:3133-1680544800-1680552000@islandsofbeaufort.com
SUMMARY:Social Committee Meeting
DESCRIPTION:
URL:https://islandsofbeaufort.com/event/social-committee-meeting-3/
LOCATION:IOB Clubhouse\, 316 Islands Avenue \, Beaufort\, SC\, 29902\, United States
END:VEVENT
BEGIN:VEVENT
DTSTART;TZID=America/New_York:20230403T130000
DTEND;TZID=America/New_York:20230403T160000
DTSTAMP:20260425T081615
CREATED:20230131T151317Z
LAST-MODIFIED:20230131T151317Z
UID:3248-1680526800-1680537600@islandsofbeaufort.com
SUMMARY:CLUBHOUSE CLEANING
DESCRIPTION:
URL:https://islandsofbeaufort.com/event/clubhouse-cleaning-14/
END:VEVENT
BEGIN:VEVENT
DTSTART;TZID=America/New_York:20230331T160000
DTEND;TZID=America/New_York:20230331T173000
DTSTAMP:20260425T081615
CREATED:20230306T124720Z
LAST-MODIFIED:20230306T124720Z
UID:3308-1680278400-1680283800@islandsofbeaufort.com
SUMMARY:Communication Committee
DESCRIPTION:
URL:https://islandsofbeaufort.com/event/communication-committee/
LOCATION:IOB Clubhouse\, 316 Islands Avenue \, Beaufort\, SC\, 29902\, United States
END:VEVENT
BEGIN:VEVENT
DTSTART;TZID=America/New_York:20230328T180000
DTEND;TZID=America/New_York:20230328T210000
DTSTAMP:20260425T081615
CREATED:20230116T171548Z
LAST-MODIFIED:20230116T171548Z
UID:3189-1680026400-1680037200@islandsofbeaufort.com
SUMMARY:Game Night
DESCRIPTION:
URL:https://islandsofbeaufort.com/event/game-night-15/
LOCATION:IOB Clubhouse\, 316 Islands Avenue \, Beaufort\, SC\, 29902\, United States
END:VEVENT
BEGIN:VEVENT
DTSTART;TZID=America/New_York:20230327T130000
DTEND;TZID=America/New_York:20230327T160000
DTSTAMP:20260425T081615
CREATED:20230131T151317Z
LAST-MODIFIED:20230131T151317Z
UID:3247-1679922000-1679932800@islandsofbeaufort.com
SUMMARY:CLUBHOUSE CLEANING
DESCRIPTION:
URL:https://islandsofbeaufort.com/event/clubhouse-cleaning-13/
END:VEVENT
BEGIN:VEVENT
DTSTART;TZID=America/New_York:20230324T180000
DTEND;TZID=America/New_York:20230324T200000
DTSTAMP:20260425T081615
CREATED:20230131T204730Z
LAST-MODIFIED:20230131T204745Z
UID:3287-1679680800-1679688000@islandsofbeaufort.com
SUMMARY:JUNIOR SERVICE LEAGUE MEETING
DESCRIPTION:
URL:https://islandsofbeaufort.com/event/junior-service-league/
END:VEVENT
BEGIN:VEVENT
DTSTART;TZID=America/New_York:20230321T190000
DTEND;TZID=America/New_York:20230321T210000
DTSTAMP:20260425T081615
CREATED:20230306T134705Z
LAST-MODIFIED:20230306T134705Z
UID:3328-1679425200-1679432400@islandsofbeaufort.com
SUMMARY:MUSIC REHEARSAL
DESCRIPTION:
URL:https://islandsofbeaufort.com/event/music-rehearsal-2/
END:VEVENT
BEGIN:VEVENT
DTSTART;TZID=America/New_York:20230321T130000
DTEND;TZID=America/New_York:20230321T170000
DTSTAMP:20260425T081615
CREATED:20230116T165818Z
LAST-MODIFIED:20230116T165818Z
UID:3165-1679403600-1679418000@islandsofbeaufort.com
SUMMARY:Stitch Club
DESCRIPTION:
URL:https://islandsofbeaufort.com/event/stitch-club-59/
LOCATION:IOB Clubhouse\, 316 Islands Avenue \, Beaufort\, SC\, 29902\, United States
END:VEVENT
BEGIN:VEVENT
DTSTART;TZID=America/New_York:20230320T160000
DTEND;TZID=America/New_York:20230320T160000
DTSTAMP:20260425T081615
CREATED:20230111T210307Z
LAST-MODIFIED:20230111T210307Z
UID:3109-1679328000-1679328000@islandsofbeaufort.com
SUMMARY:ARB MEETING
DESCRIPTION:
URL:https://islandsofbeaufort.com/event/arb-meeting-5/
END:VEVENT
BEGIN:VEVENT
DTSTART;TZID=America/New_York:20230320T130000
DTEND;TZID=America/New_York:20230320T160000
DTSTAMP:20260425T081615
CREATED:20230131T151317Z
LAST-MODIFIED:20230131T151317Z
UID:3246-1679317200-1679328000@islandsofbeaufort.com
SUMMARY:CLUBHOUSE CLEANING
DESCRIPTION:
URL:https://islandsofbeaufort.com/event/clubhouse-cleaning-12/
END:VEVENT
BEGIN:VEVENT
DTSTART;TZID=America/New_York:20230314T133000
DTEND;TZID=America/New_York:20230314T133000
DTSTAMP:20260425T081615
CREATED:20230110T140206Z
LAST-MODIFIED:20230110T140206Z
UID:3043-1678800600-1678800600@islandsofbeaufort.com
SUMMARY:IOB BOARD MEETING
DESCRIPTION:
URL:https://islandsofbeaufort.com/event/iob-board-meeting-3/
END:VEVENT
BEGIN:VEVENT
DTSTART;TZID=America/New_York:20230313T190000
DTEND;TZID=America/New_York:20230313T210000
DTSTAMP:20260425T081615
CREATED:20230110T212350Z
LAST-MODIFIED:20230110T212350Z
UID:3067-1678734000-1678741200@islandsofbeaufort.com
SUMMARY:IOB BOOK CLUB
DESCRIPTION:
URL:https://islandsofbeaufort.com/event/iob-book-club-2/
END:VEVENT
BEGIN:VEVENT
DTSTART;TZID=America/New_York:20230313T130000
DTEND;TZID=America/New_York:20230313T160000
DTSTAMP:20260425T081615
CREATED:20230131T151317Z
LAST-MODIFIED:20230131T151317Z
UID:3245-1678712400-1678723200@islandsofbeaufort.com
SUMMARY:CLUBHOUSE CLEANING
DESCRIPTION:
URL:https://islandsofbeaufort.com/event/clubhouse-cleaning-11/
END:VEVENT
BEGIN:VEVENT
DTSTART;VALUE=DATE:20230312
DTEND;VALUE=DATE:20230313
DTSTAMP:20260425T081615
CREATED:20230114T153207Z
LAST-MODIFIED:20230114T153207Z
UID:3152-1678579200-1678665599@islandsofbeaufort.com
SUMMARY:IOB Pi Day
DESCRIPTION:
URL:https://islandsofbeaufort.com/event/iob-pi-day/
LOCATION:IOB Clubhouse\, 316 Islands Avenue \, Beaufort\, SC\, 29902\, United States
END:VEVENT
BEGIN:VEVENT
DTSTART;TZID=America/New_York:20230311T140000
DTEND;TZID=America/New_York:20230311T140000
DTSTAMP:20260425T081615
CREATED:20230215T202213Z
LAST-MODIFIED:20230215T202213Z
UID:3302-1678543200-1678543200@islandsofbeaufort.com
SUMMARY:KELLY MITCHELL WEDDING
DESCRIPTION:
URL:https://islandsofbeaufort.com/event/kelly-mitchell-wedding/
END:VEVENT
BEGIN:VEVENT
DTSTART;TZID=America/New_York:20230310T140000
DTEND;TZID=America/New_York:20230310T140000
DTSTAMP:20260425T081615
CREATED:20221228T211120Z
LAST-MODIFIED:20221228T211120Z
UID:3032-1678456800-1678456800@islandsofbeaufort.com
SUMMARY:KELLY MITCHELL REHEARSAL DINNER
DESCRIPTION:
URL:https://islandsofbeaufort.com/event/kelly-mitchell-rehearsal-dinner/
END:VEVENT
END:VCALENDAR