BEGIN:VCALENDAR
VERSION:2.0
PRODID:-//Islands of Beaufort - ECPv6.15.18//NONSGML v1.0//EN
CALSCALE:GREGORIAN
METHOD:PUBLISH
X-WR-CALNAME:Islands of Beaufort
X-ORIGINAL-URL:https://islandsofbeaufort.com
X-WR-CALDESC:Events for Islands of Beaufort
REFRESH-INTERVAL;VALUE=DURATION:PT1H
X-Robots-Tag:noindex
X-PUBLISHED-TTL:PT1H
BEGIN:VTIMEZONE
TZID:America/New_York
BEGIN:DAYLIGHT
TZOFFSETFROM:-0500
TZOFFSETTO:-0400
TZNAME:EDT
DTSTART:20220313T070000
END:DAYLIGHT
BEGIN:STANDARD
TZOFFSETFROM:-0400
TZOFFSETTO:-0500
TZNAME:EST
DTSTART:20221106T060000
END:STANDARD
BEGIN:DAYLIGHT
TZOFFSETFROM:-0500
TZOFFSETTO:-0400
TZNAME:EDT
DTSTART:20230312T070000
END:DAYLIGHT
BEGIN:STANDARD
TZOFFSETFROM:-0400
TZOFFSETTO:-0500
TZNAME:EST
DTSTART:20231105T060000
END:STANDARD
BEGIN:DAYLIGHT
TZOFFSETFROM:-0500
TZOFFSETTO:-0400
TZNAME:EDT
DTSTART:20240310T070000
END:DAYLIGHT
BEGIN:STANDARD
TZOFFSETFROM:-0400
TZOFFSETTO:-0500
TZNAME:EST
DTSTART:20241103T060000
END:STANDARD
END:VTIMEZONE
BEGIN:VEVENT
DTSTART;TZID=America/New_York:20230619T160000
DTEND;TZID=America/New_York:20230619T160000
DTSTAMP:20260425T110647
CREATED:20230111T210434Z
LAST-MODIFIED:20230111T210434Z
UID:3115-1687190400-1687190400@islandsofbeaufort.com
SUMMARY:ARB MEETING
DESCRIPTION:
URL:https://islandsofbeaufort.com/event/arb-meeting-8/
END:VEVENT
BEGIN:VEVENT
DTSTART;TZID=America/New_York:20230619T130000
DTEND;TZID=America/New_York:20230619T160000
DTSTAMP:20260425T110647
CREATED:20230131T151349Z
LAST-MODIFIED:20230131T151349Z
UID:3259-1687179600-1687190400@islandsofbeaufort.com
SUMMARY:CLUBHOUSE CLEANING
DESCRIPTION:
URL:https://islandsofbeaufort.com/event/clubhouse-cleaning-25/
END:VEVENT
BEGIN:VEVENT
DTSTART;TZID=America/New_York:20230613T133000
DTEND;TZID=America/New_York:20230613T133000
DTSTAMP:20260425T110647
CREATED:20230110T141224Z
LAST-MODIFIED:20230110T141224Z
UID:3049-1686663000-1686663000@islandsofbeaufort.com
SUMMARY:IOB BOARD MEETING
DESCRIPTION:
URL:https://islandsofbeaufort.com/event/iob-board-meeting-6/
END:VEVENT
BEGIN:VEVENT
DTSTART;TZID=America/New_York:20230612T130000
DTEND;TZID=America/New_York:20230612T160000
DTSTAMP:20260425T110647
CREATED:20230131T151334Z
LAST-MODIFIED:20230131T151334Z
UID:3258-1686574800-1686585600@islandsofbeaufort.com
SUMMARY:CLUBHOUSE CLEANING
DESCRIPTION:
URL:https://islandsofbeaufort.com/event/clubhouse-cleaning-24/
END:VEVENT
BEGIN:VEVENT
DTSTART;TZID=America/New_York:20230609T190000
DTEND;TZID=America/New_York:20230609T210000
DTSTAMP:20260425T110647
CREATED:20230523T130558Z
LAST-MODIFIED:20230523T130558Z
UID:3357-1686337200-1686344400@islandsofbeaufort.com
SUMMARY:Thomas Johnson
DESCRIPTION:
URL:https://islandsofbeaufort.com/event/thomas-johnson/
LOCATION:IOB Clubhouse\, 316 Islands Avenue \, Beaufort\, SC\, 29902\, United States
END:VEVENT
BEGIN:VEVENT
DTSTART;TZID=America/New_York:20230605T180000
DTEND;TZID=America/New_York:20230605T200000
DTSTAMP:20260425T110647
CREATED:20230113T200738Z
LAST-MODIFIED:20230113T200823Z
UID:3150-1685988000-1685995200@islandsofbeaufort.com
SUMMARY:Social Committee Meeting
DESCRIPTION:
URL:https://islandsofbeaufort.com/event/social-committee-meeting-11/
LOCATION:IOB Clubhouse\, 316 Islands Avenue \, Beaufort\, SC\, 29902\, United States
END:VEVENT
BEGIN:VEVENT
DTSTART;TZID=America/New_York:20230605T130000
DTEND;TZID=America/New_York:20230605T160000
DTSTAMP:20260425T110647
CREATED:20230131T151334Z
LAST-MODIFIED:20230131T151334Z
UID:3257-1685970000-1685980800@islandsofbeaufort.com
SUMMARY:CLUBHOUSE CLEANING
DESCRIPTION:
URL:https://islandsofbeaufort.com/event/clubhouse-cleaning-23/
END:VEVENT
BEGIN:VEVENT
DTSTART;TZID=America/New_York:20230602T160000
DTEND;TZID=America/New_York:20230602T173000
DTSTAMP:20260425T110647
CREATED:20230306T125003Z
LAST-MODIFIED:20230306T125003Z
UID:3312-1685721600-1685727000@islandsofbeaufort.com
SUMMARY:Communication Committee
DESCRIPTION:
URL:https://islandsofbeaufort.com/event/communication-committee-3/
LOCATION:IOB Clubhouse\, 316 Islands Avenue \, Beaufort\, SC\, 29902\, United States
END:VEVENT
BEGIN:VEVENT
DTSTART;TZID=America/New_York:20230601T150000
DTEND;TZID=America/New_York:20230601T150000
DTSTAMP:20260425T110647
CREATED:20230111T205711Z
LAST-MODIFIED:20230111T205711Z
UID:3091-1685631600-1685631600@islandsofbeaufort.com
SUMMARY:Grounds & Landscaping Committee
DESCRIPTION:
URL:https://islandsofbeaufort.com/event/grounds-landscaping-committee-6/
END:VEVENT
BEGIN:VEVENT
DTSTART;TZID=America/New_York:20230530T130000
DTEND;TZID=America/New_York:20230530T143000
DTSTAMP:20260425T110647
CREATED:20230131T151334Z
LAST-MODIFIED:20230509T201115Z
UID:3256-1685451600-1685457000@islandsofbeaufort.com
SUMMARY:CLUBHOUSE CLEANING
DESCRIPTION:
URL:https://islandsofbeaufort.com/event/clubhouse-cleaning-22/
END:VEVENT
BEGIN:VEVENT
DTSTART;TZID=America/New_York:20230523T180000
DTEND;TZID=America/New_York:20230523T210000
DTSTAMP:20260425T110647
CREATED:20230116T171733Z
LAST-MODIFIED:20230116T171733Z
UID:3193-1684864800-1684875600@islandsofbeaufort.com
SUMMARY:Game Night
DESCRIPTION:
URL:https://islandsofbeaufort.com/event/game-night-17/
LOCATION:IOB Clubhouse\, 316 Islands Avenue \, Beaufort\, SC\, 29902\, United States
END:VEVENT
BEGIN:VEVENT
DTSTART;TZID=America/New_York:20230522T130000
DTEND;TZID=America/New_York:20230522T160000
DTSTAMP:20260425T110647
CREATED:20230131T151334Z
LAST-MODIFIED:20230131T151334Z
UID:3255-1684760400-1684771200@islandsofbeaufort.com
SUMMARY:CLUBHOUSE CLEANING
DESCRIPTION:
URL:https://islandsofbeaufort.com/event/clubhouse-cleaning-21/
END:VEVENT
BEGIN:VEVENT
DTSTART;TZID=America/New_York:20230516T130000
DTEND;TZID=America/New_York:20230516T170000
DTSTAMP:20260425T110647
CREATED:20230116T165952Z
LAST-MODIFIED:20230116T165952Z
UID:3169-1684242000-1684256400@islandsofbeaufort.com
SUMMARY:Stitch Club
DESCRIPTION:
URL:https://islandsofbeaufort.com/event/stitch-club-61/
LOCATION:IOB Clubhouse\, 316 Islands Avenue \, Beaufort\, SC\, 29902\, United States
END:VEVENT
BEGIN:VEVENT
DTSTART;TZID=America/New_York:20230515T160000
DTEND;TZID=America/New_York:20230515T160000
DTSTAMP:20260425T110647
CREATED:20230111T210407Z
LAST-MODIFIED:20230111T210407Z
UID:3113-1684166400-1684166400@islandsofbeaufort.com
SUMMARY:ARB MEETING
DESCRIPTION:
URL:https://islandsofbeaufort.com/event/arb-meeting-7/
END:VEVENT
BEGIN:VEVENT
DTSTART;TZID=America/New_York:20230515T130000
DTEND;TZID=America/New_York:20230515T160000
DTSTAMP:20260425T110647
CREATED:20230131T151334Z
LAST-MODIFIED:20230131T151334Z
UID:3254-1684155600-1684166400@islandsofbeaufort.com
SUMMARY:CLUBHOUSE CLEANING
DESCRIPTION:
URL:https://islandsofbeaufort.com/event/clubhouse-cleaning-20/
END:VEVENT
BEGIN:VEVENT
DTSTART;TZID=America/New_York:20230509T133000
DTEND;TZID=America/New_York:20230509T133000
DTSTAMP:20260425T110647
CREATED:20230110T141155Z
LAST-MODIFIED:20230110T141155Z
UID:3047-1683639000-1683639000@islandsofbeaufort.com
SUMMARY:IOB BOARD MEETING
DESCRIPTION:
URL:https://islandsofbeaufort.com/event/iob-board-meeting-5/
END:VEVENT
BEGIN:VEVENT
DTSTART;TZID=America/New_York:20230508T190000
DTEND;TZID=America/New_York:20230508T210000
DTSTAMP:20260425T110647
CREATED:20230111T204800Z
LAST-MODIFIED:20230111T204800Z
UID:3071-1683572400-1683579600@islandsofbeaufort.com
SUMMARY:IOB BOOK CLUB
DESCRIPTION:
URL:https://islandsofbeaufort.com/event/iob-book-club-4/
END:VEVENT
BEGIN:VEVENT
DTSTART;TZID=America/New_York:20230508T130000
DTEND;TZID=America/New_York:20230508T160000
DTSTAMP:20260425T110647
CREATED:20230131T151319Z
LAST-MODIFIED:20230131T151319Z
UID:3253-1683550800-1683561600@islandsofbeaufort.com
SUMMARY:CLUBHOUSE CLEANING
DESCRIPTION:
URL:https://islandsofbeaufort.com/event/clubhouse-cleaning-19/
END:VEVENT
BEGIN:VEVENT
DTSTART;VALUE=DATE:20230506
DTEND;VALUE=DATE:20230507
DTSTAMP:20260425T110647
CREATED:20230114T153255Z
LAST-MODIFIED:20230114T153255Z
UID:3154-1683331200-1683417599@islandsofbeaufort.com
SUMMARY:Cinco de Mayo Party
DESCRIPTION:
URL:https://islandsofbeaufort.com/event/cinco-de-mayo-party/
LOCATION:IOB Clubhouse\, 316 Islands Avenue \, Beaufort\, SC\, 29902\, United States
END:VEVENT
BEGIN:VEVENT
DTSTART;TZID=America/New_York:20230505T160000
DTEND;TZID=America/New_York:20230505T173000
DTSTAMP:20260425T110647
CREATED:20230306T124828Z
LAST-MODIFIED:20230306T124828Z
UID:3310-1683302400-1683307800@islandsofbeaufort.com
SUMMARY:Communication Committee
DESCRIPTION:
URL:https://islandsofbeaufort.com/event/communication-committee-2/
END:VEVENT
BEGIN:VEVENT
DTSTART;TZID=America/New_York:20230504T150000
DTEND;TZID=America/New_York:20230504T150000
DTSTAMP:20260425T110647
CREATED:20230111T205630Z
LAST-MODIFIED:20230111T205630Z
UID:3089-1683212400-1683212400@islandsofbeaufort.com
SUMMARY:Grounds & Landscaping Committee
DESCRIPTION:
URL:https://islandsofbeaufort.com/event/grounds-landscaping-committee-5/
END:VEVENT
BEGIN:VEVENT
DTSTART;TZID=America/New_York:20230501T180000
DTEND;TZID=America/New_York:20230501T200000
DTSTAMP:20260425T110647
CREATED:20230113T195512Z
LAST-MODIFIED:20230113T195512Z
UID:3135-1682964000-1682971200@islandsofbeaufort.com
SUMMARY:Social Committee Meeting
DESCRIPTION:
URL:https://islandsofbeaufort.com/event/social-committee-meeting-4/
LOCATION:IOB Clubhouse\, 316 Islands Avenue \, Beaufort\, SC\, 29902\, United States
END:VEVENT
BEGIN:VEVENT
DTSTART;TZID=America/New_York:20230501T130000
DTEND;TZID=America/New_York:20230501T160000
DTSTAMP:20260425T110647
CREATED:20230131T151319Z
LAST-MODIFIED:20230131T151319Z
UID:3252-1682946000-1682956800@islandsofbeaufort.com
SUMMARY:CLUBHOUSE CLEANING
DESCRIPTION:
URL:https://islandsofbeaufort.com/event/clubhouse-cleaning-18/
END:VEVENT
BEGIN:VEVENT
DTSTART;TZID=America/New_York:20230425T180000
DTEND;TZID=America/New_York:20230425T210000
DTSTAMP:20260425T110647
CREATED:20230116T171641Z
LAST-MODIFIED:20230116T171641Z
UID:3191-1682445600-1682456400@islandsofbeaufort.com
SUMMARY:Game Night
DESCRIPTION:
URL:https://islandsofbeaufort.com/event/game-night-16/
LOCATION:IOB Clubhouse\, 316 Islands Avenue \, Beaufort\, SC\, 29902\, United States
END:VEVENT
BEGIN:VEVENT
DTSTART;TZID=America/New_York:20230425T120000
DTEND;TZID=America/New_York:20230425T150000
DTSTAMP:20260425T110647
CREATED:20230415T131000Z
LAST-MODIFIED:20230415T131000Z
UID:3346-1682424000-1682434800@islandsofbeaufort.com
SUMMARY:Weichert Realtors-Nancy Hansen
DESCRIPTION:
URL:https://islandsofbeaufort.com/event/weichert-realtors-nancy-hansen/
LOCATION:IOB Clubhouse\, 316 Islands Avenue \, Beaufort\, SC\, 29902\, United States
END:VEVENT
BEGIN:VEVENT
DTSTART;TZID=America/New_York:20230424T130000
DTEND;TZID=America/New_York:20230424T160000
DTSTAMP:20260425T110647
CREATED:20230131T151319Z
LAST-MODIFIED:20230131T151319Z
UID:3251-1682341200-1682352000@islandsofbeaufort.com
SUMMARY:CLUBHOUSE CLEANING
DESCRIPTION:
URL:https://islandsofbeaufort.com/event/clubhouse-cleaning-17/
END:VEVENT
BEGIN:VEVENT
DTSTART;TZID=America/New_York:20230418T130000
DTEND;TZID=America/New_York:20230418T170000
DTSTAMP:20260425T110647
CREATED:20230116T165905Z
LAST-MODIFIED:20230116T165905Z
UID:3167-1681822800-1681837200@islandsofbeaufort.com
SUMMARY:Stitch Club
DESCRIPTION:
URL:https://islandsofbeaufort.com/event/stitch-club-60/
LOCATION:IOB Clubhouse\, 316 Islands Avenue \, Beaufort\, SC\, 29902\, United States
END:VEVENT
BEGIN:VEVENT
DTSTART;TZID=America/New_York:20230417T160000
DTEND;TZID=America/New_York:20230417T160000
DTSTAMP:20260425T110647
CREATED:20230111T210344Z
LAST-MODIFIED:20230111T210344Z
UID:3111-1681747200-1681747200@islandsofbeaufort.com
SUMMARY:ARB MEETING
DESCRIPTION:
URL:https://islandsofbeaufort.com/event/arb-meeting-6/
END:VEVENT
BEGIN:VEVENT
DTSTART;TZID=America/New_York:20230417T130000
DTEND;TZID=America/New_York:20230417T160000
DTSTAMP:20260425T110647
CREATED:20230131T151318Z
LAST-MODIFIED:20230131T151318Z
UID:3250-1681736400-1681747200@islandsofbeaufort.com
SUMMARY:CLUBHOUSE CLEANING
DESCRIPTION:
URL:https://islandsofbeaufort.com/event/clubhouse-cleaning-16/
END:VEVENT
BEGIN:VEVENT
DTSTART;TZID=America/New_York:20230414T183000
DTEND;TZID=America/New_York:20230414T220000
DTSTAMP:20260425T110647
CREATED:20230315T181416Z
LAST-MODIFIED:20230315T181416Z
UID:3334-1681497000-1681509600@islandsofbeaufort.com
SUMMARY:Three Palms Bistro
DESCRIPTION:
URL:https://islandsofbeaufort.com/event/three-palms-bistro/
END:VEVENT
END:VCALENDAR