BEGIN:VCALENDAR
VERSION:2.0
PRODID:-//Islands of Beaufort - ECPv6.15.18//NONSGML v1.0//EN
CALSCALE:GREGORIAN
METHOD:PUBLISH
X-WR-CALNAME:Islands of Beaufort
X-ORIGINAL-URL:https://islandsofbeaufort.com
X-WR-CALDESC:Events for Islands of Beaufort
REFRESH-INTERVAL;VALUE=DURATION:PT1H
X-Robots-Tag:noindex
X-PUBLISHED-TTL:PT1H
BEGIN:VTIMEZONE
TZID:America/New_York
BEGIN:DAYLIGHT
TZOFFSETFROM:-0500
TZOFFSETTO:-0400
TZNAME:EDT
DTSTART:20220313T070000
END:DAYLIGHT
BEGIN:STANDARD
TZOFFSETFROM:-0400
TZOFFSETTO:-0500
TZNAME:EST
DTSTART:20221106T060000
END:STANDARD
BEGIN:DAYLIGHT
TZOFFSETFROM:-0500
TZOFFSETTO:-0400
TZNAME:EDT
DTSTART:20230312T070000
END:DAYLIGHT
BEGIN:STANDARD
TZOFFSETFROM:-0400
TZOFFSETTO:-0500
TZNAME:EST
DTSTART:20231105T060000
END:STANDARD
BEGIN:DAYLIGHT
TZOFFSETFROM:-0500
TZOFFSETTO:-0400
TZNAME:EDT
DTSTART:20240310T070000
END:DAYLIGHT
BEGIN:STANDARD
TZOFFSETFROM:-0400
TZOFFSETTO:-0500
TZNAME:EST
DTSTART:20241103T060000
END:STANDARD
END:VTIMEZONE
BEGIN:VEVENT
DTSTART;TZID=America/New_York:20230814T130000
DTEND;TZID=America/New_York:20230814T160000
DTSTAMP:20260425T081645
CREATED:20230131T151404Z
LAST-MODIFIED:20230131T151404Z
UID:3267-1692018000-1692028800@islandsofbeaufort.com
SUMMARY:CLUBHOUSE CLEANING
DESCRIPTION:
URL:https://islandsofbeaufort.com/event/clubhouse-cleaning-33/
END:VEVENT
BEGIN:VEVENT
DTSTART;TZID=America/New_York:20230811T180000
DTEND;TZID=America/New_York:20230811T180000
DTSTAMP:20260425T081645
CREATED:20230724T160635Z
LAST-MODIFIED:20230724T160635Z
UID:3379-1691776800-1691776800@islandsofbeaufort.com
SUMMARY:THREE PALMS BISTRO
DESCRIPTION:
URL:https://islandsofbeaufort.com/event/three-palms-bistro-2/
END:VEVENT
BEGIN:VEVENT
DTSTART;TZID=America/New_York:20230808T133000
DTEND;TZID=America/New_York:20230808T133000
DTSTAMP:20260425T081645
CREATED:20230110T141332Z
LAST-MODIFIED:20230110T141332Z
UID:3053-1691501400-1691501400@islandsofbeaufort.com
SUMMARY:IOB BOARD MEETING
DESCRIPTION:
URL:https://islandsofbeaufort.com/event/iob-board-meeting-8/
END:VEVENT
BEGIN:VEVENT
DTSTART;TZID=America/New_York:20230807T180000
DTEND;TZID=America/New_York:20230807T200000
DTSTAMP:20260425T081645
CREATED:20230113T195845Z
LAST-MODIFIED:20230113T195845Z
UID:3140-1691431200-1691438400@islandsofbeaufort.com
SUMMARY:Social Committee Meeting
DESCRIPTION:
URL:https://islandsofbeaufort.com/event/social-committee-meeting-6/
LOCATION:IOB Clubhouse\, 316 Islands Avenue \, Beaufort\, SC\, 29902\, United States
END:VEVENT
BEGIN:VEVENT
DTSTART;TZID=America/New_York:20230807T130000
DTEND;TZID=America/New_York:20230807T160000
DTSTAMP:20260425T081645
CREATED:20230131T151404Z
LAST-MODIFIED:20230131T151404Z
UID:3266-1691413200-1691424000@islandsofbeaufort.com
SUMMARY:CLUBHOUSE CLEANING
DESCRIPTION:
URL:https://islandsofbeaufort.com/event/clubhouse-cleaning-32/
END:VEVENT
BEGIN:VEVENT
DTSTART;TZID=America/New_York:20230804T160000
DTEND;TZID=America/New_York:20230804T173000
DTSTAMP:20260425T081645
CREATED:20230306T125516Z
LAST-MODIFIED:20230306T125516Z
UID:3316-1691164800-1691170200@islandsofbeaufort.com
SUMMARY:Communication Committee
DESCRIPTION:
URL:https://islandsofbeaufort.com/event/communication-committee-5/
LOCATION:IOB Clubhouse\, 316 Islands Avenue \, Beaufort\, SC\, 29902\, United States
END:VEVENT
BEGIN:VEVENT
DTSTART;TZID=America/New_York:20230803T150000
DTEND;TZID=America/New_York:20230803T150000
DTSTAMP:20260425T081645
CREATED:20230111T205804Z
LAST-MODIFIED:20230111T205804Z
UID:3095-1691074800-1691074800@islandsofbeaufort.com
SUMMARY:Grounds & Landscaping Committee
DESCRIPTION:
URL:https://islandsofbeaufort.com/event/grounds-landscaping-committee-8/
END:VEVENT
BEGIN:VEVENT
DTSTART;TZID=America/New_York:20230731T130000
DTEND;TZID=America/New_York:20230731T160000
DTSTAMP:20260425T081645
CREATED:20230131T151404Z
LAST-MODIFIED:20230131T151404Z
UID:3265-1690808400-1690819200@islandsofbeaufort.com
SUMMARY:CLUBHOUSE CLEANING
DESCRIPTION:
URL:https://islandsofbeaufort.com/event/clubhouse-cleaning-31/
END:VEVENT
BEGIN:VEVENT
DTSTART;TZID=America/New_York:20230725T180000
DTEND;TZID=America/New_York:20230725T210000
DTSTAMP:20260425T081645
CREATED:20230116T171924Z
LAST-MODIFIED:20230116T171924Z
UID:3197-1690308000-1690318800@islandsofbeaufort.com
SUMMARY:Game Night
DESCRIPTION:
URL:https://islandsofbeaufort.com/event/game-night-19/
LOCATION:IOB Clubhouse\, 316 Islands Avenue \, Beaufort\, SC\, 29902\, United States
END:VEVENT
BEGIN:VEVENT
DTSTART;TZID=America/New_York:20230724T130000
DTEND;TZID=America/New_York:20230724T160000
DTSTAMP:20260425T081645
CREATED:20230131T151404Z
LAST-MODIFIED:20230131T151404Z
UID:3264-1690203600-1690214400@islandsofbeaufort.com
SUMMARY:CLUBHOUSE CLEANING
DESCRIPTION:
URL:https://islandsofbeaufort.com/event/clubhouse-cleaning-30/
END:VEVENT
BEGIN:VEVENT
DTSTART;TZID=America/New_York:20230718T130000
DTEND;TZID=America/New_York:20230718T170000
DTSTAMP:20260425T081645
CREATED:20230116T170134Z
LAST-MODIFIED:20230116T170134Z
UID:3173-1689685200-1689699600@islandsofbeaufort.com
SUMMARY:Stitch Club
DESCRIPTION:
URL:https://islandsofbeaufort.com/event/stitch-club-63/
LOCATION:IOB Clubhouse\, 316 Islands Avenue \, Beaufort\, SC\, 29902\, United States
END:VEVENT
BEGIN:VEVENT
DTSTART;TZID=America/New_York:20230717T160000
DTEND;TZID=America/New_York:20230717T160000
DTSTAMP:20260425T081645
CREATED:20230111T210502Z
LAST-MODIFIED:20230111T210502Z
UID:3117-1689609600-1689609600@islandsofbeaufort.com
SUMMARY:ARB MEETING
DESCRIPTION:
URL:https://islandsofbeaufort.com/event/arb-meeting-9/
END:VEVENT
BEGIN:VEVENT
DTSTART;TZID=America/New_York:20230717T130000
DTEND;TZID=America/New_York:20230717T160000
DTSTAMP:20260425T081645
CREATED:20230131T151349Z
LAST-MODIFIED:20230131T151349Z
UID:3263-1689598800-1689609600@islandsofbeaufort.com
SUMMARY:CLUBHOUSE CLEANING
DESCRIPTION:
URL:https://islandsofbeaufort.com/event/clubhouse-cleaning-29/
END:VEVENT
BEGIN:VEVENT
DTSTART;TZID=America/New_York:20230711T133000
DTEND;TZID=America/New_York:20230711T133000
DTSTAMP:20260425T081645
CREATED:20230110T141256Z
LAST-MODIFIED:20230110T141256Z
UID:3051-1689082200-1689082200@islandsofbeaufort.com
SUMMARY:IOB BOARD MEETING
DESCRIPTION:
URL:https://islandsofbeaufort.com/event/iob-board-meeting-7/
END:VEVENT
BEGIN:VEVENT
DTSTART;TZID=America/New_York:20230710T130000
DTEND;TZID=America/New_York:20230710T160000
DTSTAMP:20260425T081645
CREATED:20230131T151349Z
LAST-MODIFIED:20230131T151349Z
UID:3262-1688994000-1689004800@islandsofbeaufort.com
SUMMARY:CLUBHOUSE CLEANING
DESCRIPTION:
URL:https://islandsofbeaufort.com/event/clubhouse-cleaning-28/
END:VEVENT
BEGIN:VEVENT
DTSTART;TZID=America/New_York:20230707T160000
DTEND;TZID=America/New_York:20230707T173000
DTSTAMP:20260425T081645
CREATED:20230306T125240Z
LAST-MODIFIED:20230306T125240Z
UID:3314-1688745600-1688751000@islandsofbeaufort.com
SUMMARY:Communication Committee
DESCRIPTION:
URL:https://islandsofbeaufort.com/event/communication-committee-4/
LOCATION:IOB Clubhouse\, 316 Islands Avenue \, Beaufort\, SC\, 29902\, United States
END:VEVENT
BEGIN:VEVENT
DTSTART;TZID=America/New_York:20230706T150000
DTEND;TZID=America/New_York:20230706T150000
DTSTAMP:20260425T081645
CREATED:20230111T205737Z
LAST-MODIFIED:20230111T205737Z
UID:3093-1688655600-1688655600@islandsofbeaufort.com
SUMMARY:Grounds & Landscaping Committee
DESCRIPTION:
URL:https://islandsofbeaufort.com/event/grounds-landscaping-committee-7/
END:VEVENT
BEGIN:VEVENT
DTSTART;TZID=America/New_York:20230704T093000
DTEND;TZID=America/New_York:20230704T120000
DTSTAMP:20260425T081645
CREATED:20230114T153350Z
LAST-MODIFIED:20230114T153350Z
UID:3156-1688463000-1688472000@islandsofbeaufort.com
SUMMARY:Reading of the Constitution
DESCRIPTION:
URL:https://islandsofbeaufort.com/event/reading-of-the-constitution/
LOCATION:IOB Clubhouse\, 316 Islands Avenue \, Beaufort\, SC\, 29902\, United States
END:VEVENT
BEGIN:VEVENT
DTSTART;TZID=America/New_York:20230703T180000
DTEND;TZID=America/New_York:20230703T200000
DTSTAMP:20260425T081645
CREATED:20230113T195732Z
LAST-MODIFIED:20230113T200921Z
UID:3138-1688407200-1688414400@islandsofbeaufort.com
SUMMARY:Social Committee Meeting
DESCRIPTION:
URL:https://islandsofbeaufort.com/event/social-committee-meeting-5/
LOCATION:IOB Clubhouse\, 316 Islands Avenue \, Beaufort\, SC\, 29902\, United States
END:VEVENT
BEGIN:VEVENT
DTSTART;TZID=America/New_York:20230703T130000
DTEND;TZID=America/New_York:20230703T160000
DTSTAMP:20260425T081645
CREATED:20230131T151349Z
LAST-MODIFIED:20230131T151349Z
UID:3261-1688389200-1688400000@islandsofbeaufort.com
SUMMARY:CLUBHOUSE CLEANING
DESCRIPTION:
URL:https://islandsofbeaufort.com/event/clubhouse-cleaning-27/
END:VEVENT
BEGIN:VEVENT
DTSTART;TZID=America/New_York:20230627T180000
DTEND;TZID=America/New_York:20230627T210000
DTSTAMP:20260425T081645
CREATED:20230116T171816Z
LAST-MODIFIED:20230116T171816Z
UID:3195-1687888800-1687899600@islandsofbeaufort.com
SUMMARY:Game Night
DESCRIPTION:
URL:https://islandsofbeaufort.com/event/game-night-18/
LOCATION:IOB Clubhouse\, 316 Islands Avenue \, Beaufort\, SC\, 29902\, United States
END:VEVENT
BEGIN:VEVENT
DTSTART;TZID=America/New_York:20230626T130000
DTEND;TZID=America/New_York:20230626T160000
DTSTAMP:20260425T081645
CREATED:20230131T151349Z
LAST-MODIFIED:20230131T151349Z
UID:3260-1687784400-1687795200@islandsofbeaufort.com
SUMMARY:CLUBHOUSE CLEANING
DESCRIPTION:
URL:https://islandsofbeaufort.com/event/clubhouse-cleaning-26/
END:VEVENT
BEGIN:VEVENT
DTSTART;TZID=America/New_York:20230623T170000
DTEND;TZID=America/New_York:20230623T220000
DTSTAMP:20260425T081645
CREATED:20230529T132340Z
LAST-MODIFIED:20230529T132340Z
UID:3359-1687539600-1687557600@islandsofbeaufort.com
SUMMARY:Three Palms Bistro-IOB Social
DESCRIPTION:
URL:https://islandsofbeaufort.com/event/three-palms-bistro-iob-social/
END:VEVENT
BEGIN:VEVENT
DTSTART;TZID=America/New_York:20230620T130000
DTEND;TZID=America/New_York:20230620T170000
DTSTAMP:20260425T081645
CREATED:20230116T170040Z
LAST-MODIFIED:20230116T170040Z
UID:3171-1687266000-1687280400@islandsofbeaufort.com
SUMMARY:Stitch Club
DESCRIPTION:
URL:https://islandsofbeaufort.com/event/stitch-club-62/
LOCATION:IOB Clubhouse\, 316 Islands Avenue \, Beaufort\, SC\, 29902\, United States
END:VEVENT
BEGIN:VEVENT
DTSTART;TZID=America/New_York:20230619T160000
DTEND;TZID=America/New_York:20230619T160000
DTSTAMP:20260425T081645
CREATED:20230111T210434Z
LAST-MODIFIED:20230111T210434Z
UID:3115-1687190400-1687190400@islandsofbeaufort.com
SUMMARY:ARB MEETING
DESCRIPTION:
URL:https://islandsofbeaufort.com/event/arb-meeting-8/
END:VEVENT
BEGIN:VEVENT
DTSTART;TZID=America/New_York:20230619T130000
DTEND;TZID=America/New_York:20230619T160000
DTSTAMP:20260425T081645
CREATED:20230131T151349Z
LAST-MODIFIED:20230131T151349Z
UID:3259-1687179600-1687190400@islandsofbeaufort.com
SUMMARY:CLUBHOUSE CLEANING
DESCRIPTION:
URL:https://islandsofbeaufort.com/event/clubhouse-cleaning-25/
END:VEVENT
BEGIN:VEVENT
DTSTART;TZID=America/New_York:20230613T133000
DTEND;TZID=America/New_York:20230613T133000
DTSTAMP:20260425T081645
CREATED:20230110T141224Z
LAST-MODIFIED:20230110T141224Z
UID:3049-1686663000-1686663000@islandsofbeaufort.com
SUMMARY:IOB BOARD MEETING
DESCRIPTION:
URL:https://islandsofbeaufort.com/event/iob-board-meeting-6/
END:VEVENT
BEGIN:VEVENT
DTSTART;TZID=America/New_York:20230612T130000
DTEND;TZID=America/New_York:20230612T160000
DTSTAMP:20260425T081645
CREATED:20230131T151334Z
LAST-MODIFIED:20230131T151334Z
UID:3258-1686574800-1686585600@islandsofbeaufort.com
SUMMARY:CLUBHOUSE CLEANING
DESCRIPTION:
URL:https://islandsofbeaufort.com/event/clubhouse-cleaning-24/
END:VEVENT
BEGIN:VEVENT
DTSTART;TZID=America/New_York:20230609T190000
DTEND;TZID=America/New_York:20230609T210000
DTSTAMP:20260425T081645
CREATED:20230523T130558Z
LAST-MODIFIED:20230523T130558Z
UID:3357-1686337200-1686344400@islandsofbeaufort.com
SUMMARY:Thomas Johnson
DESCRIPTION:
URL:https://islandsofbeaufort.com/event/thomas-johnson/
LOCATION:IOB Clubhouse\, 316 Islands Avenue \, Beaufort\, SC\, 29902\, United States
END:VEVENT
BEGIN:VEVENT
DTSTART;TZID=America/New_York:20230605T180000
DTEND;TZID=America/New_York:20230605T200000
DTSTAMP:20260425T081645
CREATED:20230113T200738Z
LAST-MODIFIED:20230113T200823Z
UID:3150-1685988000-1685995200@islandsofbeaufort.com
SUMMARY:Social Committee Meeting
DESCRIPTION:
URL:https://islandsofbeaufort.com/event/social-committee-meeting-11/
LOCATION:IOB Clubhouse\, 316 Islands Avenue \, Beaufort\, SC\, 29902\, United States
END:VEVENT
END:VCALENDAR