BEGIN:VCALENDAR
VERSION:2.0
PRODID:-//Islands of Beaufort - ECPv6.15.18//NONSGML v1.0//EN
CALSCALE:GREGORIAN
METHOD:PUBLISH
X-WR-CALNAME:Islands of Beaufort
X-ORIGINAL-URL:https://islandsofbeaufort.com
X-WR-CALDESC:Events for Islands of Beaufort
REFRESH-INTERVAL;VALUE=DURATION:PT1H
X-Robots-Tag:noindex
X-PUBLISHED-TTL:PT1H
BEGIN:VTIMEZONE
TZID:America/New_York
BEGIN:DAYLIGHT
TZOFFSETFROM:-0500
TZOFFSETTO:-0400
TZNAME:EDT
DTSTART:20220313T070000
END:DAYLIGHT
BEGIN:STANDARD
TZOFFSETFROM:-0400
TZOFFSETTO:-0500
TZNAME:EST
DTSTART:20221106T060000
END:STANDARD
BEGIN:DAYLIGHT
TZOFFSETFROM:-0500
TZOFFSETTO:-0400
TZNAME:EDT
DTSTART:20230312T070000
END:DAYLIGHT
BEGIN:STANDARD
TZOFFSETFROM:-0400
TZOFFSETTO:-0500
TZNAME:EST
DTSTART:20231105T060000
END:STANDARD
BEGIN:DAYLIGHT
TZOFFSETFROM:-0500
TZOFFSETTO:-0400
TZNAME:EDT
DTSTART:20240310T070000
END:DAYLIGHT
BEGIN:STANDARD
TZOFFSETFROM:-0400
TZOFFSETTO:-0500
TZNAME:EST
DTSTART:20241103T060000
END:STANDARD
END:VTIMEZONE
BEGIN:VEVENT
DTSTART;TZID=America/New_York:20231208T150000
DTEND;TZID=America/New_York:20231208T150000
DTSTAMP:20260424T200853
CREATED:20231110T170154Z
LAST-MODIFIED:20231110T170154Z
UID:3444-1702047600-1702047600@islandsofbeaufort.com
SUMMARY:MERRY MINGLE SETUP
DESCRIPTION:
URL:https://islandsofbeaufort.com/event/merry-mingle-setup/
END:VEVENT
BEGIN:VEVENT
DTSTART;TZID=America/New_York:20231207T150000
DTEND;TZID=America/New_York:20231207T150000
DTSTAMP:20260424T200853
CREATED:20230111T210048Z
LAST-MODIFIED:20230111T210048Z
UID:3103-1701961200-1701961200@islandsofbeaufort.com
SUMMARY:Grounds & Landscaping Committee
DESCRIPTION:
URL:https://islandsofbeaufort.com/event/grounds-landscaping-committee-12/
END:VEVENT
BEGIN:VEVENT
DTSTART;TZID=America/New_York:20231205T160000
DTEND;TZID=America/New_York:20231205T190000
DTSTAMP:20260424T200853
CREATED:20231110T170742Z
LAST-MODIFIED:20231110T170742Z
UID:3448-1701792000-1701802800@islandsofbeaufort.com
SUMMARY:MEET & GREET
DESCRIPTION:
URL:https://islandsofbeaufort.com/event/meet-greet/
END:VEVENT
BEGIN:VEVENT
DTSTART;TZID=America/New_York:20231204T180000
DTEND;TZID=America/New_York:20231204T200000
DTSTAMP:20260424T200853
CREATED:20230113T200244Z
LAST-MODIFIED:20230113T200244Z
UID:3148-1701712800-1701720000@islandsofbeaufort.com
SUMMARY:Social Committee Meeting
DESCRIPTION:
URL:https://islandsofbeaufort.com/event/social-committee-meeting-10/
LOCATION:IOB Clubhouse\, 316 Islands Avenue \, Beaufort\, SC\, 29902\, United States
END:VEVENT
BEGIN:VEVENT
DTSTART;TZID=America/New_York:20231204T130000
DTEND;TZID=America/New_York:20231204T160000
DTSTAMP:20260424T200853
CREATED:20230131T151449Z
LAST-MODIFIED:20230131T151449Z
UID:3283-1701694800-1701705600@islandsofbeaufort.com
SUMMARY:CLUBHOUSE CLEANING
DESCRIPTION:
URL:https://islandsofbeaufort.com/event/clubhouse-cleaning-49/
END:VEVENT
BEGIN:VEVENT
DTSTART;TZID=America/New_York:20231202T130000
DTEND;TZID=America/New_York:20231202T150000
DTSTAMP:20260424T200853
CREATED:20231122T141633Z
LAST-MODIFIED:20231122T141633Z
UID:3454-1701522000-1701529200@islandsofbeaufort.com
SUMMARY:DAVID SKINNER
DESCRIPTION:
URL:https://islandsofbeaufort.com/event/david-skinner-2/
END:VEVENT
BEGIN:VEVENT
DTSTART;TZID=America/New_York:20231202T090000
DTEND;TZID=America/New_York:20231202T120000
DTSTAMP:20260424T200853
CREATED:20231110T170111Z
LAST-MODIFIED:20231122T141551Z
UID:3442-1701507600-1701518400@islandsofbeaufort.com
SUMMARY:CHRISTMAS DECORATING
DESCRIPTION:
URL:https://islandsofbeaufort.com/event/christmas-decorating-2/
END:VEVENT
BEGIN:VEVENT
DTSTART;TZID=America/New_York:20231201T080000
DTEND;TZID=America/New_York:20231201T170000
DTSTAMP:20260424T200853
CREATED:20230306T125824Z
LAST-MODIFIED:20230306T125824Z
UID:3324-1701417600-1701450000@islandsofbeaufort.com
SUMMARY:Communication Committee
DESCRIPTION:
URL:https://islandsofbeaufort.com/event/communication-committee-9/
LOCATION:IOB Clubhouse\, 316 Islands Avenue \, Beaufort\, SC\, 29902\, United States
END:VEVENT
BEGIN:VEVENT
DTSTART;TZID=America/New_York:20231130T190000
DTEND;TZID=America/New_York:20231130T190000
DTSTAMP:20260424T200853
CREATED:20231117T133756Z
LAST-MODIFIED:20231117T133756Z
UID:3450-1701370800-1701370800@islandsofbeaufort.com
SUMMARY:BOD
DESCRIPTION:
URL:https://islandsofbeaufort.com/event/bod/
END:VEVENT
BEGIN:VEVENT
DTSTART;TZID=America/New_York:20231128T180000
DTEND;TZID=America/New_York:20231128T210000
DTSTAMP:20260424T200853
CREATED:20230116T172253Z
LAST-MODIFIED:20230116T172253Z
UID:3205-1701194400-1701205200@islandsofbeaufort.com
SUMMARY:Game Night
DESCRIPTION:
URL:https://islandsofbeaufort.com/event/game-night-23/
LOCATION:IOB Clubhouse\, 316 Islands Avenue \, Beaufort\, SC\, 29902\, United States
END:VEVENT
BEGIN:VEVENT
DTSTART;TZID=America/New_York:20231127T130000
DTEND;TZID=America/New_York:20231127T160000
DTSTAMP:20260424T200853
CREATED:20230131T151449Z
LAST-MODIFIED:20230131T151449Z
UID:3282-1701090000-1701100800@islandsofbeaufort.com
SUMMARY:CLUBHOUSE CLEANING
DESCRIPTION:
URL:https://islandsofbeaufort.com/event/clubhouse-cleaning-48/
END:VEVENT
BEGIN:VEVENT
DTSTART;TZID=America/New_York:20231121T130000
DTEND;TZID=America/New_York:20231121T170000
DTSTAMP:20260424T200853
CREATED:20230116T170428Z
LAST-MODIFIED:20230116T170428Z
UID:3181-1700571600-1700586000@islandsofbeaufort.com
SUMMARY:Stitch Club
DESCRIPTION:
URL:https://islandsofbeaufort.com/event/stitch-club-67/
LOCATION:IOB Clubhouse\, 316 Islands Avenue \, Beaufort\, SC\, 29902\, United States
END:VEVENT
BEGIN:VEVENT
DTSTART;TZID=America/New_York:20231120T160000
DTEND;TZID=America/New_York:20231120T160000
DTSTAMP:20260424T200853
CREATED:20230111T210640Z
LAST-MODIFIED:20230111T210640Z
UID:3125-1700496000-1700496000@islandsofbeaufort.com
SUMMARY:ARB MEETING
DESCRIPTION:
URL:https://islandsofbeaufort.com/event/arb-meeting-13/
END:VEVENT
BEGIN:VEVENT
DTSTART;TZID=America/New_York:20231120T130000
DTEND;TZID=America/New_York:20231120T160000
DTSTAMP:20260424T200853
CREATED:20230131T151449Z
LAST-MODIFIED:20230131T151449Z
UID:3281-1700485200-1700496000@islandsofbeaufort.com
SUMMARY:CLUBHOUSE CLEANING
DESCRIPTION:
URL:https://islandsofbeaufort.com/event/clubhouse-cleaning-47/
END:VEVENT
BEGIN:VEVENT
DTSTART;TZID=America/New_York:20231117T190000
DTEND;TZID=America/New_York:20231117T210000
DTSTAMP:20260424T200853
CREATED:20231006T143025Z
LAST-MODIFIED:20231006T143025Z
UID:3424-1700247600-1700254800@islandsofbeaufort.com
SUMMARY:Three Palms Bistro
DESCRIPTION:
URL:https://islandsofbeaufort.com/event/three-palms-bistro-3/
LOCATION:IOB Clubhouse\, 316 Islands Avenue \, Beaufort\, SC\, 29902\, United States
END:VEVENT
BEGIN:VEVENT
DTSTART;TZID=America/New_York:20231114T133000
DTEND;TZID=America/New_York:20231114T133000
DTSTAMP:20260424T200853
CREATED:20230110T141508Z
LAST-MODIFIED:20230110T141508Z
UID:3059-1699968600-1699968600@islandsofbeaufort.com
SUMMARY:IOB BOARD MEETING
DESCRIPTION:
URL:https://islandsofbeaufort.com/event/iob-board-meeting-11/
END:VEVENT
BEGIN:VEVENT
DTSTART;TZID=America/New_York:20231113T190000
DTEND;TZID=America/New_York:20231113T210000
DTSTAMP:20260424T200853
CREATED:20230111T204912Z
LAST-MODIFIED:20230111T204912Z
UID:3077-1699902000-1699909200@islandsofbeaufort.com
SUMMARY:IOB BOOK CLUB
DESCRIPTION:
URL:https://islandsofbeaufort.com/event/iob-book-club-7/
END:VEVENT
BEGIN:VEVENT
DTSTART;TZID=America/New_York:20231113T130000
DTEND;TZID=America/New_York:20231113T160000
DTSTAMP:20260424T200853
CREATED:20230131T151449Z
LAST-MODIFIED:20230131T151449Z
UID:3280-1699880400-1699891200@islandsofbeaufort.com
SUMMARY:CLUBHOUSE CLEANING
DESCRIPTION:
URL:https://islandsofbeaufort.com/event/clubhouse-cleaning-46/
END:VEVENT
BEGIN:VEVENT
DTSTART;TZID=America/New_York:20231109T190000
DTEND;TZID=America/New_York:20231109T210000
DTSTAMP:20260424T200853
CREATED:20231006T142911Z
LAST-MODIFIED:20231006T142911Z
UID:3422-1699556400-1699563600@islandsofbeaufort.com
SUMMARY:Girl's Movie Night
DESCRIPTION:
URL:https://islandsofbeaufort.com/event/girls-movie-night-2/
LOCATION:IOB Clubhouse\, 316 Islands Avenue \, Beaufort\, SC\, 29902\, United States
END:VEVENT
BEGIN:VEVENT
DTSTART;TZID=America/New_York:20231106T180000
DTEND;TZID=America/New_York:20231106T200000
DTSTAMP:20260424T200853
CREATED:20230113T200155Z
LAST-MODIFIED:20230113T200155Z
UID:3146-1699293600-1699300800@islandsofbeaufort.com
SUMMARY:Social Committee Meeting
DESCRIPTION:
URL:https://islandsofbeaufort.com/event/social-committee-meeting-9/
LOCATION:IOB Clubhouse\, 316 Islands Avenue \, Beaufort\, SC\, 29902\, United States
END:VEVENT
BEGIN:VEVENT
DTSTART;TZID=America/New_York:20231106T130000
DTEND;TZID=America/New_York:20231106T160000
DTSTAMP:20260424T200853
CREATED:20230131T151449Z
LAST-MODIFIED:20230131T151449Z
UID:3279-1699275600-1699286400@islandsofbeaufort.com
SUMMARY:CLUBHOUSE CLEANING
DESCRIPTION:
URL:https://islandsofbeaufort.com/event/clubhouse-cleaning-45/
END:VEVENT
BEGIN:VEVENT
DTSTART;TZID=America/New_York:20231103T160000
DTEND;TZID=America/New_York:20231103T173000
DTSTAMP:20260424T200853
CREATED:20230306T125751Z
LAST-MODIFIED:20230306T125751Z
UID:3322-1699027200-1699032600@islandsofbeaufort.com
SUMMARY:Communication Committee
DESCRIPTION:
URL:https://islandsofbeaufort.com/event/communication-committee-8/
END:VEVENT
BEGIN:VEVENT
DTSTART;TZID=America/New_York:20231102T150000
DTEND;TZID=America/New_York:20231102T150000
DTSTAMP:20260424T200853
CREATED:20230111T205947Z
LAST-MODIFIED:20230111T205947Z
UID:3101-1698937200-1698937200@islandsofbeaufort.com
SUMMARY:Grounds & Landscaping Committee
DESCRIPTION:
URL:https://islandsofbeaufort.com/event/grounds-landscaping-committee-11/
END:VEVENT
BEGIN:VEVENT
DTSTART;TZID=America/New_York:20231030T130000
DTEND;TZID=America/New_York:20231030T160000
DTSTAMP:20260424T200853
CREATED:20230131T151434Z
LAST-MODIFIED:20230131T151434Z
UID:3278-1698670800-1698681600@islandsofbeaufort.com
SUMMARY:CLUBHOUSE CLEANING
DESCRIPTION:
URL:https://islandsofbeaufort.com/event/clubhouse-cleaning-44/
END:VEVENT
BEGIN:VEVENT
DTSTART;TZID=America/New_York:20231027T100000
DTEND;TZID=America/New_York:20231027T120000
DTSTAMP:20260424T200853
CREATED:20231009T154214Z
LAST-MODIFIED:20231009T154214Z
UID:3426-1698400800-1698408000@islandsofbeaufort.com
SUMMARY:Water Aerobics Brunch
DESCRIPTION:
URL:https://islandsofbeaufort.com/event/water-aerobics-brunch/
LOCATION:IOB Clubhouse\, 316 Islands Avenue \, Beaufort\, SC\, 29902\, United States
END:VEVENT
BEGIN:VEVENT
DTSTART;TZID=America/New_York:20231024T180000
DTEND;TZID=America/New_York:20231024T210000
DTSTAMP:20260424T200853
CREATED:20230116T172159Z
LAST-MODIFIED:20230116T172159Z
UID:3203-1698170400-1698181200@islandsofbeaufort.com
SUMMARY:Game Night
DESCRIPTION:
URL:https://islandsofbeaufort.com/event/game-night-22/
LOCATION:IOB Clubhouse\, 316 Islands Avenue \, Beaufort\, SC\, 29902\, United States
END:VEVENT
BEGIN:VEVENT
DTSTART;TZID=America/New_York:20231023T130000
DTEND;TZID=America/New_York:20231023T160000
DTSTAMP:20260424T200853
CREATED:20230131T151434Z
LAST-MODIFIED:20230131T151434Z
UID:3277-1698066000-1698076800@islandsofbeaufort.com
SUMMARY:CLUBHOUSE CLEANING
DESCRIPTION:
URL:https://islandsofbeaufort.com/event/clubhouse-cleaning-43/
END:VEVENT
BEGIN:VEVENT
DTSTART;VALUE=DATE:20231021
DTEND;VALUE=DATE:20231022
DTSTAMP:20260424T200853
CREATED:20230118T151537Z
LAST-MODIFIED:20230914T144602Z
UID:3211-1697846400-1697932799@islandsofbeaufort.com
SUMMARY:IOB Annual Meeting
DESCRIPTION:
URL:https://islandsofbeaufort.com/event/iob-annual-meeting-3/
LOCATION:IOB Clubhouse\, 316 Islands Avenue \, Beaufort\, SC\, 29902\, United States
END:VEVENT
BEGIN:VEVENT
DTSTART;VALUE=DATE:20231020
DTEND;VALUE=DATE:20231021
DTSTAMP:20260424T200853
CREATED:20230118T151628Z
LAST-MODIFIED:20230914T144519Z
UID:3213-1697760000-1697846399@islandsofbeaufort.com
SUMMARY:IOB-Setup for Annual Meeting
DESCRIPTION:
URL:https://islandsofbeaufort.com/event/iob-setup-for-annual-meeting/
LOCATION:IOB Clubhouse\, 316 Islands Avenue \, Beaufort\, SC\, 29902\, United States
END:VEVENT
BEGIN:VEVENT
DTSTART;TZID=America/New_York:20231017T090000
DTEND;TZID=America/New_York:20231017T170000
DTSTAMP:20260424T200853
CREATED:20230116T170343Z
LAST-MODIFIED:20230921T201839Z
UID:3179-1697533200-1697562000@islandsofbeaufort.com
SUMMARY:Realtor Open House
DESCRIPTION:
URL:https://islandsofbeaufort.com/event/stitch-club-66/
LOCATION:IOB Clubhouse\, 316 Islands Avenue \, Beaufort\, SC\, 29902\, United States
END:VEVENT
END:VCALENDAR