BEGIN:VCALENDAR
VERSION:2.0
PRODID:-//Islands of Beaufort - ECPv6.15.18//NONSGML v1.0//EN
CALSCALE:GREGORIAN
METHOD:PUBLISH
X-WR-CALNAME:Islands of Beaufort
X-ORIGINAL-URL:https://islandsofbeaufort.com
X-WR-CALDESC:Events for Islands of Beaufort
REFRESH-INTERVAL;VALUE=DURATION:PT1H
X-Robots-Tag:noindex
X-PUBLISHED-TTL:PT1H
BEGIN:VTIMEZONE
TZID:America/New_York
BEGIN:DAYLIGHT
TZOFFSETFROM:-0500
TZOFFSETTO:-0400
TZNAME:EDT
DTSTART:20220313T070000
END:DAYLIGHT
BEGIN:STANDARD
TZOFFSETFROM:-0400
TZOFFSETTO:-0500
TZNAME:EST
DTSTART:20221106T060000
END:STANDARD
BEGIN:DAYLIGHT
TZOFFSETFROM:-0500
TZOFFSETTO:-0400
TZNAME:EDT
DTSTART:20230312T070000
END:DAYLIGHT
BEGIN:STANDARD
TZOFFSETFROM:-0400
TZOFFSETTO:-0500
TZNAME:EST
DTSTART:20231105T060000
END:STANDARD
BEGIN:DAYLIGHT
TZOFFSETFROM:-0500
TZOFFSETTO:-0400
TZNAME:EDT
DTSTART:20240310T070000
END:DAYLIGHT
BEGIN:STANDARD
TZOFFSETFROM:-0400
TZOFFSETTO:-0500
TZNAME:EST
DTSTART:20241103T060000
END:STANDARD
BEGIN:DAYLIGHT
TZOFFSETFROM:-0500
TZOFFSETTO:-0400
TZNAME:EDT
DTSTART:20250309T070000
END:DAYLIGHT
BEGIN:STANDARD
TZOFFSETFROM:-0400
TZOFFSETTO:-0500
TZNAME:EST
DTSTART:20251102T060000
END:STANDARD
END:VTIMEZONE
BEGIN:VEVENT
DTSTART;TZID=America/New_York:20240226T130000
DTEND;TZID=America/New_York:20240226T160000
DTSTAMP:20260424T165452
CREATED:20240220T163606Z
LAST-MODIFIED:20240220T163606Z
UID:3654-1708952400-1708963200@islandsofbeaufort.com
SUMMARY:CLUBHOUSE CLEANING
DESCRIPTION:
URL:https://islandsofbeaufort.com/event/clubhouse-cleaning-53/
END:VEVENT
BEGIN:VEVENT
DTSTART;TZID=America/New_York:20240220T130000
DTEND;TZID=America/New_York:20240220T170000
DTSTAMP:20260424T165452
CREATED:20240207T193430Z
LAST-MODIFIED:20240207T193430Z
UID:3640-1708434000-1708448400@islandsofbeaufort.com
SUMMARY:STITCH CLUB
DESCRIPTION:
URL:https://islandsofbeaufort.com/event/stitch-club-69/
END:VEVENT
BEGIN:VEVENT
DTSTART;TZID=America/New_York:20240215T190000
DTEND;TZID=America/New_York:20240215T220000
DTSTAMP:20260424T165452
CREATED:20240129T202926Z
LAST-MODIFIED:20240129T202926Z
UID:3612-1708023600-1708034400@islandsofbeaufort.com
SUMMARY:Girls' Movie Night
DESCRIPTION:
URL:https://islandsofbeaufort.com/event/girls-movie-night-3/
END:VEVENT
BEGIN:VEVENT
DTSTART;TZID=America/New_York:20240213T133000
DTEND;TZID=America/New_York:20240213T133000
DTSTAMP:20260424T165452
CREATED:20240105T164716Z
LAST-MODIFIED:20240105T164716Z
UID:3553-1707831000-1707831000@islandsofbeaufort.com
SUMMARY:IOB BOARD MEETING
DESCRIPTION:
URL:https://islandsofbeaufort.com/event/iob-board-meeting-14/
END:VEVENT
BEGIN:VEVENT
DTSTART;TZID=America/New_York:20240212T190000
DTEND;TZID=America/New_York:20240212T213000
DTSTAMP:20260424T165452
CREATED:20240109T204648Z
LAST-MODIFIED:20240109T204648Z
UID:3573-1707764400-1707773400@islandsofbeaufort.com
SUMMARY:IOB BOOK CLUB
DESCRIPTION:
URL:https://islandsofbeaufort.com/event/iob-book-club-9/
END:VEVENT
BEGIN:VEVENT
DTSTART;TZID=America/New_York:20240205T180000
DTEND;TZID=America/New_York:20240205T190000
DTSTAMP:20260424T165452
CREATED:20240102T200438Z
LAST-MODIFIED:20240102T200438Z
UID:3531-1707156000-1707159600@islandsofbeaufort.com
SUMMARY:SOCIAL COMMITTEE
DESCRIPTION:
URL:https://islandsofbeaufort.com/event/social-committee-11/
END:VEVENT
BEGIN:VEVENT
DTSTART;TZID=America/New_York:20240205T140000
DTEND;TZID=America/New_York:20240205T160000
DTSTAMP:20260424T165452
CREATED:20240205T162037Z
LAST-MODIFIED:20240205T162037Z
UID:3620-1707141600-1707148800@islandsofbeaufort.com
SUMMARY:SKINNER
DESCRIPTION:
URL:https://islandsofbeaufort.com/event/skinner/
END:VEVENT
BEGIN:VEVENT
DTSTART;TZID=America/New_York:20240202T160000
DTEND;TZID=America/New_York:20240202T180000
DTSTAMP:20260424T165452
CREATED:20231205T193915Z
LAST-MODIFIED:20231205T193915Z
UID:3507-1706889600-1706896800@islandsofbeaufort.com
SUMMARY:MARKETING COMMITTEE
DESCRIPTION:
URL:https://islandsofbeaufort.com/event/marketing-committee-4/
END:VEVENT
BEGIN:VEVENT
DTSTART;TZID=America/New_York:20240130T160000
DTEND;TZID=America/New_York:20240130T180000
DTSTAMP:20260424T165452
CREATED:20240111T153756Z
LAST-MODIFIED:20240111T153756Z
UID:3586-1706630400-1706637600@islandsofbeaufort.com
SUMMARY:OPEN SPACE COMMITTEE
DESCRIPTION:
URL:https://islandsofbeaufort.com/event/open-space-committee/
END:VEVENT
BEGIN:VEVENT
DTSTART;TZID=America/New_York:20240109T133000
DTEND;TZID=America/New_York:20240109T133000
DTSTAMP:20260424T165452
CREATED:20240105T164716Z
LAST-MODIFIED:20240105T164716Z
UID:3552-1704807000-1704807000@islandsofbeaufort.com
SUMMARY:IOB BOARD MEETING
DESCRIPTION:
URL:https://islandsofbeaufort.com/event/iob-board-meeting-13/
END:VEVENT
BEGIN:VEVENT
DTSTART;TZID=America/New_York:20240108T180000
DTEND;TZID=America/New_York:20240108T190000
DTSTAMP:20260424T165452
CREATED:20240102T200438Z
LAST-MODIFIED:20240102T200438Z
UID:3530-1704736800-1704740400@islandsofbeaufort.com
SUMMARY:SOCIAL COMMITTEE
DESCRIPTION:
URL:https://islandsofbeaufort.com/event/social-committee-10/
END:VEVENT
BEGIN:VEVENT
DTSTART;TZID=America/New_York:20240106T090000
DTEND;TZID=America/New_York:20240106T120000
DTSTAMP:20260424T165452
CREATED:20231228T151842Z
LAST-MODIFIED:20231228T151842Z
UID:3526-1704531600-1704542400@islandsofbeaufort.com
SUMMARY:DECORATION CLEAN UP
DESCRIPTION:
URL:https://islandsofbeaufort.com/event/decoration-clean-up/
END:VEVENT
BEGIN:VEVENT
DTSTART;TZID=America/New_York:20240105T160000
DTEND;TZID=America/New_York:20240105T180000
DTSTAMP:20260424T165452
CREATED:20231205T193050Z
LAST-MODIFIED:20231205T193050Z
UID:3485-1704470400-1704477600@islandsofbeaufort.com
SUMMARY:MARKETING COMMITTEE
DESCRIPTION:
URL:https://islandsofbeaufort.com/event/marketing-committee-3/
END:VEVENT
BEGIN:VEVENT
DTSTART;TZID=America/New_York:20231226T180000
DTEND;TZID=America/New_York:20231226T210000
DTSTAMP:20260424T165452
CREATED:20230116T172338Z
LAST-MODIFIED:20230116T172338Z
UID:3207-1703613600-1703624400@islandsofbeaufort.com
SUMMARY:Game Night
DESCRIPTION:
URL:https://islandsofbeaufort.com/event/game-night-24/
LOCATION:IOB Clubhouse\, 316 Islands Avenue \, Beaufort\, SC\, 29902\, United States
END:VEVENT
BEGIN:VEVENT
DTSTART;TZID=America/New_York:20231225T130000
DTEND;TZID=America/New_York:20231225T160000
DTSTAMP:20260424T165452
CREATED:20230131T151504Z
LAST-MODIFIED:20230131T151504Z
UID:3286-1703509200-1703520000@islandsofbeaufort.com
SUMMARY:CLUBHOUSE CLEANING
DESCRIPTION:
URL:https://islandsofbeaufort.com/event/clubhouse-cleaning-52/
END:VEVENT
BEGIN:VEVENT
DTSTART;TZID=America/New_York:20231219T130000
DTEND;TZID=America/New_York:20231219T170000
DTSTAMP:20260424T165452
CREATED:20230116T170515Z
LAST-MODIFIED:20230116T170515Z
UID:3183-1702990800-1703005200@islandsofbeaufort.com
SUMMARY:Stitch Club
DESCRIPTION:
URL:https://islandsofbeaufort.com/event/stitch-club-68/
LOCATION:IOB Clubhouse\, 316 Islands Avenue \, Beaufort\, SC\, 29902\, United States
END:VEVENT
BEGIN:VEVENT
DTSTART;TZID=America/New_York:20231218T160000
DTEND;TZID=America/New_York:20231218T160000
DTSTAMP:20260424T165452
CREATED:20230111T210709Z
LAST-MODIFIED:20230111T210709Z
UID:3127-1702915200-1702915200@islandsofbeaufort.com
SUMMARY:ARB MEETING
DESCRIPTION:
URL:https://islandsofbeaufort.com/event/arb-meeting-14/
END:VEVENT
BEGIN:VEVENT
DTSTART;TZID=America/New_York:20231218T130000
DTEND;TZID=America/New_York:20231218T160000
DTSTAMP:20260424T165452
CREATED:20230131T151504Z
LAST-MODIFIED:20230131T151504Z
UID:3285-1702904400-1702915200@islandsofbeaufort.com
SUMMARY:CLUBHOUSE CLEANING
DESCRIPTION:
URL:https://islandsofbeaufort.com/event/clubhouse-cleaning-51/
END:VEVENT
BEGIN:VEVENT
DTSTART;TZID=America/New_York:20231216T120000
DTEND;TZID=America/New_York:20231216T230000
DTSTAMP:20260424T165452
CREATED:20231013T180158Z
LAST-MODIFIED:20231013T180158Z
UID:3428-1702728000-1702767600@islandsofbeaufort.com
SUMMARY:VERNITA DORE
DESCRIPTION:
URL:https://islandsofbeaufort.com/event/vernita-dore/
END:VEVENT
BEGIN:VEVENT
DTSTART;TZID=America/New_York:20231212T133000
DTEND;TZID=America/New_York:20231212T133000
DTSTAMP:20260424T165452
CREATED:20230110T141541Z
LAST-MODIFIED:20230110T141541Z
UID:3061-1702387800-1702387800@islandsofbeaufort.com
SUMMARY:IOB BOARD MEETING
DESCRIPTION:
URL:https://islandsofbeaufort.com/event/iob-board-meeting-12/
END:VEVENT
BEGIN:VEVENT
DTSTART;TZID=America/New_York:20231211T190000
DTEND;TZID=America/New_York:20231211T210000
DTSTAMP:20260424T165452
CREATED:20230111T204935Z
LAST-MODIFIED:20230111T204935Z
UID:3079-1702321200-1702328400@islandsofbeaufort.com
SUMMARY:IOB BOOK CLUB
DESCRIPTION:
URL:https://islandsofbeaufort.com/event/iob-book-club-8/
END:VEVENT
BEGIN:VEVENT
DTSTART;TZID=America/New_York:20231211T130000
DTEND;TZID=America/New_York:20231211T160000
DTSTAMP:20260424T165452
CREATED:20230131T151504Z
LAST-MODIFIED:20230131T151504Z
UID:3284-1702299600-1702310400@islandsofbeaufort.com
SUMMARY:CLUBHOUSE CLEANING
DESCRIPTION:
URL:https://islandsofbeaufort.com/event/clubhouse-cleaning-50/
END:VEVENT
BEGIN:VEVENT
DTSTART;TZID=America/New_York:20231209T170000
DTEND;TZID=America/New_York:20231209T170000
DTSTAMP:20260424T165452
CREATED:20231110T170223Z
LAST-MODIFIED:20231110T170223Z
UID:3446-1702141200-1702141200@islandsofbeaufort.com
SUMMARY:MERRY MINGLE
DESCRIPTION:
URL:https://islandsofbeaufort.com/event/merry-mingle-3/
END:VEVENT
BEGIN:VEVENT
DTSTART;VALUE=DATE:20231209
DTEND;VALUE=DATE:20231210
DTSTAMP:20260424T165452
CREATED:20230114T153446Z
LAST-MODIFIED:20230114T153446Z
UID:3158-1702080000-1702166399@islandsofbeaufort.com
SUMMARY:Merry Mingle
DESCRIPTION:
URL:https://islandsofbeaufort.com/event/merry-mingle-2/
LOCATION:IOB Clubhouse\, 316 Islands Avenue \, Beaufort\, SC\, 29902\, United States
END:VEVENT
BEGIN:VEVENT
DTSTART;TZID=America/New_York:20231208T150000
DTEND;TZID=America/New_York:20231208T150000
DTSTAMP:20260424T165452
CREATED:20231110T170154Z
LAST-MODIFIED:20231110T170154Z
UID:3444-1702047600-1702047600@islandsofbeaufort.com
SUMMARY:MERRY MINGLE SETUP
DESCRIPTION:
URL:https://islandsofbeaufort.com/event/merry-mingle-setup/
END:VEVENT
BEGIN:VEVENT
DTSTART;TZID=America/New_York:20231207T150000
DTEND;TZID=America/New_York:20231207T150000
DTSTAMP:20260424T165452
CREATED:20230111T210048Z
LAST-MODIFIED:20230111T210048Z
UID:3103-1701961200-1701961200@islandsofbeaufort.com
SUMMARY:Grounds & Landscaping Committee
DESCRIPTION:
URL:https://islandsofbeaufort.com/event/grounds-landscaping-committee-12/
END:VEVENT
BEGIN:VEVENT
DTSTART;TZID=America/New_York:20231205T160000
DTEND;TZID=America/New_York:20231205T190000
DTSTAMP:20260424T165452
CREATED:20231110T170742Z
LAST-MODIFIED:20231110T170742Z
UID:3448-1701792000-1701802800@islandsofbeaufort.com
SUMMARY:MEET & GREET
DESCRIPTION:
URL:https://islandsofbeaufort.com/event/meet-greet/
END:VEVENT
BEGIN:VEVENT
DTSTART;TZID=America/New_York:20231204T180000
DTEND;TZID=America/New_York:20231204T200000
DTSTAMP:20260424T165452
CREATED:20230113T200244Z
LAST-MODIFIED:20230113T200244Z
UID:3148-1701712800-1701720000@islandsofbeaufort.com
SUMMARY:Social Committee Meeting
DESCRIPTION:
URL:https://islandsofbeaufort.com/event/social-committee-meeting-10/
LOCATION:IOB Clubhouse\, 316 Islands Avenue \, Beaufort\, SC\, 29902\, United States
END:VEVENT
BEGIN:VEVENT
DTSTART;TZID=America/New_York:20231204T130000
DTEND;TZID=America/New_York:20231204T160000
DTSTAMP:20260424T165452
CREATED:20230131T151449Z
LAST-MODIFIED:20230131T151449Z
UID:3283-1701694800-1701705600@islandsofbeaufort.com
SUMMARY:CLUBHOUSE CLEANING
DESCRIPTION:
URL:https://islandsofbeaufort.com/event/clubhouse-cleaning-49/
END:VEVENT
BEGIN:VEVENT
DTSTART;TZID=America/New_York:20231202T130000
DTEND;TZID=America/New_York:20231202T150000
DTSTAMP:20260424T165452
CREATED:20231122T141633Z
LAST-MODIFIED:20231122T141633Z
UID:3454-1701522000-1701529200@islandsofbeaufort.com
SUMMARY:DAVID SKINNER
DESCRIPTION:
URL:https://islandsofbeaufort.com/event/david-skinner-2/
END:VEVENT
END:VCALENDAR