BEGIN:VCALENDAR
VERSION:2.0
PRODID:-//Islands of Beaufort - ECPv6.15.18//NONSGML v1.0//EN
CALSCALE:GREGORIAN
METHOD:PUBLISH
X-WR-CALNAME:Islands of Beaufort
X-ORIGINAL-URL:https://islandsofbeaufort.com
X-WR-CALDESC:Events for Islands of Beaufort
REFRESH-INTERVAL;VALUE=DURATION:PT1H
X-Robots-Tag:noindex
X-PUBLISHED-TTL:PT1H
BEGIN:VTIMEZONE
TZID:America/New_York
BEGIN:DAYLIGHT
TZOFFSETFROM:-0500
TZOFFSETTO:-0400
TZNAME:EDT
DTSTART:20230312T070000
END:DAYLIGHT
BEGIN:STANDARD
TZOFFSETFROM:-0400
TZOFFSETTO:-0500
TZNAME:EST
DTSTART:20231105T060000
END:STANDARD
BEGIN:DAYLIGHT
TZOFFSETFROM:-0500
TZOFFSETTO:-0400
TZNAME:EDT
DTSTART:20240310T070000
END:DAYLIGHT
BEGIN:STANDARD
TZOFFSETFROM:-0400
TZOFFSETTO:-0500
TZNAME:EST
DTSTART:20241103T060000
END:STANDARD
BEGIN:DAYLIGHT
TZOFFSETFROM:-0500
TZOFFSETTO:-0400
TZNAME:EDT
DTSTART:20250309T070000
END:DAYLIGHT
BEGIN:STANDARD
TZOFFSETFROM:-0400
TZOFFSETTO:-0500
TZNAME:EST
DTSTART:20251102T060000
END:STANDARD
END:VTIMEZONE
BEGIN:VEVENT
DTSTART;TZID=America/New_York:20240802T160000
DTEND;TZID=America/New_York:20240802T180000
DTSTAMP:20260425T062758
CREATED:20231205T193918Z
LAST-MODIFIED:20231205T193918Z
UID:3513-1722614400-1722621600@islandsofbeaufort.com
SUMMARY:MARKETING COMMITTEE
DESCRIPTION:
URL:https://islandsofbeaufort.com/event/marketing-committee-10/
END:VEVENT
BEGIN:VEVENT
DTSTART;TZID=America/New_York:20240730T160000
DTEND;TZID=America/New_York:20240730T180000
DTSTAMP:20260425T062758
CREATED:20240111T153757Z
LAST-MODIFIED:20240111T153757Z
UID:3592-1722355200-1722362400@islandsofbeaufort.com
SUMMARY:OPEN SPACE COMMITTEE
DESCRIPTION:
URL:https://islandsofbeaufort.com/event/open-space-committee-7/
END:VEVENT
BEGIN:VEVENT
DTSTART;TZID=America/New_York:20240729T130000
DTEND;TZID=America/New_York:20240729T160000
DTSTAMP:20260425T062758
CREATED:20240220T163654Z
LAST-MODIFIED:20240220T163654Z
UID:3676-1722258000-1722268800@islandsofbeaufort.com
SUMMARY:CLUBHOUSE CLEANING
DESCRIPTION:
URL:https://islandsofbeaufort.com/event/clubhouse-cleaning-75/
END:VEVENT
BEGIN:VEVENT
DTSTART;TZID=America/New_York:20240723T180000
DTEND;TZID=America/New_York:20240723T200000
DTSTAMP:20260425T062758
CREATED:20240313T134145Z
LAST-MODIFIED:20240313T134145Z
UID:3716-1721757600-1721764800@islandsofbeaufort.com
SUMMARY:GAME NIGHT
DESCRIPTION:
URL:https://islandsofbeaufort.com/event/game-night-29/
END:VEVENT
BEGIN:VEVENT
DTSTART;TZID=America/New_York:20240722T130000
DTEND;TZID=America/New_York:20240722T160000
DTSTAMP:20260425T062758
CREATED:20240220T163653Z
LAST-MODIFIED:20240220T163653Z
UID:3675-1721653200-1721664000@islandsofbeaufort.com
SUMMARY:CLUBHOUSE CLEANING
DESCRIPTION:
URL:https://islandsofbeaufort.com/event/clubhouse-cleaning-74/
END:VEVENT
BEGIN:VEVENT
DTSTART;TZID=America/New_York:20240716T130000
DTEND;TZID=America/New_York:20240716T170000
DTSTAMP:20260425T062758
CREATED:20240207T193431Z
LAST-MODIFIED:20240207T193431Z
UID:3645-1721134800-1721149200@islandsofbeaufort.com
SUMMARY:STITCH CLUB
DESCRIPTION:
URL:https://islandsofbeaufort.com/event/stitch-club-74/
END:VEVENT
BEGIN:VEVENT
DTSTART;TZID=America/New_York:20240715T130000
DTEND;TZID=America/New_York:20240715T160000
DTSTAMP:20260425T062758
CREATED:20240220T163653Z
LAST-MODIFIED:20240220T163653Z
UID:3674-1721048400-1721059200@islandsofbeaufort.com
SUMMARY:CLUBHOUSE CLEANING
DESCRIPTION:
URL:https://islandsofbeaufort.com/event/clubhouse-cleaning-73/
END:VEVENT
BEGIN:VEVENT
DTSTART;TZID=America/New_York:20240709T133000
DTEND;TZID=America/New_York:20240709T133000
DTSTAMP:20260425T062758
CREATED:20240105T164718Z
LAST-MODIFIED:20240105T164718Z
UID:3558-1720531800-1720531800@islandsofbeaufort.com
SUMMARY:IOB BOARD MEETING
DESCRIPTION:
URL:https://islandsofbeaufort.com/event/iob-board-meeting-19/
END:VEVENT
BEGIN:VEVENT
DTSTART;TZID=America/New_York:20240708T130000
DTEND;TZID=America/New_York:20240708T160000
DTSTAMP:20260425T062758
CREATED:20240220T163639Z
LAST-MODIFIED:20240220T163639Z
UID:3673-1720443600-1720454400@islandsofbeaufort.com
SUMMARY:CLUBHOUSE CLEANING
DESCRIPTION:
URL:https://islandsofbeaufort.com/event/clubhouse-cleaning-72/
END:VEVENT
BEGIN:VEVENT
DTSTART;TZID=America/New_York:20240705T160000
DTEND;TZID=America/New_York:20240705T180000
DTSTAMP:20260425T062758
CREATED:20231205T193918Z
LAST-MODIFIED:20231205T193918Z
UID:3512-1720195200-1720202400@islandsofbeaufort.com
SUMMARY:MARKETING COMMITTEE
DESCRIPTION:
URL:https://islandsofbeaufort.com/event/marketing-committee-9/
END:VEVENT
BEGIN:VEVENT
DTSTART;TZID=America/New_York:20240704T093000
DTEND;TZID=America/New_York:20240704T103000
DTSTAMP:20260425T062758
CREATED:20240126T152239Z
LAST-MODIFIED:20240126T152239Z
UID:3602-1720085400-1720089000@islandsofbeaufort.com
SUMMARY:JULY 4TH READING
DESCRIPTION:
URL:https://islandsofbeaufort.com/event/july-4th-reading/
LOCATION:IOB Clubhouse\, 316 Islands Avenue \, Beaufort\, SC\, 29902\, United States
CATEGORIES:Social Event
END:VEVENT
BEGIN:VEVENT
DTSTART;VALUE=DATE:20240704
DTEND;VALUE=DATE:20240705
DTSTAMP:20260425T062758
CREATED:20240206T211605Z
LAST-MODIFIED:20240206T211605Z
UID:3628-1720051200-1720137599@islandsofbeaufort.com
SUMMARY:INDEPENDENCE DAY
DESCRIPTION:
URL:https://islandsofbeaufort.com/event/independence-day/
END:VEVENT
BEGIN:VEVENT
DTSTART;TZID=America/New_York:20240701T180000
DTEND;TZID=America/New_York:20240701T190000
DTSTAMP:20260425T062758
CREATED:20240102T200440Z
LAST-MODIFIED:20240102T200440Z
UID:3536-1719856800-1719860400@islandsofbeaufort.com
SUMMARY:SOCIAL COMMITTEE
DESCRIPTION:
URL:https://islandsofbeaufort.com/event/social-committee-16/
END:VEVENT
BEGIN:VEVENT
DTSTART;TZID=America/New_York:20240701T130000
DTEND;TZID=America/New_York:20240701T160000
DTSTAMP:20260425T062758
CREATED:20240220T163639Z
LAST-MODIFIED:20240220T163639Z
UID:3672-1719838800-1719849600@islandsofbeaufort.com
SUMMARY:CLUBHOUSE CLEANING
DESCRIPTION:
URL:https://islandsofbeaufort.com/event/clubhouse-cleaning-71/
END:VEVENT
BEGIN:VEVENT
DTSTART;TZID=America/New_York:20240625T180000
DTEND;TZID=America/New_York:20240625T200000
DTSTAMP:20260425T062758
CREATED:20240313T134144Z
LAST-MODIFIED:20240313T134144Z
UID:3715-1719338400-1719345600@islandsofbeaufort.com
SUMMARY:GAME NIGHT
DESCRIPTION:
URL:https://islandsofbeaufort.com/event/game-night-28/
END:VEVENT
BEGIN:VEVENT
DTSTART;TZID=America/New_York:20240625T160000
DTEND;TZID=America/New_York:20240625T180000
DTSTAMP:20260425T062758
CREATED:20240111T153757Z
LAST-MODIFIED:20240111T153757Z
UID:3591-1719331200-1719338400@islandsofbeaufort.com
SUMMARY:OPEN SPACE COMMITTEE
DESCRIPTION:
URL:https://islandsofbeaufort.com/event/open-space-committee-6/
END:VEVENT
BEGIN:VEVENT
DTSTART;TZID=America/New_York:20240624T130000
DTEND;TZID=America/New_York:20240624T160000
DTSTAMP:20260425T062758
CREATED:20240220T163639Z
LAST-MODIFIED:20240220T163639Z
UID:3671-1719234000-1719244800@islandsofbeaufort.com
SUMMARY:CLUBHOUSE CLEANING
DESCRIPTION:
URL:https://islandsofbeaufort.com/event/clubhouse-cleaning-70/
END:VEVENT
BEGIN:VEVENT
DTSTART;TZID=America/New_York:20240618T130000
DTEND;TZID=America/New_York:20240618T170000
DTSTAMP:20260425T062758
CREATED:20240207T193431Z
LAST-MODIFIED:20240207T193431Z
UID:3644-1718715600-1718730000@islandsofbeaufort.com
SUMMARY:STITCH CLUB
DESCRIPTION:
URL:https://islandsofbeaufort.com/event/stitch-club-73/
END:VEVENT
BEGIN:VEVENT
DTSTART;TZID=America/New_York:20240617T130000
DTEND;TZID=America/New_York:20240617T160000
DTSTAMP:20260425T062758
CREATED:20240220T163638Z
LAST-MODIFIED:20240220T163638Z
UID:3670-1718629200-1718640000@islandsofbeaufort.com
SUMMARY:CLUBHOUSE CLEANING
DESCRIPTION:
URL:https://islandsofbeaufort.com/event/clubhouse-cleaning-69/
END:VEVENT
BEGIN:VEVENT
DTSTART;TZID=America/New_York:20240614T160000
DTEND;TZID=America/New_York:20240614T180000
DTSTAMP:20260425T062758
CREATED:20231205T193916Z
LAST-MODIFIED:20240319T124859Z
UID:3511-1718380800-1718388000@islandsofbeaufort.com
SUMMARY:MARKETING COMMITTEE
DESCRIPTION:
URL:https://islandsofbeaufort.com/event/marketing-committee-8/
END:VEVENT
BEGIN:VEVENT
DTSTART;TZID=America/New_York:20240611T133000
DTEND;TZID=America/New_York:20240611T133000
DTSTAMP:20260425T062758
CREATED:20240105T164718Z
LAST-MODIFIED:20240105T164718Z
UID:3557-1718112600-1718112600@islandsofbeaufort.com
SUMMARY:IOB BOARD MEETING
DESCRIPTION:
URL:https://islandsofbeaufort.com/event/iob-board-meeting-18/
END:VEVENT
BEGIN:VEVENT
DTSTART;TZID=America/New_York:20240610T130000
DTEND;TZID=America/New_York:20240610T160000
DTSTAMP:20260425T062758
CREATED:20240220T163638Z
LAST-MODIFIED:20240220T163638Z
UID:3669-1718024400-1718035200@islandsofbeaufort.com
SUMMARY:CLUBHOUSE CLEANING
DESCRIPTION:
URL:https://islandsofbeaufort.com/event/clubhouse-cleaning-68/
END:VEVENT
BEGIN:VEVENT
DTSTART;TZID=America/New_York:20240607T110000
DTEND;TZID=America/New_York:20240607T160000
DTSTAMP:20260425T062758
CREATED:20240319T124943Z
LAST-MODIFIED:20240319T124943Z
UID:3724-1717758000-1717776000@islandsofbeaufort.com
SUMMARY:KATHRYN KLINGER
DESCRIPTION:
URL:https://islandsofbeaufort.com/event/kathryn-klinger/
END:VEVENT
BEGIN:VEVENT
DTSTART;TZID=America/New_York:20240603T180000
DTEND;TZID=America/New_York:20240603T190000
DTSTAMP:20260425T062758
CREATED:20240102T200440Z
LAST-MODIFIED:20240102T200440Z
UID:3535-1717437600-1717441200@islandsofbeaufort.com
SUMMARY:SOCIAL COMMITTEE
DESCRIPTION:
URL:https://islandsofbeaufort.com/event/social-committee-15/
END:VEVENT
BEGIN:VEVENT
DTSTART;TZID=America/New_York:20240603T130000
DTEND;TZID=America/New_York:20240603T160000
DTSTAMP:20260425T062758
CREATED:20240220T163624Z
LAST-MODIFIED:20240220T163624Z
UID:3668-1717419600-1717430400@islandsofbeaufort.com
SUMMARY:CLUBHOUSE CLEANING
DESCRIPTION:
URL:https://islandsofbeaufort.com/event/clubhouse-cleaning-67/
END:VEVENT
BEGIN:VEVENT
DTSTART;TZID=America/New_York:20240528T180000
DTEND;TZID=America/New_York:20240528T200000
DTSTAMP:20260425T062758
CREATED:20240313T134144Z
LAST-MODIFIED:20240313T134144Z
UID:3714-1716919200-1716926400@islandsofbeaufort.com
SUMMARY:GAME NIGHT
DESCRIPTION:
URL:https://islandsofbeaufort.com/event/game-night-27/
END:VEVENT
BEGIN:VEVENT
DTSTART;TZID=America/New_York:20240528T160000
DTEND;TZID=America/New_York:20240528T180000
DTSTAMP:20260425T062758
CREATED:20240111T153756Z
LAST-MODIFIED:20240111T153756Z
UID:3590-1716912000-1716919200@islandsofbeaufort.com
SUMMARY:OPEN SPACE COMMITTEE
DESCRIPTION:
URL:https://islandsofbeaufort.com/event/open-space-committee-5/
END:VEVENT
BEGIN:VEVENT
DTSTART;TZID=America/New_York:20240527T130000
DTEND;TZID=America/New_York:20240527T160000
DTSTAMP:20260425T062758
CREATED:20240220T163624Z
LAST-MODIFIED:20240220T163624Z
UID:3667-1716814800-1716825600@islandsofbeaufort.com
SUMMARY:CLUBHOUSE CLEANING
DESCRIPTION:
URL:https://islandsofbeaufort.com/event/clubhouse-cleaning-66/
END:VEVENT
BEGIN:VEVENT
DTSTART;TZID=America/New_York:20240521T130000
DTEND;TZID=America/New_York:20240521T170000
DTSTAMP:20260425T062758
CREATED:20240207T193430Z
LAST-MODIFIED:20240207T193430Z
UID:3643-1716296400-1716310800@islandsofbeaufort.com
SUMMARY:STITCH CLUB
DESCRIPTION:
URL:https://islandsofbeaufort.com/event/stitch-club-72/
END:VEVENT
BEGIN:VEVENT
DTSTART;TZID=America/New_York:20240520T130000
DTEND;TZID=America/New_York:20240520T160000
DTSTAMP:20260425T062758
CREATED:20240220T163623Z
LAST-MODIFIED:20240220T163623Z
UID:3666-1716210000-1716220800@islandsofbeaufort.com
SUMMARY:CLUBHOUSE CLEANING
DESCRIPTION:
URL:https://islandsofbeaufort.com/event/clubhouse-cleaning-65/
END:VEVENT
END:VCALENDAR