BEGIN:VCALENDAR
VERSION:2.0
PRODID:-//Islands of Beaufort - ECPv6.15.18//NONSGML v1.0//EN
CALSCALE:GREGORIAN
METHOD:PUBLISH
X-ORIGINAL-URL:https://islandsofbeaufort.com
X-WR-CALDESC:Events for Islands of Beaufort
REFRESH-INTERVAL;VALUE=DURATION:PT1H
X-Robots-Tag:noindex
X-PUBLISHED-TTL:PT1H
BEGIN:VTIMEZONE
TZID:America/New_York
BEGIN:DAYLIGHT
TZOFFSETFROM:-0500
TZOFFSETTO:-0400
TZNAME:EDT
DTSTART:20250309T070000
END:DAYLIGHT
BEGIN:STANDARD
TZOFFSETFROM:-0400
TZOFFSETTO:-0500
TZNAME:EST
DTSTART:20251102T060000
END:STANDARD
BEGIN:DAYLIGHT
TZOFFSETFROM:-0500
TZOFFSETTO:-0400
TZNAME:EDT
DTSTART:20260308T070000
END:DAYLIGHT
BEGIN:STANDARD
TZOFFSETFROM:-0400
TZOFFSETTO:-0500
TZNAME:EST
DTSTART:20261101T060000
END:STANDARD
BEGIN:DAYLIGHT
TZOFFSETFROM:-0500
TZOFFSETTO:-0400
TZNAME:EDT
DTSTART:20270314T070000
END:DAYLIGHT
BEGIN:STANDARD
TZOFFSETFROM:-0400
TZOFFSETTO:-0500
TZNAME:EST
DTSTART:20271107T060000
END:STANDARD
END:VTIMEZONE
BEGIN:VEVENT
DTSTART;TZID=America/New_York:20260409T120000
DTEND;TZID=America/New_York:20260409T130000
DTSTAMP:20260422T185128
CREATED:20260325T115205Z
LAST-MODIFIED:20260325T115205Z
UID:5252-1775736000-1775739600@islandsofbeaufort.com
SUMMARY:HFH Meeting
DESCRIPTION:
URL:https://islandsofbeaufort.com/event/hfh-meeting/
LOCATION:IOB Clubhouse\, 316 Islands Avenue \, Beaufort\, SC\, 29902\, United States
END:VEVENT
BEGIN:VEVENT
DTSTART;TZID=America/New_York:20260410T160000
DTEND;TZID=America/New_York:20260410T213000
DTSTAMP:20260422T185128
CREATED:20260407T141836Z
LAST-MODIFIED:20260407T141836Z
UID:5260-1775836800-1775856600@islandsofbeaufort.com
SUMMARY:Dore
DESCRIPTION:
URL:https://islandsofbeaufort.com/event/dore-2/
LOCATION:IOB Clubhouse\, 316 Islands Avenue \, Beaufort\, SC\, 29902\, United States
END:VEVENT
BEGIN:VEVENT
DTSTART;TZID=America/New_York:20260411T100000
DTEND;TZID=America/New_York:20260411T200000
DTSTAMP:20260422T185128
CREATED:20260130T170745Z
LAST-MODIFIED:20260130T195859Z
UID:5136-1775901600-1775937600@islandsofbeaufort.com
SUMMARY:Spring Fling!
DESCRIPTION:
URL:https://islandsofbeaufort.com/event/iob-community-event/
LOCATION:IOB Clubhouse\, 316 Islands Avenue \, Beaufort\, SC\, 29902\, United States
END:VEVENT
BEGIN:VEVENT
DTSTART;TZID=America/New_York:20260412T100000
DTEND;TZID=America/New_York:20260412T200000
DTSTAMP:20260422T185128
CREATED:20260305T171416Z
LAST-MODIFIED:20260305T171416Z
UID:5233-1775988000-1776024000@islandsofbeaufort.com
SUMMARY:Spring Fling (rain date)
DESCRIPTION:
URL:https://islandsofbeaufort.com/event/spring-fling-rain-date/
LOCATION:IOB Clubhouse\, 316 Islands Avenue \, Beaufort\, SC\, 29902\, United States
END:VEVENT
BEGIN:VEVENT
DTSTART;TZID=America/New_York:20260413T083000
DTEND;TZID=America/New_York:20260413T133000
DTSTAMP:20260422T185128
CREATED:20260409T114708Z
LAST-MODIFIED:20260409T114708Z
UID:5262-1776069000-1776087000@islandsofbeaufort.com
SUMMARY:Bishop
DESCRIPTION:
URL:https://islandsofbeaufort.com/event/bishop/
LOCATION:IOB Clubhouse\, 316 Islands Avenue \, Beaufort\, SC\, 29902\, United States
END:VEVENT
BEGIN:VEVENT
DTSTART;TZID=America/New_York:20260413T130000
DTEND;TZID=America/New_York:20260413T153000
DTSTAMP:20260422T185128
CREATED:20260120T140651Z
LAST-MODIFIED:20260204T133154Z
UID:5042-1776085200-1776094200@islandsofbeaufort.com
SUMMARY:MAHJONG
DESCRIPTION:
URL:https://islandsofbeaufort.com/event/mahjong-85/
LOCATION:IOB Clubhouse\, 316 Islands Avenue \, Beaufort\, SC\, 29902\, United States
END:VEVENT
BEGIN:VEVENT
DTSTART;TZID=America/New_York:20260413T190000
DTEND;TZID=America/New_York:20260413T210000
DTSTAMP:20260422T185128
CREATED:20250728T132456Z
LAST-MODIFIED:20250728T132456Z
UID:4864-1776106800-1776114000@islandsofbeaufort.com
SUMMARY:IOB Book Club
DESCRIPTION:
URL:https://islandsofbeaufort.com/event/iob-book-club-27/
LOCATION:IOB Clubhouse\, 316 Islands Avenue \, Beaufort\, SC\, 29902\, United States
END:VEVENT
BEGIN:VEVENT
DTSTART;TZID=America/New_York:20260417T173000
DTEND;TZID=America/New_York:20260417T173000
DTSTAMP:20260422T185128
CREATED:20260203T150741Z
LAST-MODIFIED:20260203T150741Z
UID:5147-1776447000-1776447000@islandsofbeaufort.com
SUMMARY:DOCKTAILS
DESCRIPTION:
URL:https://islandsofbeaufort.com/event/docktails-10/
END:VEVENT
BEGIN:VEVENT
DTSTART;TZID=America/New_York:20260420T130000
DTEND;TZID=America/New_York:20260420T153000
DTSTAMP:20260422T185128
CREATED:20260120T140815Z
LAST-MODIFIED:20260204T133202Z
UID:5044-1776690000-1776699000@islandsofbeaufort.com
SUMMARY:MAHJONG
DESCRIPTION:
URL:https://islandsofbeaufort.com/event/mahjong-86/
LOCATION:IOB Clubhouse\, 316 Islands Avenue \, Beaufort\, SC\, 29902\, United States
END:VEVENT
BEGIN:VEVENT
DTSTART;TZID=America/New_York:20260421T130000
DTEND;TZID=America/New_York:20260421T170000
DTSTAMP:20260422T185128
CREATED:20251020T125316Z
LAST-MODIFIED:20251020T125316Z
UID:4927-1776776400-1776790800@islandsofbeaufort.com
SUMMARY:Stitch & Bitch
DESCRIPTION:
URL:https://islandsofbeaufort.com/event/stitch-bitch-7/
LOCATION:IOB Clubhouse\, 316 Islands Avenue \, Beaufort\, SC\, 29902\, United States
END:VEVENT
BEGIN:VEVENT
DTSTART;TZID=America/New_York:20260428T133000
DTEND;TZID=America/New_York:20260428T150000
DTSTAMP:20260422T185128
CREATED:20260128T153248Z
LAST-MODIFIED:20260128T153248Z
UID:5128-1777383000-1777388400@islandsofbeaufort.com
SUMMARY:Open Space Committee
DESCRIPTION:
URL:https://islandsofbeaufort.com/event/open-space-committee-30/
LOCATION:IOB Clubhouse\, 316 Islands Avenue \, Beaufort\, SC\, 29902\, United States
END:VEVENT
BEGIN:VEVENT
DTSTART;TZID=America/New_York:20260504T130000
DTEND;TZID=America/New_York:20260504T153000
DTSTAMP:20260422T185128
CREATED:20260120T140929Z
LAST-MODIFIED:20260204T133028Z
UID:5048-1777899600-1777908600@islandsofbeaufort.com
SUMMARY:MAHJONG
DESCRIPTION:
URL:https://islandsofbeaufort.com/event/mahjong-88/
LOCATION:IOB Clubhouse\, 316 Islands Avenue \, Beaufort\, SC\, 29902\, United States
END:VEVENT
BEGIN:VEVENT
DTSTART;TZID=America/New_York:20260511T130000
DTEND;TZID=America/New_York:20260511T153000
DTSTAMP:20260422T185128
CREATED:20260120T141001Z
LAST-MODIFIED:20260204T133030Z
UID:5050-1778504400-1778513400@islandsofbeaufort.com
SUMMARY:MAHJONG
DESCRIPTION:
URL:https://islandsofbeaufort.com/event/mahjong-89/
LOCATION:IOB Clubhouse\, 316 Islands Avenue \, Beaufort\, SC\, 29902\, United States
END:VEVENT
BEGIN:VEVENT
DTSTART;TZID=America/New_York:20260511T190000
DTEND;TZID=America/New_York:20260511T210000
DTSTAMP:20260422T185128
CREATED:20250728T132524Z
LAST-MODIFIED:20250728T132524Z
UID:4866-1778526000-1778533200@islandsofbeaufort.com
SUMMARY:IOB Book Club
DESCRIPTION:
URL:https://islandsofbeaufort.com/event/iob-book-club-28/
LOCATION:IOB Clubhouse\, 316 Islands Avenue \, Beaufort\, SC\, 29902\, United States
END:VEVENT
BEGIN:VEVENT
DTSTART;TZID=America/New_York:20260512T140000
DTEND;TZID=America/New_York:20260512T160000
DTSTAMP:20260422T185128
CREATED:20260112T143451Z
LAST-MODIFIED:20260112T143451Z
UID:4999-1778594400-1778601600@islandsofbeaufort.com
SUMMARY:Board Meeting
DESCRIPTION:
URL:https://islandsofbeaufort.com/event/board-meeting-3/
LOCATION:IOB Clubhouse\, 316 Islands Avenue \, Beaufort\, SC\, 29902\, United States
END:VEVENT
BEGIN:VEVENT
DTSTART;TZID=America/New_York:20260515T173000
DTEND;TZID=America/New_York:20260515T173000
DTSTAMP:20260422T185128
CREATED:20260203T150831Z
LAST-MODIFIED:20260203T150831Z
UID:5149-1778866200-1778866200@islandsofbeaufort.com
SUMMARY:DOCKTAILS
DESCRIPTION:
URL:https://islandsofbeaufort.com/event/docktails-11/
END:VEVENT
BEGIN:VEVENT
DTSTART;TZID=America/New_York:20260518T140000
DTEND;TZID=America/New_York:20260518T190000
DTSTAMP:20260422T185128
CREATED:20260330T163045Z
LAST-MODIFIED:20260406T165036Z
UID:5255-1779112800-1779130800@islandsofbeaufort.com
SUMMARY:Stamm
DESCRIPTION:
URL:https://islandsofbeaufort.com/event/5255/
LOCATION:IOB Clubhouse\, 316 Islands Avenue \, Beaufort\, SC\, 29902\, United States
END:VEVENT
BEGIN:VEVENT
DTSTART;TZID=America/New_York:20260519T130000
DTEND;TZID=America/New_York:20260519T170000
DTSTAMP:20260422T185128
CREATED:20251020T125510Z
LAST-MODIFIED:20251020T125510Z
UID:4929-1779195600-1779210000@islandsofbeaufort.com
SUMMARY:Stitch & Bitch
DESCRIPTION:
URL:https://islandsofbeaufort.com/event/stitch-bitch-8/
LOCATION:IOB Clubhouse\, 316 Islands Avenue \, Beaufort\, SC\, 29902\, United States
END:VEVENT
BEGIN:VEVENT
DTSTART;TZID=America/New_York:20260525T130000
DTEND;TZID=America/New_York:20260525T153000
DTSTAMP:20260422T185128
CREATED:20260120T141106Z
LAST-MODIFIED:20260204T133034Z
UID:5054-1779714000-1779723000@islandsofbeaufort.com
SUMMARY:MAHJONG
DESCRIPTION:
URL:https://islandsofbeaufort.com/event/mahjong-91/
LOCATION:IOB Clubhouse\, 316 Islands Avenue \, Beaufort\, SC\, 29902\, United States
END:VEVENT
BEGIN:VEVENT
DTSTART;TZID=America/New_York:20260601T130000
DTEND;TZID=America/New_York:20260601T153000
DTSTAMP:20260422T185128
CREATED:20260120T141640Z
LAST-MODIFIED:20260204T133036Z
UID:5056-1780318800-1780327800@islandsofbeaufort.com
SUMMARY:MAHJONG
DESCRIPTION:
URL:https://islandsofbeaufort.com/event/mahjong-92/
LOCATION:IOB Clubhouse\, 316 Islands Avenue \, Beaufort\, SC\, 29902\, United States
END:VEVENT
BEGIN:VEVENT
DTSTART;TZID=America/New_York:20260608T130000
DTEND;TZID=America/New_York:20260608T153000
DTSTAMP:20260422T185128
CREATED:20260120T141709Z
LAST-MODIFIED:20260204T133050Z
UID:5058-1780923600-1780932600@islandsofbeaufort.com
SUMMARY:MAHJONG
DESCRIPTION:
URL:https://islandsofbeaufort.com/event/mahjong-93/
LOCATION:IOB Clubhouse\, 316 Islands Avenue \, Beaufort\, SC\, 29902\, United States
END:VEVENT
BEGIN:VEVENT
DTSTART;TZID=America/New_York:20260615T130000
DTEND;TZID=America/New_York:20260615T153000
DTSTAMP:20260422T185128
CREATED:20260120T141733Z
LAST-MODIFIED:20260204T133057Z
UID:5060-1781528400-1781537400@islandsofbeaufort.com
SUMMARY:MAHJONG
DESCRIPTION:
URL:https://islandsofbeaufort.com/event/mahjong-94/
LOCATION:IOB Clubhouse\, 316 Islands Avenue \, Beaufort\, SC\, 29902\, United States
END:VEVENT
BEGIN:VEVENT
DTSTART;TZID=America/New_York:20260616T130000
DTEND;TZID=America/New_York:20260616T170000
DTSTAMP:20260422T185128
CREATED:20251020T125545Z
LAST-MODIFIED:20251020T125545Z
UID:4931-1781614800-1781629200@islandsofbeaufort.com
SUMMARY:Stitch & Bitch
DESCRIPTION:
URL:https://islandsofbeaufort.com/event/stitch-bitch-9/
LOCATION:IOB Clubhouse\, 316 Islands Avenue \, Beaufort\, SC\, 29902\, United States
END:VEVENT
BEGIN:VEVENT
DTSTART;TZID=America/New_York:20260619T173000
DTEND;TZID=America/New_York:20260619T173000
DTSTAMP:20260422T185128
CREATED:20260203T150904Z
LAST-MODIFIED:20260203T150904Z
UID:5151-1781890200-1781890200@islandsofbeaufort.com
SUMMARY:DOCKTAILS
DESCRIPTION:
URL:https://islandsofbeaufort.com/event/docktails-12/
END:VEVENT
BEGIN:VEVENT
DTSTART;TZID=America/New_York:20260622T130000
DTEND;TZID=America/New_York:20260622T153000
DTSTAMP:20260422T185128
CREATED:20260120T141758Z
LAST-MODIFIED:20260204T133101Z
UID:5062-1782133200-1782142200@islandsofbeaufort.com
SUMMARY:MAHJONG
DESCRIPTION:
URL:https://islandsofbeaufort.com/event/mahjong-95/
LOCATION:IOB Clubhouse\, 316 Islands Avenue \, Beaufort\, SC\, 29902\, United States
END:VEVENT
BEGIN:VEVENT
DTSTART;TZID=America/New_York:20260629T130000
DTEND;TZID=America/New_York:20260629T153000
DTSTAMP:20260422T185128
CREATED:20260120T141826Z
LAST-MODIFIED:20260204T133109Z
UID:5064-1782738000-1782747000@islandsofbeaufort.com
SUMMARY:MAHJONG
DESCRIPTION:
URL:https://islandsofbeaufort.com/event/mahjong-96/
LOCATION:IOB Clubhouse\, 316 Islands Avenue \, Beaufort\, SC\, 29902\, United States
END:VEVENT
BEGIN:VEVENT
DTSTART;TZID=America/New_York:20260630T133000
DTEND;TZID=America/New_York:20260630T150000
DTSTAMP:20260422T185128
CREATED:20260128T153319Z
LAST-MODIFIED:20260128T153319Z
UID:5130-1782826200-1782831600@islandsofbeaufort.com
SUMMARY:Open Space Committee
DESCRIPTION:
URL:https://islandsofbeaufort.com/event/open-space-committee-31/
LOCATION:IOB Clubhouse\, 316 Islands Avenue \, Beaufort\, SC\, 29902\, United States
END:VEVENT
BEGIN:VEVENT
DTSTART;TZID=America/New_York:20260704T100000
DTEND;TZID=America/New_York:20260704T160000
DTSTAMP:20260422T185128
CREATED:20260130T170829Z
LAST-MODIFIED:20260130T195914Z
UID:5138-1783159200-1783180800@islandsofbeaufort.com
SUMMARY:July 4th Party
DESCRIPTION:
URL:https://islandsofbeaufort.com/event/iob-community-event-2/
LOCATION:IOB Clubhouse\, 316 Islands Avenue \, Beaufort\, SC\, 29902\, United States
END:VEVENT
BEGIN:VEVENT
DTSTART;TZID=America/New_York:20260706T130000
DTEND;TZID=America/New_York:20260706T153000
DTSTAMP:20260422T185128
CREATED:20260120T141906Z
LAST-MODIFIED:20260204T133105Z
UID:5066-1783342800-1783351800@islandsofbeaufort.com
SUMMARY:MAHJONG
DESCRIPTION:
URL:https://islandsofbeaufort.com/event/mahjong-97/
LOCATION:IOB Clubhouse\, 316 Islands Avenue \, Beaufort\, SC\, 29902\, United States
END:VEVENT
BEGIN:VEVENT
DTSTART;TZID=America/New_York:20260713T130000
DTEND;TZID=America/New_York:20260713T153000
DTSTAMP:20260422T185128
CREATED:20260120T141943Z
LAST-MODIFIED:20260204T133119Z
UID:5068-1783947600-1783956600@islandsofbeaufort.com
SUMMARY:MAHJONG
DESCRIPTION:
URL:https://islandsofbeaufort.com/event/mahjong-98/
LOCATION:IOB Clubhouse\, 316 Islands Avenue \, Beaufort\, SC\, 29902\, United States
END:VEVENT
END:VCALENDAR