BEGIN:VCALENDAR
VERSION:2.0
PRODID:-//Islands of Beaufort - ECPv6.15.18//NONSGML v1.0//EN
CALSCALE:GREGORIAN
METHOD:PUBLISH
X-WR-CALNAME:Islands of Beaufort
X-ORIGINAL-URL:https://islandsofbeaufort.com
X-WR-CALDESC:Events for Islands of Beaufort
REFRESH-INTERVAL;VALUE=DURATION:PT1H
X-Robots-Tag:noindex
X-PUBLISHED-TTL:PT1H
BEGIN:VTIMEZONE
TZID:America/New_York
BEGIN:DAYLIGHT
TZOFFSETFROM:-0500
TZOFFSETTO:-0400
TZNAME:EDT
DTSTART:20230312T070000
END:DAYLIGHT
BEGIN:STANDARD
TZOFFSETFROM:-0400
TZOFFSETTO:-0500
TZNAME:EST
DTSTART:20231105T060000
END:STANDARD
BEGIN:DAYLIGHT
TZOFFSETFROM:-0500
TZOFFSETTO:-0400
TZNAME:EDT
DTSTART:20240310T070000
END:DAYLIGHT
BEGIN:STANDARD
TZOFFSETFROM:-0400
TZOFFSETTO:-0500
TZNAME:EST
DTSTART:20241103T060000
END:STANDARD
BEGIN:DAYLIGHT
TZOFFSETFROM:-0500
TZOFFSETTO:-0400
TZNAME:EDT
DTSTART:20250309T070000
END:DAYLIGHT
BEGIN:STANDARD
TZOFFSETFROM:-0400
TZOFFSETTO:-0500
TZNAME:EST
DTSTART:20251102T060000
END:STANDARD
END:VTIMEZONE
BEGIN:VEVENT
DTSTART;TZID=America/New_York:20241007T180000
DTEND;TZID=America/New_York:20241007T190000
DTSTAMP:20260424T014348
CREATED:20240102T200440Z
LAST-MODIFIED:20240102T200440Z
UID:3539-1728324000-1728327600@islandsofbeaufort.com
SUMMARY:SOCIAL COMMITTEE
DESCRIPTION:
URL:https://islandsofbeaufort.com/event/social-committee-19/
END:VEVENT
BEGIN:VEVENT
DTSTART;TZID=America/New_York:20241007T140000
DTEND;TZID=America/New_York:20241007T153000
DTSTAMP:20260424T014348
CREATED:20241021T153653Z
LAST-MODIFIED:20241021T153653Z
UID:4397-1728309600-1728315000@islandsofbeaufort.com
SUMMARY:MAHJONG
DESCRIPTION:
URL:https://islandsofbeaufort.com/event/mahjong-6/
END:VEVENT
BEGIN:VEVENT
DTSTART;TZID=America/New_York:20241007T130000
DTEND;TZID=America/New_York:20241007T160000
DTSTAMP:20260424T014348
CREATED:20240220T163910Z
LAST-MODIFIED:20240220T163910Z
UID:3686-1728306000-1728316800@islandsofbeaufort.com
SUMMARY:CLUBHOUSE CLEANING
DESCRIPTION:
URL:https://islandsofbeaufort.com/event/clubhouse-cleaning-85/
END:VEVENT
BEGIN:VEVENT
DTSTART;TZID=America/New_York:20241004T160000
DTEND;TZID=America/New_York:20241004T180000
DTSTAMP:20260424T014348
CREATED:20231205T193919Z
LAST-MODIFIED:20231205T193919Z
UID:3515-1728057600-1728064800@islandsofbeaufort.com
SUMMARY:MARKETING COMMITTEE
DESCRIPTION:
URL:https://islandsofbeaufort.com/event/marketing-committee-12/
END:VEVENT
BEGIN:VEVENT
DTSTART;TZID=America/New_York:20241002T160000
DTEND;TZID=America/New_York:20241002T180000
DTSTAMP:20260424T014348
CREATED:20240917T125243Z
LAST-MODIFIED:20240917T125319Z
UID:4370-1727884800-1727892000@islandsofbeaufort.com
SUMMARY:OPEN SPACE COMMITTEE
DESCRIPTION:
URL:https://islandsofbeaufort.com/event/open-space-committee-12/
END:VEVENT
BEGIN:VEVENT
DTSTART;TZID=America/New_York:20241002T140000
DTEND;TZID=America/New_York:20241002T153000
DTSTAMP:20260424T014348
CREATED:20240917T125025Z
LAST-MODIFIED:20240917T125025Z
UID:4358-1727877600-1727883000@islandsofbeaufort.com
SUMMARY:GAME DAY
DESCRIPTION:
URL:https://islandsofbeaufort.com/event/game-day-5/
END:VEVENT
BEGIN:VEVENT
DTSTART;TZID=America/New_York:20241001T180000
DTEND;TZID=America/New_York:20241001T200000
DTSTAMP:20260424T014348
CREATED:20240313T134146Z
LAST-MODIFIED:20240913T185959Z
UID:3718-1727805600-1727812800@islandsofbeaufort.com
SUMMARY:GAME NIGHT
DESCRIPTION:
URL:https://islandsofbeaufort.com/event/game-night-31/
END:VEVENT
BEGIN:VEVENT
DTSTART;TZID=America/New_York:20240930T140000
DTEND;TZID=America/New_York:20240930T153000
DTSTAMP:20260424T014348
CREATED:20241021T153651Z
LAST-MODIFIED:20241021T153651Z
UID:4396-1727704800-1727710200@islandsofbeaufort.com
SUMMARY:MAHJONG
DESCRIPTION:
URL:https://islandsofbeaufort.com/event/mahjong-5/
END:VEVENT
BEGIN:VEVENT
DTSTART;TZID=America/New_York:20240930T130000
DTEND;TZID=America/New_York:20240930T160000
DTSTAMP:20260424T014348
CREATED:20240220T163910Z
LAST-MODIFIED:20240220T163910Z
UID:3685-1727701200-1727712000@islandsofbeaufort.com
SUMMARY:CLUBHOUSE CLEANING
DESCRIPTION:
URL:https://islandsofbeaufort.com/event/clubhouse-cleaning-84/
END:VEVENT
BEGIN:VEVENT
DTSTART;TZID=America/New_York:20240928T180000
DTEND;TZID=America/New_York:20240928T233000
DTSTAMP:20260424T014348
CREATED:20240910T125813Z
LAST-MODIFIED:20240910T125813Z
UID:4337-1727546400-1727566200@islandsofbeaufort.com
SUMMARY:Football-Bruce Sullivan
DESCRIPTION:
URL:https://islandsofbeaufort.com/event/football-bruce-sullivan/
LOCATION:IOB Clubhouse\, 316 Islands Avenue \, Beaufort\, SC\, 29902\, United States
END:VEVENT
BEGIN:VEVENT
DTSTART;TZID=America/New_York:20240925T140000
DTEND;TZID=America/New_York:20240925T153000
DTSTAMP:20260424T014348
CREATED:20240917T125025Z
LAST-MODIFIED:20240917T125025Z
UID:4357-1727272800-1727278200@islandsofbeaufort.com
SUMMARY:GAME DAY
DESCRIPTION:
URL:https://islandsofbeaufort.com/event/game-day-4/
END:VEVENT
BEGIN:VEVENT
DTSTART;TZID=America/New_York:20240924T160000
DTEND;TZID=America/New_York:20240924T180000
DTSTAMP:20260424T014348
CREATED:20240111T153757Z
LAST-MODIFIED:20240111T153757Z
UID:3594-1727193600-1727200800@islandsofbeaufort.com
SUMMARY:OPEN SPACE COMMITTEE
DESCRIPTION:
URL:https://islandsofbeaufort.com/event/open-space-committee-9/
END:VEVENT
BEGIN:VEVENT
DTSTART;TZID=America/New_York:20240923T140000
DTEND;TZID=America/New_York:20240923T153000
DTSTAMP:20260424T014348
CREATED:20241021T153651Z
LAST-MODIFIED:20241021T153651Z
UID:4395-1727100000-1727105400@islandsofbeaufort.com
SUMMARY:MAHJONG
DESCRIPTION:
URL:https://islandsofbeaufort.com/event/mahjong-4/
END:VEVENT
BEGIN:VEVENT
DTSTART;TZID=America/New_York:20240923T130000
DTEND;TZID=America/New_York:20240923T160000
DTSTAMP:20260424T014348
CREATED:20240220T163910Z
LAST-MODIFIED:20240220T163910Z
UID:3684-1727096400-1727107200@islandsofbeaufort.com
SUMMARY:CLUBHOUSE CLEANING
DESCRIPTION:
URL:https://islandsofbeaufort.com/event/clubhouse-cleaning-83/
END:VEVENT
BEGIN:VEVENT
DTSTART;TZID=America/New_York:20240918T140000
DTEND;TZID=America/New_York:20240918T153000
DTSTAMP:20260424T014348
CREATED:20240917T125025Z
LAST-MODIFIED:20240917T125025Z
UID:4356-1726668000-1726673400@islandsofbeaufort.com
SUMMARY:GAME DAY
DESCRIPTION:
URL:https://islandsofbeaufort.com/event/game-day-3/
END:VEVENT
BEGIN:VEVENT
DTSTART;TZID=America/New_York:20240917T130000
DTEND;TZID=America/New_York:20240917T170000
DTSTAMP:20260424T014348
CREATED:20240207T193432Z
LAST-MODIFIED:20240207T193432Z
UID:3647-1726578000-1726592400@islandsofbeaufort.com
SUMMARY:STITCH CLUB
DESCRIPTION:
URL:https://islandsofbeaufort.com/event/stitch-club-76/
END:VEVENT
BEGIN:VEVENT
DTSTART;TZID=America/New_York:20240916T140000
DTEND;TZID=America/New_York:20240916T153000
DTSTAMP:20260424T014348
CREATED:20241021T153651Z
LAST-MODIFIED:20241021T153651Z
UID:4394-1726495200-1726500600@islandsofbeaufort.com
SUMMARY:MAHJONG
DESCRIPTION:
URL:https://islandsofbeaufort.com/event/mahjong-3/
END:VEVENT
BEGIN:VEVENT
DTSTART;TZID=America/New_York:20240916T130000
DTEND;TZID=America/New_York:20240916T160000
DTSTAMP:20260424T014348
CREATED:20240220T163710Z
LAST-MODIFIED:20240220T163710Z
UID:3683-1726491600-1726502400@islandsofbeaufort.com
SUMMARY:CLUBHOUSE CLEANING
DESCRIPTION:
URL:https://islandsofbeaufort.com/event/clubhouse-cleaning-82/
END:VEVENT
BEGIN:VEVENT
DTSTART;TZID=America/New_York:20240913T160000
DTEND;TZID=America/New_York:20240913T180000
DTSTAMP:20260424T014348
CREATED:20240912T174009Z
LAST-MODIFIED:20240912T174009Z
UID:4346-1726243200-1726250400@islandsofbeaufort.com
SUMMARY:Dominos
DESCRIPTION:
URL:https://islandsofbeaufort.com/event/dominos/
LOCATION:IOB Clubhouse\, 316 Islands Avenue \, Beaufort\, SC\, 29902\, United States
END:VEVENT
BEGIN:VEVENT
DTSTART;TZID=America/New_York:20240911T140000
DTEND;TZID=America/New_York:20240911T153000
DTSTAMP:20260424T014348
CREATED:20240917T125025Z
LAST-MODIFIED:20240917T125025Z
UID:4355-1726063200-1726068600@islandsofbeaufort.com
SUMMARY:GAME DAY
DESCRIPTION:
URL:https://islandsofbeaufort.com/event/game-day-2/
END:VEVENT
BEGIN:VEVENT
DTSTART;TZID=America/New_York:20240910T133000
DTEND;TZID=America/New_York:20240910T133000
DTSTAMP:20260424T014348
CREATED:20240105T164719Z
LAST-MODIFIED:20240105T164719Z
UID:3560-1725975000-1725975000@islandsofbeaufort.com
SUMMARY:IOB BOARD MEETING
DESCRIPTION:
URL:https://islandsofbeaufort.com/event/iob-board-meeting-21/
END:VEVENT
BEGIN:VEVENT
DTSTART;TZID=America/New_York:20240909T190000
DTEND;TZID=America/New_York:20240909T213000
DTSTAMP:20260424T014348
CREATED:20240109T204648Z
LAST-MODIFIED:20240109T204648Z
UID:3577-1725908400-1725917400@islandsofbeaufort.com
SUMMARY:IOB BOOK CLUB
DESCRIPTION:
URL:https://islandsofbeaufort.com/event/iob-book-club-13/
END:VEVENT
BEGIN:VEVENT
DTSTART;TZID=America/New_York:20240909T180000
DTEND;TZID=America/New_York:20240909T190000
DTSTAMP:20260424T014348
CREATED:20240102T200440Z
LAST-MODIFIED:20240102T200440Z
UID:3538-1725904800-1725908400@islandsofbeaufort.com
SUMMARY:SOCIAL COMMITTEE
DESCRIPTION:
URL:https://islandsofbeaufort.com/event/social-committee-18/
END:VEVENT
BEGIN:VEVENT
DTSTART;TZID=America/New_York:20240909T140000
DTEND;TZID=America/New_York:20240909T153000
DTSTAMP:20260424T014348
CREATED:20241021T153651Z
LAST-MODIFIED:20241021T153651Z
UID:4393-1725890400-1725895800@islandsofbeaufort.com
SUMMARY:MAHJONG
DESCRIPTION:
URL:https://islandsofbeaufort.com/event/mahjong-2/
END:VEVENT
BEGIN:VEVENT
DTSTART;TZID=America/New_York:20240909T130000
DTEND;TZID=America/New_York:20240909T160000
DTSTAMP:20260424T014348
CREATED:20240220T163709Z
LAST-MODIFIED:20240220T163709Z
UID:3682-1725886800-1725897600@islandsofbeaufort.com
SUMMARY:CLUBHOUSE CLEANING
DESCRIPTION:
URL:https://islandsofbeaufort.com/event/clubhouse-cleaning-81/
END:VEVENT
BEGIN:VEVENT
DTSTART;TZID=America/New_York:20240906T160000
DTEND;TZID=America/New_York:20240906T180000
DTSTAMP:20260424T014348
CREATED:20231205T193919Z
LAST-MODIFIED:20231205T193919Z
UID:3514-1725638400-1725645600@islandsofbeaufort.com
SUMMARY:MARKETING COMMITTEE
DESCRIPTION:
URL:https://islandsofbeaufort.com/event/marketing-committee-11/
END:VEVENT
BEGIN:VEVENT
DTSTART;TZID=America/New_York:20240904T140000
DTEND;TZID=America/New_York:20240904T153000
DTSTAMP:20260424T014348
CREATED:20240917T125024Z
LAST-MODIFIED:20240917T125024Z
UID:4354-1725458400-1725463800@islandsofbeaufort.com
SUMMARY:GAME DAY
DESCRIPTION:
URL:https://islandsofbeaufort.com/event/game-day/
END:VEVENT
BEGIN:VEVENT
DTSTART;TZID=America/New_York:20240902T130000
DTEND;TZID=America/New_York:20240902T160000
DTSTAMP:20260424T014348
CREATED:20240220T163709Z
LAST-MODIFIED:20240220T163709Z
UID:3681-1725282000-1725292800@islandsofbeaufort.com
SUMMARY:CLUBHOUSE CLEANING
DESCRIPTION:
URL:https://islandsofbeaufort.com/event/clubhouse-cleaning-80/
END:VEVENT
BEGIN:VEVENT
DTSTART;TZID=America/New_York:20240827T180000
DTEND;TZID=America/New_York:20240827T200000
DTSTAMP:20260424T014348
CREATED:20240313T134145Z
LAST-MODIFIED:20240313T134145Z
UID:3717-1724781600-1724788800@islandsofbeaufort.com
SUMMARY:GAME NIGHT
DESCRIPTION:
URL:https://islandsofbeaufort.com/event/game-night-30/
END:VEVENT
BEGIN:VEVENT
DTSTART;TZID=America/New_York:20240827T160000
DTEND;TZID=America/New_York:20240827T180000
DTSTAMP:20260424T014348
CREATED:20240111T153757Z
LAST-MODIFIED:20240111T153757Z
UID:3593-1724774400-1724781600@islandsofbeaufort.com
SUMMARY:OPEN SPACE COMMITTEE
DESCRIPTION:
URL:https://islandsofbeaufort.com/event/open-space-committee-8/
END:VEVENT
END:VCALENDAR