BEGIN:VCALENDAR
VERSION:2.0
PRODID:-//Islands of Beaufort - ECPv6.15.18//NONSGML v1.0//EN
CALSCALE:GREGORIAN
METHOD:PUBLISH
X-WR-CALNAME:Islands of Beaufort
X-ORIGINAL-URL:https://islandsofbeaufort.com
X-WR-CALDESC:Events for Islands of Beaufort
REFRESH-INTERVAL;VALUE=DURATION:PT1H
X-Robots-Tag:noindex
X-PUBLISHED-TTL:PT1H
BEGIN:VTIMEZONE
TZID:America/New_York
BEGIN:DAYLIGHT
TZOFFSETFROM:-0500
TZOFFSETTO:-0400
TZNAME:EDT
DTSTART:20230312T070000
END:DAYLIGHT
BEGIN:STANDARD
TZOFFSETFROM:-0400
TZOFFSETTO:-0500
TZNAME:EST
DTSTART:20231105T060000
END:STANDARD
BEGIN:DAYLIGHT
TZOFFSETFROM:-0500
TZOFFSETTO:-0400
TZNAME:EDT
DTSTART:20240310T070000
END:DAYLIGHT
BEGIN:STANDARD
TZOFFSETFROM:-0400
TZOFFSETTO:-0500
TZNAME:EST
DTSTART:20241103T060000
END:STANDARD
BEGIN:DAYLIGHT
TZOFFSETFROM:-0500
TZOFFSETTO:-0400
TZNAME:EDT
DTSTART:20250309T070000
END:DAYLIGHT
BEGIN:STANDARD
TZOFFSETFROM:-0400
TZOFFSETTO:-0500
TZNAME:EST
DTSTART:20251102T060000
END:STANDARD
END:VTIMEZONE
BEGIN:VEVENT
DTSTART;TZID=America/New_York:20241118T130000
DTEND;TZID=America/New_York:20241118T160000
DTSTAMP:20260422T060649
CREATED:20240220T164111Z
LAST-MODIFIED:20240220T164111Z
UID:3692-1731934800-1731945600@islandsofbeaufort.com
SUMMARY:CLUBHOUSE CLEANING
DESCRIPTION:
URL:https://islandsofbeaufort.com/event/clubhouse-cleaning-91/
END:VEVENT
BEGIN:VEVENT
DTSTART;VALUE=DATE:20241116
DTEND;VALUE=DATE:20241117
DTSTAMP:20260422T060649
CREATED:20241111T135322Z
LAST-MODIFIED:20241111T135322Z
UID:4416-1731715200-1731801599@islandsofbeaufort.com
SUMMARY:MITCHELL RESERVATION
DESCRIPTION:
URL:https://islandsofbeaufort.com/event/mitchell-reservation/
END:VEVENT
BEGIN:VEVENT
DTSTART;TZID=America/New_York:20241113T140000
DTEND;TZID=America/New_York:20241113T153000
DTSTAMP:20260422T060649
CREATED:20240917T125042Z
LAST-MODIFIED:20240917T125042Z
UID:4364-1731506400-1731511800@islandsofbeaufort.com
SUMMARY:GAME DAY
DESCRIPTION:
URL:https://islandsofbeaufort.com/event/game-day-11/
END:VEVENT
BEGIN:VEVENT
DTSTART;TZID=America/New_York:20241112T133000
DTEND;TZID=America/New_York:20241112T133000
DTSTAMP:20260422T060649
CREATED:20240105T164733Z
LAST-MODIFIED:20240105T164733Z
UID:3562-1731418200-1731418200@islandsofbeaufort.com
SUMMARY:IOB BOARD MEETING
DESCRIPTION:
URL:https://islandsofbeaufort.com/event/iob-board-meeting-23/
END:VEVENT
BEGIN:VEVENT
DTSTART;TZID=America/New_York:20241111T190000
DTEND;TZID=America/New_York:20241111T213000
DTSTAMP:20260422T060649
CREATED:20240109T204649Z
LAST-MODIFIED:20240109T204650Z
UID:3579-1731351600-1731360600@islandsofbeaufort.com
SUMMARY:IOB BOOK CLUB
DESCRIPTION:
URL:https://islandsofbeaufort.com/event/iob-book-club-15/
END:VEVENT
BEGIN:VEVENT
DTSTART;TZID=America/New_York:20241111T140000
DTEND;TZID=America/New_York:20241111T153000
DTSTAMP:20260422T060649
CREATED:20241021T153708Z
LAST-MODIFIED:20241021T153708Z
UID:4402-1731333600-1731339000@islandsofbeaufort.com
SUMMARY:MAHJONG
DESCRIPTION:
URL:https://islandsofbeaufort.com/event/mahjong-11/
END:VEVENT
BEGIN:VEVENT
DTSTART;TZID=America/New_York:20241111T130000
DTEND;TZID=America/New_York:20241111T160000
DTSTAMP:20260422T060649
CREATED:20240220T164111Z
LAST-MODIFIED:20240220T164111Z
UID:3691-1731330000-1731340800@islandsofbeaufort.com
SUMMARY:CLUBHOUSE CLEANING
DESCRIPTION:
URL:https://islandsofbeaufort.com/event/clubhouse-cleaning-90/
END:VEVENT
BEGIN:VEVENT
DTSTART;TZID=America/New_York:20241106T140000
DTEND;TZID=America/New_York:20241106T153000
DTSTAMP:20260422T060649
CREATED:20240917T125028Z
LAST-MODIFIED:20240917T125028Z
UID:4363-1730901600-1730907000@islandsofbeaufort.com
SUMMARY:GAME DAY
DESCRIPTION:
URL:https://islandsofbeaufort.com/event/game-day-10/
END:VEVENT
BEGIN:VEVENT
DTSTART;TZID=America/New_York:20241104T180000
DTEND;TZID=America/New_York:20241104T190000
DTSTAMP:20260422T060649
CREATED:20240102T200455Z
LAST-MODIFIED:20240102T200455Z
UID:3540-1730743200-1730746800@islandsofbeaufort.com
SUMMARY:SOCIAL COMMITTEE
DESCRIPTION:
URL:https://islandsofbeaufort.com/event/social-committee-20/
END:VEVENT
BEGIN:VEVENT
DTSTART;TZID=America/New_York:20241104T140000
DTEND;TZID=America/New_York:20241104T153000
DTSTAMP:20260422T060649
CREATED:20241021T153654Z
LAST-MODIFIED:20241021T153654Z
UID:4401-1730728800-1730734200@islandsofbeaufort.com
SUMMARY:MAHJONG
DESCRIPTION:
URL:https://islandsofbeaufort.com/event/mahjong-10/
END:VEVENT
BEGIN:VEVENT
DTSTART;TZID=America/New_York:20241104T130000
DTEND;TZID=America/New_York:20241104T160000
DTSTAMP:20260422T060649
CREATED:20240220T164111Z
LAST-MODIFIED:20240220T164111Z
UID:3690-1730725200-1730736000@islandsofbeaufort.com
SUMMARY:CLUBHOUSE CLEANING
DESCRIPTION:
URL:https://islandsofbeaufort.com/event/clubhouse-cleaning-89/
END:VEVENT
BEGIN:VEVENT
DTSTART;TZID=America/New_York:20241101T160000
DTEND;TZID=America/New_York:20241101T180000
DTSTAMP:20260422T060649
CREATED:20231205T193919Z
LAST-MODIFIED:20231205T193919Z
UID:3516-1730476800-1730484000@islandsofbeaufort.com
SUMMARY:MARKETING COMMITTEE
DESCRIPTION:
URL:https://islandsofbeaufort.com/event/marketing-committee-13/
END:VEVENT
BEGIN:VEVENT
DTSTART;TZID=America/New_York:20241030T140000
DTEND;TZID=America/New_York:20241030T153000
DTSTAMP:20260422T060649
CREATED:20240917T125028Z
LAST-MODIFIED:20240917T125028Z
UID:4362-1730296800-1730302200@islandsofbeaufort.com
SUMMARY:GAME DAY
DESCRIPTION:
URL:https://islandsofbeaufort.com/event/game-day-9/
END:VEVENT
BEGIN:VEVENT
DTSTART;TZID=America/New_York:20241029T180000
DTEND;TZID=America/New_York:20241029T200000
DTSTAMP:20260422T060649
CREATED:20240313T134146Z
LAST-MODIFIED:20240913T190038Z
UID:3719-1730224800-1730232000@islandsofbeaufort.com
SUMMARY:GAME NIGHT
DESCRIPTION:
URL:https://islandsofbeaufort.com/event/game-night-32/
END:VEVENT
BEGIN:VEVENT
DTSTART;TZID=America/New_York:20241029T160000
DTEND;TZID=America/New_York:20241029T180000
DTSTAMP:20260422T060649
CREATED:20240111T153757Z
LAST-MODIFIED:20240111T153757Z
UID:3595-1730217600-1730224800@islandsofbeaufort.com
SUMMARY:OPEN SPACE COMMITTEE
DESCRIPTION:
URL:https://islandsofbeaufort.com/event/open-space-committee-10/
END:VEVENT
BEGIN:VEVENT
DTSTART;TZID=America/New_York:20241028T140000
DTEND;TZID=America/New_York:20241028T153000
DTSTAMP:20260422T060649
CREATED:20241021T153653Z
LAST-MODIFIED:20241021T153653Z
UID:4400-1730124000-1730129400@islandsofbeaufort.com
SUMMARY:MAHJONG
DESCRIPTION:
URL:https://islandsofbeaufort.com/event/mahjong-9/
END:VEVENT
BEGIN:VEVENT
DTSTART;TZID=America/New_York:20241028T130000
DTEND;TZID=America/New_York:20241028T160000
DTSTAMP:20260422T060649
CREATED:20240220T164111Z
LAST-MODIFIED:20240220T164111Z
UID:3689-1730120400-1730131200@islandsofbeaufort.com
SUMMARY:CLUBHOUSE CLEANING
DESCRIPTION:
URL:https://islandsofbeaufort.com/event/clubhouse-cleaning-88/
END:VEVENT
BEGIN:VEVENT
DTSTART;TZID=America/New_York:20241026T110000
DTEND;TZID=America/New_York:20241026T130000
DTSTAMP:20260422T060649
CREATED:20240918T134533Z
LAST-MODIFIED:20241021T124106Z
UID:4372-1729940400-1729947600@islandsofbeaufort.com
SUMMARY:Bobbie Elder for Water Aerobics Brunch
DESCRIPTION:
URL:https://islandsofbeaufort.com/event/bobbie-elder-for-water-aerobics-brunch/
LOCATION:IOB Clubhouse\, 316 Islands Avenue \, Beaufort\, SC\, 29902\, United States
END:VEVENT
BEGIN:VEVENT
DTSTART;TZID=America/New_York:20241023T140000
DTEND;TZID=America/New_York:20241023T153000
DTSTAMP:20260422T060649
CREATED:20240917T125028Z
LAST-MODIFIED:20240917T125028Z
UID:4361-1729692000-1729697400@islandsofbeaufort.com
SUMMARY:GAME DAY
DESCRIPTION:
URL:https://islandsofbeaufort.com/event/game-day-8/
END:VEVENT
BEGIN:VEVENT
DTSTART;TZID=America/New_York:20241021T140000
DTEND;TZID=America/New_York:20241021T153000
DTSTAMP:20260422T060649
CREATED:20241021T153653Z
LAST-MODIFIED:20241021T153653Z
UID:4399-1729519200-1729524600@islandsofbeaufort.com
SUMMARY:MAHJONG
DESCRIPTION:
URL:https://islandsofbeaufort.com/event/mahjong-8/
END:VEVENT
BEGIN:VEVENT
DTSTART;TZID=America/New_York:20241021T130000
DTEND;TZID=America/New_York:20241021T160000
DTSTAMP:20260422T060649
CREATED:20240220T163911Z
LAST-MODIFIED:20240220T163911Z
UID:3688-1729515600-1729526400@islandsofbeaufort.com
SUMMARY:CLUBHOUSE CLEANING
DESCRIPTION:
URL:https://islandsofbeaufort.com/event/clubhouse-cleaning-87/
END:VEVENT
BEGIN:VEVENT
DTSTART;TZID=America/New_York:20241019T183000
DTEND;TZID=America/New_York:20241019T220000
DTSTAMP:20260422T060649
CREATED:20240126T152333Z
LAST-MODIFIED:20240126T152333Z
UID:3604-1729362600-1729375200@islandsofbeaufort.com
SUMMARY:ANNUAL PARTY
DESCRIPTION:
URL:https://islandsofbeaufort.com/event/annual-party-2/
LOCATION:IOB Clubhouse\, 316 Islands Avenue \, Beaufort\, SC\, 29902\, United States
CATEGORIES:Social Event
END:VEVENT
BEGIN:VEVENT
DTSTART;TZID=America/New_York:20241016T140000
DTEND;TZID=America/New_York:20241016T153000
DTSTAMP:20260422T060649
CREATED:20240917T125027Z
LAST-MODIFIED:20240917T125027Z
UID:4360-1729087200-1729092600@islandsofbeaufort.com
SUMMARY:GAME DAY
DESCRIPTION:
URL:https://islandsofbeaufort.com/event/game-day-7/
END:VEVENT
BEGIN:VEVENT
DTSTART;TZID=America/New_York:20241015T180000
DTEND;TZID=America/New_York:20241015T200000
DTSTAMP:20260422T060649
CREATED:20241011T184359Z
LAST-MODIFIED:20241011T201605Z
UID:4384-1729015200-1729022400@islandsofbeaufort.com
SUMMARY:Private Event- Mitchell
DESCRIPTION:
URL:https://islandsofbeaufort.com/event/campaign-event/
END:VEVENT
BEGIN:VEVENT
DTSTART;TZID=America/New_York:20241015T130000
DTEND;TZID=America/New_York:20241015T170000
DTSTAMP:20260422T060649
CREATED:20240207T193432Z
LAST-MODIFIED:20240207T193432Z
UID:3648-1728997200-1729011600@islandsofbeaufort.com
SUMMARY:STITCH CLUB
DESCRIPTION:
URL:https://islandsofbeaufort.com/event/stitch-club-77/
END:VEVENT
BEGIN:VEVENT
DTSTART;TZID=America/New_York:20241014T190000
DTEND;TZID=America/New_York:20241014T213000
DTSTAMP:20260422T060649
CREATED:20240109T204649Z
LAST-MODIFIED:20240109T204650Z
UID:3578-1728932400-1728941400@islandsofbeaufort.com
SUMMARY:IOB BOOK CLUB
DESCRIPTION:
URL:https://islandsofbeaufort.com/event/iob-book-club-14/
END:VEVENT
BEGIN:VEVENT
DTSTART;TZID=America/New_York:20241014T140000
DTEND;TZID=America/New_York:20241014T153000
DTSTAMP:20260422T060649
CREATED:20241021T153653Z
LAST-MODIFIED:20241021T153653Z
UID:4398-1728914400-1728919800@islandsofbeaufort.com
SUMMARY:MAHJONG
DESCRIPTION:
URL:https://islandsofbeaufort.com/event/mahjong-7/
END:VEVENT
BEGIN:VEVENT
DTSTART;TZID=America/New_York:20241014T130000
DTEND;TZID=America/New_York:20241014T160000
DTSTAMP:20260422T060649
CREATED:20240220T163910Z
LAST-MODIFIED:20240220T163910Z
UID:3687-1728910800-1728921600@islandsofbeaufort.com
SUMMARY:CLUBHOUSE CLEANING
DESCRIPTION:
URL:https://islandsofbeaufort.com/event/clubhouse-cleaning-86/
END:VEVENT
BEGIN:VEVENT
DTSTART;TZID=America/New_York:20241012T130000
DTEND;TZID=America/New_York:20241012T150000
DTSTAMP:20260422T060649
CREATED:20241004T152602Z
LAST-MODIFIED:20241004T152602Z
UID:4382-1728738000-1728745200@islandsofbeaufort.com
SUMMARY:Reserved by Cameron Staiger
DESCRIPTION:
URL:https://islandsofbeaufort.com/event/reserved-by-cameron-staiger/
LOCATION:IOB Clubhouse\, 316 Islands Avenue \, Beaufort\, SC\, 29902\, United States
END:VEVENT
BEGIN:VEVENT
DTSTART;TZID=America/New_York:20241009T140000
DTEND;TZID=America/New_York:20241009T153000
DTSTAMP:20260422T060649
CREATED:20240917T125027Z
LAST-MODIFIED:20240917T125027Z
UID:4359-1728482400-1728487800@islandsofbeaufort.com
SUMMARY:GAME DAY
DESCRIPTION:
URL:https://islandsofbeaufort.com/event/game-day-6/
END:VEVENT
END:VCALENDAR