BEGIN:VCALENDAR
VERSION:2.0
PRODID:-//Islands of Beaufort - ECPv6.15.18//NONSGML v1.0//EN
CALSCALE:GREGORIAN
METHOD:PUBLISH
X-WR-CALNAME:Islands of Beaufort
X-ORIGINAL-URL:https://islandsofbeaufort.com
X-WR-CALDESC:Events for Islands of Beaufort
REFRESH-INTERVAL;VALUE=DURATION:PT1H
X-Robots-Tag:noindex
X-PUBLISHED-TTL:PT1H
BEGIN:VTIMEZONE
TZID:America/New_York
BEGIN:DAYLIGHT
TZOFFSETFROM:-0500
TZOFFSETTO:-0400
TZNAME:EDT
DTSTART:20240310T070000
END:DAYLIGHT
BEGIN:STANDARD
TZOFFSETFROM:-0400
TZOFFSETTO:-0500
TZNAME:EST
DTSTART:20241103T060000
END:STANDARD
BEGIN:DAYLIGHT
TZOFFSETFROM:-0500
TZOFFSETTO:-0400
TZNAME:EDT
DTSTART:20250309T070000
END:DAYLIGHT
BEGIN:STANDARD
TZOFFSETFROM:-0400
TZOFFSETTO:-0500
TZNAME:EST
DTSTART:20251102T060000
END:STANDARD
BEGIN:DAYLIGHT
TZOFFSETFROM:-0500
TZOFFSETTO:-0400
TZNAME:EDT
DTSTART:20260308T070000
END:DAYLIGHT
BEGIN:STANDARD
TZOFFSETFROM:-0400
TZOFFSETTO:-0500
TZNAME:EST
DTSTART:20261101T060000
END:STANDARD
BEGIN:DAYLIGHT
TZOFFSETFROM:-0500
TZOFFSETTO:-0400
TZNAME:EDT
DTSTART:20270314T070000
END:DAYLIGHT
BEGIN:STANDARD
TZOFFSETFROM:-0400
TZOFFSETTO:-0500
TZNAME:EST
DTSTART:20271107T060000
END:STANDARD
END:VTIMEZONE
BEGIN:VEVENT
DTSTART;TZID=America/New_York:20251213T180000
DTEND;TZID=America/New_York:20251213T220000
DTSTAMP:20260422T180517
CREATED:20250814T210206Z
LAST-MODIFIED:20250814T210206Z
UID:4883-1765648800-1765663200@islandsofbeaufort.com
SUMMARY:Merry Mingle-(Tentative)
DESCRIPTION:
URL:https://islandsofbeaufort.com/event/merry-mingle-tentative/
LOCATION:IOB Clubhouse\, 316 Islands Avenue \, Beaufort\, SC\, 29902\, United States
END:VEVENT
BEGIN:VEVENT
DTSTART;TZID=America/New_York:20251215T130000
DTEND;TZID=America/New_York:20251215T153000
DTSTAMP:20260422T180517
CREATED:20250102T211653Z
LAST-MODIFIED:20260204T132548Z
UID:4524-1765803600-1765812600@islandsofbeaufort.com
SUMMARY:MAHJONG
DESCRIPTION:
URL:https://islandsofbeaufort.com/event/mahjong-68/
END:VEVENT
BEGIN:VEVENT
DTSTART;TZID=America/New_York:20251215T130000
DTEND;TZID=America/New_York:20251215T160000
DTSTAMP:20260422T180517
CREATED:20250106T192003Z
LAST-MODIFIED:20250106T192003Z
UID:4584-1765803600-1765814400@islandsofbeaufort.com
SUMMARY:CLUBHOUSE CLEANING
DESCRIPTION:
URL:https://islandsofbeaufort.com/event/clubhouse-cleaning-147/
END:VEVENT
BEGIN:VEVENT
DTSTART;TZID=America/New_York:20251216T130000
DTEND;TZID=America/New_York:20251216T170000
DTSTAMP:20260422T180517
CREATED:20251020T124817Z
LAST-MODIFIED:20251020T124817Z
UID:4918-1765890000-1765904400@islandsofbeaufort.com
SUMMARY:Stitch & Bitch
DESCRIPTION:
URL:https://islandsofbeaufort.com/event/stitch-bitch-3/
LOCATION:IOB Clubhouse\, 316 Islands Avenue \, Beaufort\, SC\, 29902\, United States
END:VEVENT
BEGIN:VEVENT
DTSTART;TZID=America/New_York:20251222T130000
DTEND;TZID=America/New_York:20251222T153000
DTSTAMP:20260422T180517
CREATED:20250102T211853Z
LAST-MODIFIED:20260204T132552Z
UID:4525-1766408400-1766417400@islandsofbeaufort.com
SUMMARY:MAHJONG
DESCRIPTION:
URL:https://islandsofbeaufort.com/event/mahjong-69/
END:VEVENT
BEGIN:VEVENT
DTSTART;TZID=America/New_York:20251222T130000
DTEND;TZID=America/New_York:20251222T160000
DTSTAMP:20260422T180517
CREATED:20250106T192201Z
LAST-MODIFIED:20250106T192201Z
UID:4585-1766408400-1766419200@islandsofbeaufort.com
SUMMARY:CLUBHOUSE CLEANING
DESCRIPTION:
URL:https://islandsofbeaufort.com/event/clubhouse-cleaning-148/
END:VEVENT
BEGIN:VEVENT
DTSTART;TZID=America/New_York:20251229T130000
DTEND;TZID=America/New_York:20251229T153000
DTSTAMP:20260422T180517
CREATED:20250102T211853Z
LAST-MODIFIED:20260204T132551Z
UID:4526-1767013200-1767022200@islandsofbeaufort.com
SUMMARY:MAHJONG
DESCRIPTION:
URL:https://islandsofbeaufort.com/event/mahjong-70/
END:VEVENT
BEGIN:VEVENT
DTSTART;TZID=America/New_York:20251229T130000
DTEND;TZID=America/New_York:20251229T160000
DTSTAMP:20260422T180517
CREATED:20250106T192202Z
LAST-MODIFIED:20250106T192202Z
UID:4586-1767013200-1767024000@islandsofbeaufort.com
SUMMARY:CLUBHOUSE CLEANING
DESCRIPTION:
URL:https://islandsofbeaufort.com/event/clubhouse-cleaning-149/
END:VEVENT
BEGIN:VEVENT
DTSTART;TZID=America/New_York:20251230T133000
DTEND;TZID=America/New_York:20251230T150000
DTSTAMP:20260422T180517
CREATED:20241212T192632Z
LAST-MODIFIED:20250822T133341Z
UID:4448-1767101400-1767106800@islandsofbeaufort.com
SUMMARY:OPEN SPACE COMMITTEE
DESCRIPTION:
URL:https://islandsofbeaufort.com/event/open-space-committee-24/
LOCATION:IOB Clubhouse\, 316 Islands Avenue \, Beaufort\, SC\, 29902\, United States
END:VEVENT
BEGIN:VEVENT
DTSTART;TZID=America/New_York:20260104T173000
DTEND;TZID=America/New_York:20260104T193000
DTSTAMP:20260422T180517
CREATED:20251229T153034Z
LAST-MODIFIED:20251229T153034Z
UID:4984-1767547800-1767555000@islandsofbeaufort.com
SUMMARY:Skinner
DESCRIPTION:
URL:https://islandsofbeaufort.com/event/skinner-10/
LOCATION:IOB Clubhouse\, 316 Islands Avenue \, Beaufort\, SC\, 29902\, United States
END:VEVENT
BEGIN:VEVENT
DTSTART;TZID=America/New_York:20260105T130000
DTEND;TZID=America/New_York:20260105T153000
DTSTAMP:20260422T180517
CREATED:20260116T171133Z
LAST-MODIFIED:20260204T132555Z
UID:5012-1767618000-1767627000@islandsofbeaufort.com
SUMMARY:MAHJONG
DESCRIPTION:
URL:https://islandsofbeaufort.com/event/mahjong-71/
LOCATION:IOB Clubhouse\, 316 Islands Avenue \, Beaufort\, SC\, 29902\, United States
END:VEVENT
BEGIN:VEVENT
DTSTART;TZID=America/New_York:20260106T133000
DTEND;TZID=America/New_York:20260106T150000
DTSTAMP:20260422T180517
CREATED:20260105T135918Z
LAST-MODIFIED:20260105T135918Z
UID:4986-1767706200-1767711600@islandsofbeaufort.com
SUMMARY:OPEN SPACE COMMITTEE
DESCRIPTION:
URL:https://islandsofbeaufort.com/event/open-space-committee-27/
LOCATION:IOB Clubhouse\, 316 Islands Avenue \, Beaufort\, SC\, 29902\, United States
END:VEVENT
BEGIN:VEVENT
DTSTART;TZID=America/New_York:20260112T130000
DTEND;TZID=America/New_York:20260112T153000
DTSTAMP:20260422T180517
CREATED:20260116T171238Z
LAST-MODIFIED:20260204T132602Z
UID:5014-1768222800-1768231800@islandsofbeaufort.com
SUMMARY:MAHJONG
DESCRIPTION:
URL:https://islandsofbeaufort.com/event/mahjong-72/
LOCATION:IOB Clubhouse\, 316 Islands Avenue \, Beaufort\, SC\, 29902\, United States
END:VEVENT
BEGIN:VEVENT
DTSTART;TZID=America/New_York:20260112T190000
DTEND;TZID=America/New_York:20260112T210000
DTSTAMP:20260422T180517
CREATED:20250728T132326Z
LAST-MODIFIED:20250728T132326Z
UID:4858-1768244400-1768251600@islandsofbeaufort.com
SUMMARY:IOB Book Club
DESCRIPTION:
URL:https://islandsofbeaufort.com/event/iob-book-club-24/
LOCATION:IOB Clubhouse\, 316 Islands Avenue \, Beaufort\, SC\, 29902\, United States
END:VEVENT
BEGIN:VEVENT
DTSTART;TZID=America/New_York:20260113T140000
DTEND;TZID=America/New_York:20260113T160000
DTSTAMP:20260422T180517
CREATED:20260112T143135Z
LAST-MODIFIED:20260112T143135Z
UID:4995-1768312800-1768320000@islandsofbeaufort.com
SUMMARY:Board Meeting
DESCRIPTION:
URL:https://islandsofbeaufort.com/event/board-meeting/
LOCATION:IOB Clubhouse\, 316 Islands Avenue \, Beaufort\, SC\, 29902\, United States
END:VEVENT
BEGIN:VEVENT
DTSTART;TZID=America/New_York:20260119T130000
DTEND;TZID=America/New_York:20260119T153000
DTSTAMP:20260422T180517
CREATED:20260116T172007Z
LAST-MODIFIED:20260204T132609Z
UID:5016-1768827600-1768836600@islandsofbeaufort.com
SUMMARY:MAHJONG
DESCRIPTION:
URL:https://islandsofbeaufort.com/event/mahjong-73/
LOCATION:IOB Clubhouse\, 316 Islands Avenue \, Beaufort\, SC\, 29902\, United States
END:VEVENT
BEGIN:VEVENT
DTSTART;TZID=America/New_York:20260120T130000
DTEND;TZID=America/New_York:20260120T170000
DTSTAMP:20260422T180517
CREATED:20251020T125033Z
LAST-MODIFIED:20251020T125033Z
UID:4920-1768914000-1768928400@islandsofbeaufort.com
SUMMARY:Stitch & Bitch
DESCRIPTION:
URL:https://islandsofbeaufort.com/event/stitch-bitch-4/
LOCATION:IOB Clubhouse\, 316 Islands Avenue \, Beaufort\, SC\, 29902\, United States
END:VEVENT
BEGIN:VEVENT
DTSTART;TZID=America/New_York:20260126T130000
DTEND;TZID=America/New_York:20260126T153000
DTSTAMP:20260422T180517
CREATED:20260116T172345Z
LAST-MODIFIED:20260204T132618Z
UID:5018-1769432400-1769441400@islandsofbeaufort.com
SUMMARY:MAHJONG
DESCRIPTION:
URL:https://islandsofbeaufort.com/event/mahjong-74/
LOCATION:IOB Clubhouse\, 316 Islands Avenue \, Beaufort\, SC\, 29902\, United States
END:VEVENT
BEGIN:VEVENT
DTSTART;TZID=America/New_York:20260126T160000
DTEND;TZID=America/New_York:20260126T170000
DTSTAMP:20260422T180517
CREATED:20260120T145736Z
LAST-MODIFIED:20260120T145736Z
UID:5094-1769443200-1769446800@islandsofbeaufort.com
SUMMARY:GROUNDS & LANDSCAPE Meeting
DESCRIPTION:
URL:https://islandsofbeaufort.com/event/grounds-landscape-meeting/
END:VEVENT
BEGIN:VEVENT
DTSTART;TZID=America/New_York:20260202T130000
DTEND;TZID=America/New_York:20260202T153000
DTSTAMP:20260422T180517
CREATED:20260120T133720Z
LAST-MODIFIED:20260204T132622Z
UID:5022-1770037200-1770046200@islandsofbeaufort.com
SUMMARY:MAHJONG
DESCRIPTION:
URL:https://islandsofbeaufort.com/event/mahjong-75/
LOCATION:IOB Clubhouse\, 316 Islands Avenue \, Beaufort\, SC\, 29902\, United States
END:VEVENT
BEGIN:VEVENT
DTSTART;VALUE=DATE:20260203
DTEND;VALUE=DATE:20260204
DTSTAMP:20260422T180517
CREATED:20260203T151301Z
LAST-MODIFIED:20260203T151301Z
UID:5161-1770076800-1770163199@islandsofbeaufort.com
SUMMARY:PICNIC IN THE PARK - BLOCK PARTY
DESCRIPTION:
URL:https://islandsofbeaufort.com/event/picnic-in-the-park-block-party/
END:VEVENT
BEGIN:VEVENT
DTSTART;TZID=America/New_York:20260209T130000
DTEND;TZID=America/New_York:20260209T153000
DTSTAMP:20260422T180517
CREATED:20260120T133824Z
LAST-MODIFIED:20260204T132625Z
UID:5024-1770642000-1770651000@islandsofbeaufort.com
SUMMARY:MAHJONG
DESCRIPTION:
URL:https://islandsofbeaufort.com/event/mahjong-76/
LOCATION:IOB Clubhouse\, 316 Islands Avenue \, Beaufort\, SC\, 29902\, United States
END:VEVENT
BEGIN:VEVENT
DTSTART;TZID=America/New_York:20260209T190000
DTEND;TZID=America/New_York:20260209T210000
DTSTAMP:20260422T180517
CREATED:20250728T132353Z
LAST-MODIFIED:20250728T132353Z
UID:4860-1770663600-1770670800@islandsofbeaufort.com
SUMMARY:IOB Book Club
DESCRIPTION:
URL:https://islandsofbeaufort.com/event/iob-book-club-25/
LOCATION:IOB Clubhouse\, 316 Islands Avenue \, Beaufort\, SC\, 29902\, United States
END:VEVENT
BEGIN:VEVENT
DTSTART;TZID=America/New_York:20260216T130000
DTEND;TZID=America/New_York:20260216T153000
DTSTAMP:20260422T180517
CREATED:20260120T133859Z
LAST-MODIFIED:20260204T132638Z
UID:5026-1771246800-1771255800@islandsofbeaufort.com
SUMMARY:MAHJONG
DESCRIPTION:
URL:https://islandsofbeaufort.com/event/mahjong-77/
LOCATION:IOB Clubhouse\, 316 Islands Avenue \, Beaufort\, SC\, 29902\, United States
END:VEVENT
BEGIN:VEVENT
DTSTART;TZID=America/New_York:20260217T130000
DTEND;TZID=America/New_York:20260217T170000
DTSTAMP:20260422T180517
CREATED:20251020T125143Z
LAST-MODIFIED:20251020T125143Z
UID:4922-1771333200-1771347600@islandsofbeaufort.com
SUMMARY:Stitch & Bitch
DESCRIPTION:
URL:https://islandsofbeaufort.com/event/stitch-bitch-5/
LOCATION:IOB Clubhouse\, 316 Islands Avenue \, Beaufort\, SC\, 29902\, United States
END:VEVENT
BEGIN:VEVENT
DTSTART;TZID=America/New_York:20260223T130000
DTEND;TZID=America/New_York:20260223T153000
DTSTAMP:20260422T180517
CREATED:20260120T133934Z
LAST-MODIFIED:20260204T132642Z
UID:5028-1771851600-1771860600@islandsofbeaufort.com
SUMMARY:MAHJONG
DESCRIPTION:
URL:https://islandsofbeaufort.com/event/mahjong-78/
LOCATION:IOB Clubhouse\, 316 Islands Avenue \, Beaufort\, SC\, 29902\, United States
END:VEVENT
BEGIN:VEVENT
DTSTART;TZID=America/New_York:20260302T130000
DTEND;TZID=America/New_York:20260302T153000
DTSTAMP:20260422T180517
CREATED:20260120T134104Z
LAST-MODIFIED:20260204T132646Z
UID:5030-1772456400-1772465400@islandsofbeaufort.com
SUMMARY:MAHJONG
DESCRIPTION:
URL:https://islandsofbeaufort.com/event/mahjong-79/
LOCATION:IOB Clubhouse\, 316 Islands Avenue \, Beaufort\, SC\, 29902\, United States
END:VEVENT
BEGIN:VEVENT
DTSTART;TZID=America/New_York:20260303T133000
DTEND;TZID=America/New_York:20260303T150000
DTSTAMP:20260422T180517
CREATED:20260128T153202Z
LAST-MODIFIED:20260220T125411Z
UID:5126-1772544600-1772550000@islandsofbeaufort.com
SUMMARY:Open Space Committee
DESCRIPTION:
URL:https://islandsofbeaufort.com/event/open-space-committee-29/
LOCATION:IOB Clubhouse\, 316 Islands Avenue \, Beaufort\, SC\, 29902\, United States
END:VEVENT
BEGIN:VEVENT
DTSTART;TZID=America/New_York:20260306T150000
DTEND;TZID=America/New_York:20260306T150000
DTSTAMP:20260422T180517
CREATED:20260303T123058Z
LAST-MODIFIED:20260303T123058Z
UID:5229-1772809200-1772809200@islandsofbeaufort.com
SUMMARY:Dominoes
DESCRIPTION:
URL:https://islandsofbeaufort.com/event/dominoes-4/
LOCATION:IOB Clubhouse\, 316 Islands Avenue \, Beaufort\, SC\, 29902\, United States
END:VEVENT
BEGIN:VEVENT
DTSTART;TZID=America/New_York:20260309T130000
DTEND;TZID=America/New_York:20260309T153000
DTSTAMP:20260422T180517
CREATED:20260120T134132Z
LAST-MODIFIED:20260204T132657Z
UID:5032-1773061200-1773070200@islandsofbeaufort.com
SUMMARY:MAHJONG
DESCRIPTION:
URL:https://islandsofbeaufort.com/event/mahjong-80/
LOCATION:IOB Clubhouse\, 316 Islands Avenue \, Beaufort\, SC\, 29902\, United States
END:VEVENT
END:VCALENDAR