BEGIN:VCALENDAR
VERSION:2.0
PRODID:-//Islands of Beaufort - ECPv6.15.18//NONSGML v1.0//EN
CALSCALE:GREGORIAN
METHOD:PUBLISH
X-WR-CALNAME:Islands of Beaufort
X-ORIGINAL-URL:https://islandsofbeaufort.com
X-WR-CALDESC:Events for Islands of Beaufort
REFRESH-INTERVAL;VALUE=DURATION:PT1H
X-Robots-Tag:noindex
X-PUBLISHED-TTL:PT1H
BEGIN:VTIMEZONE
TZID:America/New_York
BEGIN:DAYLIGHT
TZOFFSETFROM:-0500
TZOFFSETTO:-0400
TZNAME:EDT
DTSTART:20230312T070000
END:DAYLIGHT
BEGIN:STANDARD
TZOFFSETFROM:-0400
TZOFFSETTO:-0500
TZNAME:EST
DTSTART:20231105T060000
END:STANDARD
BEGIN:DAYLIGHT
TZOFFSETFROM:-0500
TZOFFSETTO:-0400
TZNAME:EDT
DTSTART:20240310T070000
END:DAYLIGHT
BEGIN:STANDARD
TZOFFSETFROM:-0400
TZOFFSETTO:-0500
TZNAME:EST
DTSTART:20241103T060000
END:STANDARD
BEGIN:DAYLIGHT
TZOFFSETFROM:-0500
TZOFFSETTO:-0400
TZNAME:EDT
DTSTART:20250309T070000
END:DAYLIGHT
BEGIN:STANDARD
TZOFFSETFROM:-0400
TZOFFSETTO:-0500
TZNAME:EST
DTSTART:20251102T060000
END:STANDARD
BEGIN:DAYLIGHT
TZOFFSETFROM:-0500
TZOFFSETTO:-0400
TZNAME:EDT
DTSTART:20260308T070000
END:DAYLIGHT
BEGIN:STANDARD
TZOFFSETFROM:-0400
TZOFFSETTO:-0500
TZNAME:EST
DTSTART:20261101T060000
END:STANDARD
END:VTIMEZONE
BEGIN:VEVENT
DTSTART;TZID=America/New_York:20250110T160000
DTEND;TZID=America/New_York:20250110T180000
DTSTAMP:20260421T221007
CREATED:20241212T183614Z
LAST-MODIFIED:20241212T183614Z
UID:4433-1736524800-1736532000@islandsofbeaufort.com
SUMMARY:MARKETING COMMITTEE
DESCRIPTION:
URL:https://islandsofbeaufort.com/event/marketing-committee-15/
END:VEVENT
BEGIN:VEVENT
DTSTART;TZID=America/New_York:20250107T183000
DTEND;TZID=America/New_York:20250107T203000
DTSTAMP:20260421T221007
CREATED:20241219T163237Z
LAST-MODIFIED:20241219T163237Z
UID:4468-1736274600-1736281800@islandsofbeaufort.com
SUMMARY:SKINNER
DESCRIPTION:
URL:https://islandsofbeaufort.com/event/skinner-8/
END:VEVENT
BEGIN:VEVENT
DTSTART;TZID=America/New_York:20250106T180000
DTEND;TZID=America/New_York:20250106T190000
DTSTAMP:20260421T221007
CREATED:20241213T151137Z
LAST-MODIFIED:20241213T151137Z
UID:4452-1736186400-1736190000@islandsofbeaufort.com
SUMMARY:SOCIAL COMMITTEE
DESCRIPTION:
URL:https://islandsofbeaufort.com/event/social-committee-22/
END:VEVENT
BEGIN:VEVENT
DTSTART;TZID=America/New_York:20250106T140000
DTEND;TZID=America/New_York:20250106T153000
DTSTAMP:20260421T221007
CREATED:20250102T211255Z
LAST-MODIFIED:20250102T211255Z
UID:4475-1736172000-1736177400@islandsofbeaufort.com
SUMMARY:MAHJONG
DESCRIPTION:
URL:https://islandsofbeaufort.com/event/mahjong-19/
END:VEVENT
BEGIN:VEVENT
DTSTART;TZID=America/New_York:20250106T130000
DTEND;TZID=America/New_York:20250106T160000
DTSTAMP:20260421T221007
CREATED:20250106T191518Z
LAST-MODIFIED:20250106T191518Z
UID:4535-1736168400-1736179200@islandsofbeaufort.com
SUMMARY:CLUBHOUSE CLEANING
DESCRIPTION:
URL:https://islandsofbeaufort.com/event/clubhouse-cleaning-98/
END:VEVENT
BEGIN:VEVENT
DTSTART;TZID=America/New_York:20250105T170000
DTEND;TZID=America/New_York:20250105T193000
DTSTAMP:20260421T221007
CREATED:20241219T163202Z
LAST-MODIFIED:20241219T163202Z
UID:4466-1736096400-1736105400@islandsofbeaufort.com
SUMMARY:SKINNER
DESCRIPTION:
URL:https://islandsofbeaufort.com/event/skinner-7/
END:VEVENT
BEGIN:VEVENT
DTSTART;VALUE=DATE:20250102
DTEND;VALUE=DATE:20250103
DTSTAMP:20260421T221007
CREATED:20241104T134409Z
LAST-MODIFIED:20241104T134409Z
UID:4413-1735776000-1735862399@islandsofbeaufort.com
SUMMARY:SMITH RESERVATION
DESCRIPTION:
URL:https://islandsofbeaufort.com/event/smith-reservation/
END:VEVENT
BEGIN:VEVENT
DTSTART;TZID=America/New_York:20241230T140000
DTEND;TZID=America/New_York:20241230T153000
DTSTAMP:20260421T221007
CREATED:20241021T153723Z
LAST-MODIFIED:20241021T153723Z
UID:4409-1735567200-1735572600@islandsofbeaufort.com
SUMMARY:MAHJONG
DESCRIPTION:
URL:https://islandsofbeaufort.com/event/mahjong-18/
END:VEVENT
BEGIN:VEVENT
DTSTART;TZID=America/New_York:20241230T130000
DTEND;TZID=America/New_York:20241230T160000
DTSTAMP:20260421T221007
CREATED:20240220T164313Z
LAST-MODIFIED:20240220T164313Z
UID:3698-1735563600-1735574400@islandsofbeaufort.com
SUMMARY:CLUBHOUSE CLEANING
DESCRIPTION:
URL:https://islandsofbeaufort.com/event/clubhouse-cleaning-97/
END:VEVENT
BEGIN:VEVENT
DTSTART;TZID=America/New_York:20241223T140000
DTEND;TZID=America/New_York:20241223T153000
DTSTAMP:20260421T221007
CREATED:20241021T153723Z
LAST-MODIFIED:20241021T153723Z
UID:4408-1734962400-1734967800@islandsofbeaufort.com
SUMMARY:MAHJONG
DESCRIPTION:
URL:https://islandsofbeaufort.com/event/mahjong-17/
END:VEVENT
BEGIN:VEVENT
DTSTART;TZID=America/New_York:20241223T130000
DTEND;TZID=America/New_York:20241223T160000
DTSTAMP:20260421T221007
CREATED:20240220T164312Z
LAST-MODIFIED:20240220T164312Z
UID:3697-1734958800-1734969600@islandsofbeaufort.com
SUMMARY:CLUBHOUSE CLEANING
DESCRIPTION:
URL:https://islandsofbeaufort.com/event/clubhouse-cleaning-96/
END:VEVENT
BEGIN:VEVENT
DTSTART;TZID=America/New_York:20241222T170000
DTEND;TZID=America/New_York:20241222T193000
DTSTAMP:20260421T221007
CREATED:20241219T163040Z
LAST-MODIFIED:20241219T163040Z
UID:4464-1734886800-1734895800@islandsofbeaufort.com
SUMMARY:SKINNER
DESCRIPTION:
URL:https://islandsofbeaufort.com/event/skinner-6/
END:VEVENT
BEGIN:VEVENT
DTSTART;TZID=America/New_York:20241217T130000
DTEND;TZID=America/New_York:20241217T170000
DTSTAMP:20260421T221007
CREATED:20240207T193447Z
LAST-MODIFIED:20240207T193447Z
UID:3650-1734440400-1734454800@islandsofbeaufort.com
SUMMARY:STITCH CLUB
DESCRIPTION:
URL:https://islandsofbeaufort.com/event/stitch-club-79/
END:VEVENT
BEGIN:VEVENT
DTSTART;TZID=America/New_York:20241216T140000
DTEND;TZID=America/New_York:20241216T153000
DTSTAMP:20260421T221007
CREATED:20241021T153723Z
LAST-MODIFIED:20241021T153723Z
UID:4407-1734357600-1734363000@islandsofbeaufort.com
SUMMARY:MAHJONG
DESCRIPTION:
URL:https://islandsofbeaufort.com/event/mahjong-16/
END:VEVENT
BEGIN:VEVENT
DTSTART;TZID=America/New_York:20241216T130000
DTEND;TZID=America/New_York:20241216T160000
DTSTAMP:20260421T221007
CREATED:20240220T164312Z
LAST-MODIFIED:20240220T164312Z
UID:3696-1734354000-1734364800@islandsofbeaufort.com
SUMMARY:CLUBHOUSE CLEANING
DESCRIPTION:
URL:https://islandsofbeaufort.com/event/clubhouse-cleaning-95/
END:VEVENT
BEGIN:VEVENT
DTSTART;VALUE=DATE:20241214
DTEND;VALUE=DATE:20241215
DTSTAMP:20260421T221007
CREATED:20240206T211715Z
LAST-MODIFIED:20240206T211715Z
UID:3632-1734134400-1734220799@islandsofbeaufort.com
SUMMARY:MERRY MINGLE
DESCRIPTION:
URL:https://islandsofbeaufort.com/event/merry-mingle-4/
END:VEVENT
BEGIN:VEVENT
DTSTART;TZID=America/New_York:20241210T183000
DTEND;TZID=America/New_York:20241210T203000
DTSTAMP:20260421T221007
CREATED:20241125T134352Z
LAST-MODIFIED:20241125T134352Z
UID:4423-1733855400-1733862600@islandsofbeaufort.com
SUMMARY:SKINNER REHEARSAL
DESCRIPTION:
URL:https://islandsofbeaufort.com/event/skinner-rehearsal/
END:VEVENT
BEGIN:VEVENT
DTSTART;TZID=America/New_York:20241210T133000
DTEND;TZID=America/New_York:20241210T133000
DTSTAMP:20260421T221007
CREATED:20240105T164733Z
LAST-MODIFIED:20240105T164733Z
UID:3563-1733837400-1733837400@islandsofbeaufort.com
SUMMARY:IOB BOARD MEETING
DESCRIPTION:
URL:https://islandsofbeaufort.com/event/iob-board-meeting-24/
END:VEVENT
BEGIN:VEVENT
DTSTART;TZID=America/New_York:20241209T190000
DTEND;TZID=America/New_York:20241209T213000
DTSTAMP:20260421T221007
CREATED:20240109T204649Z
LAST-MODIFIED:20240109T204650Z
UID:3580-1733770800-1733779800@islandsofbeaufort.com
SUMMARY:IOB BOOK CLUB
DESCRIPTION:
URL:https://islandsofbeaufort.com/event/iob-book-club-16/
END:VEVENT
BEGIN:VEVENT
DTSTART;TZID=America/New_York:20241209T140000
DTEND;TZID=America/New_York:20241209T153000
DTSTAMP:20260421T221007
CREATED:20241021T153709Z
LAST-MODIFIED:20241021T153709Z
UID:4406-1733752800-1733758200@islandsofbeaufort.com
SUMMARY:MAHJONG
DESCRIPTION:
URL:https://islandsofbeaufort.com/event/mahjong-15/
END:VEVENT
BEGIN:VEVENT
DTSTART;TZID=America/New_York:20241209T130000
DTEND;TZID=America/New_York:20241209T160000
DTSTAMP:20260421T221007
CREATED:20240220T164312Z
LAST-MODIFIED:20240220T164312Z
UID:3695-1733749200-1733760000@islandsofbeaufort.com
SUMMARY:CLUBHOUSE CLEANING
DESCRIPTION:
URL:https://islandsofbeaufort.com/event/clubhouse-cleaning-94/
END:VEVENT
BEGIN:VEVENT
DTSTART;TZID=America/New_York:20241206T160000
DTEND;TZID=America/New_York:20241206T180000
DTSTAMP:20260421T221007
CREATED:20231205T193933Z
LAST-MODIFIED:20231205T193933Z
UID:3517-1733500800-1733508000@islandsofbeaufort.com
SUMMARY:MARKETING COMMITTEE
DESCRIPTION:
URL:https://islandsofbeaufort.com/event/marketing-committee-14/
END:VEVENT
BEGIN:VEVENT
DTSTART;TZID=America/New_York:20241202T180000
DTEND;TZID=America/New_York:20241202T190000
DTSTAMP:20260421T221007
CREATED:20240102T200455Z
LAST-MODIFIED:20240102T200455Z
UID:3541-1733162400-1733166000@islandsofbeaufort.com
SUMMARY:SOCIAL COMMITTEE
DESCRIPTION:
URL:https://islandsofbeaufort.com/event/social-committee-21/
END:VEVENT
BEGIN:VEVENT
DTSTART;TZID=America/New_York:20241202T140000
DTEND;TZID=America/New_York:20241202T153000
DTSTAMP:20260421T221007
CREATED:20241021T153708Z
LAST-MODIFIED:20241021T153708Z
UID:4405-1733148000-1733153400@islandsofbeaufort.com
SUMMARY:MAHJONG
DESCRIPTION:
URL:https://islandsofbeaufort.com/event/mahjong-14/
END:VEVENT
BEGIN:VEVENT
DTSTART;TZID=America/New_York:20241202T130000
DTEND;TZID=America/New_York:20241202T160000
DTSTAMP:20260421T221007
CREATED:20240220T164312Z
LAST-MODIFIED:20240220T164312Z
UID:3694-1733144400-1733155200@islandsofbeaufort.com
SUMMARY:CLUBHOUSE CLEANING
DESCRIPTION:
URL:https://islandsofbeaufort.com/event/clubhouse-cleaning-93/
END:VEVENT
BEGIN:VEVENT
DTSTART;TZID=America/New_York:20241201T160000
DTEND;TZID=America/New_York:20241201T180000
DTSTAMP:20260421T221007
CREATED:20241011T201254Z
LAST-MODIFIED:20241011T201254Z
UID:4386-1733068800-1733076000@islandsofbeaufort.com
SUMMARY:Private Event-Ginnie Kozak
DESCRIPTION:
URL:https://islandsofbeaufort.com/event/private-event-ginnie-kozak/
LOCATION:IOB Clubhouse\, 316 Islands Avenue \, Beaufort\, SC\, 29902\, United States
END:VEVENT
BEGIN:VEVENT
DTSTART;TZID=America/New_York:20241127T140000
DTEND;TZID=America/New_York:20241127T153000
DTSTAMP:20260421T221007
CREATED:20240917T125042Z
LAST-MODIFIED:20240917T125042Z
UID:4366-1732716000-1732721400@islandsofbeaufort.com
SUMMARY:GAME DAY
DESCRIPTION:
URL:https://islandsofbeaufort.com/event/game-day-13/
END:VEVENT
BEGIN:VEVENT
DTSTART;TZID=America/New_York:20241126T160000
DTEND;TZID=America/New_York:20241126T180000
DTSTAMP:20260421T221007
CREATED:20240111T153812Z
LAST-MODIFIED:20240111T153812Z
UID:3596-1732636800-1732644000@islandsofbeaufort.com
SUMMARY:OPEN SPACE COMMITTEE
DESCRIPTION:
URL:https://islandsofbeaufort.com/event/open-space-committee-11/
END:VEVENT
BEGIN:VEVENT
DTSTART;TZID=America/New_York:20241125T163000
DTEND;TZID=America/New_York:20241125T203000
DTSTAMP:20260421T221007
CREATED:20241118T140211Z
LAST-MODIFIED:20241118T140211Z
UID:4419-1732552200-1732566600@islandsofbeaufort.com
SUMMARY:SMITH
DESCRIPTION:
URL:https://islandsofbeaufort.com/event/smith/
END:VEVENT
BEGIN:VEVENT
DTSTART;TZID=America/New_York:20241125T140000
DTEND;TZID=America/New_York:20241125T153000
DTSTAMP:20260421T221007
CREATED:20241021T153708Z
LAST-MODIFIED:20241021T153708Z
UID:4404-1732543200-1732548600@islandsofbeaufort.com
SUMMARY:MAHJONG
DESCRIPTION:
URL:https://islandsofbeaufort.com/event/mahjong-13/
END:VEVENT
END:VCALENDAR