BEGIN:VCALENDAR
VERSION:2.0
PRODID:-//Islands of Beaufort - ECPv6.15.18//NONSGML v1.0//EN
CALSCALE:GREGORIAN
METHOD:PUBLISH
X-WR-CALNAME:Islands of Beaufort
X-ORIGINAL-URL:https://islandsofbeaufort.com
X-WR-CALDESC:Events for Islands of Beaufort
REFRESH-INTERVAL;VALUE=DURATION:PT1H
X-Robots-Tag:noindex
X-PUBLISHED-TTL:PT1H
BEGIN:VTIMEZONE
TZID:America/New_York
BEGIN:DAYLIGHT
TZOFFSETFROM:-0500
TZOFFSETTO:-0400
TZNAME:EDT
DTSTART:20240310T070000
END:DAYLIGHT
BEGIN:STANDARD
TZOFFSETFROM:-0400
TZOFFSETTO:-0500
TZNAME:EST
DTSTART:20241103T060000
END:STANDARD
BEGIN:DAYLIGHT
TZOFFSETFROM:-0500
TZOFFSETTO:-0400
TZNAME:EDT
DTSTART:20250309T070000
END:DAYLIGHT
BEGIN:STANDARD
TZOFFSETFROM:-0400
TZOFFSETTO:-0500
TZNAME:EST
DTSTART:20251102T060000
END:STANDARD
BEGIN:DAYLIGHT
TZOFFSETFROM:-0500
TZOFFSETTO:-0400
TZNAME:EDT
DTSTART:20260308T070000
END:DAYLIGHT
BEGIN:STANDARD
TZOFFSETFROM:-0400
TZOFFSETTO:-0500
TZNAME:EST
DTSTART:20261101T060000
END:STANDARD
END:VTIMEZONE
BEGIN:VEVENT
DTSTART;TZID=America/New_York:20250414T190000
DTEND;TZID=America/New_York:20250414T210000
DTSTAMP:20260421T150843
CREATED:20250407T114717Z
LAST-MODIFIED:20250407T115004Z
UID:4796-1744657200-1744664400@islandsofbeaufort.com
SUMMARY:IOB BOOK CLUB
DESCRIPTION:
URL:https://islandsofbeaufort.com/event/iob-book-club-17/
LOCATION:IOB Clubhouse\, 316 Islands Avenue \, Beaufort\, SC\, 29902\, United States
END:VEVENT
BEGIN:VEVENT
DTSTART;TZID=America/New_York:20250414T130000
DTEND;TZID=America/New_York:20250414T160000
DTSTAMP:20260421T150843
CREATED:20250106T191537Z
LAST-MODIFIED:20250106T191537Z
UID:4549-1744635600-1744646400@islandsofbeaufort.com
SUMMARY:CLUBHOUSE CLEANING
DESCRIPTION:
URL:https://islandsofbeaufort.com/event/clubhouse-cleaning-112/
END:VEVENT
BEGIN:VEVENT
DTSTART;TZID=America/New_York:20250414T130000
DTEND;TZID=America/New_York:20250414T153000
DTSTAMP:20260421T150843
CREATED:20250102T211313Z
LAST-MODIFIED:20260204T130128Z
UID:4489-1744635600-1744644600@islandsofbeaufort.com
SUMMARY:MAHJONG
DESCRIPTION:
URL:https://islandsofbeaufort.com/event/mahjong-33/
END:VEVENT
BEGIN:VEVENT
DTSTART;TZID=America/New_York:20250411T170000
DTEND;TZID=America/New_York:20250411T210000
DTSTAMP:20260421T150843
CREATED:20250129T165511Z
LAST-MODIFIED:20250129T165511Z
UID:4672-1744390800-1744405200@islandsofbeaufort.com
SUMMARY:WATSON
DESCRIPTION:
URL:https://islandsofbeaufort.com/event/watson/
END:VEVENT
BEGIN:VEVENT
DTSTART;TZID=America/New_York:20250407T130000
DTEND;TZID=America/New_York:20250407T160000
DTSTAMP:20260421T150843
CREATED:20250106T191537Z
LAST-MODIFIED:20250106T191537Z
UID:4548-1744030800-1744041600@islandsofbeaufort.com
SUMMARY:CLUBHOUSE CLEANING
DESCRIPTION:
URL:https://islandsofbeaufort.com/event/clubhouse-cleaning-111/
END:VEVENT
BEGIN:VEVENT
DTSTART;TZID=America/New_York:20250407T130000
DTEND;TZID=America/New_York:20250407T153000
DTSTAMP:20260421T150843
CREATED:20250102T211313Z
LAST-MODIFIED:20260204T130119Z
UID:4488-1744030800-1744039800@islandsofbeaufort.com
SUMMARY:MAHJONG
DESCRIPTION:
URL:https://islandsofbeaufort.com/event/mahjong-32/
END:VEVENT
BEGIN:VEVENT
DTSTART;TZID=America/New_York:20250405T123000
DTEND;TZID=America/New_York:20250405T140000
DTSTAMP:20260421T150843
CREATED:20250328T170201Z
LAST-MODIFIED:20250328T170201Z
UID:4794-1743856200-1743861600@islandsofbeaufort.com
SUMMARY:Deer Island Meeting
DESCRIPTION:
URL:https://islandsofbeaufort.com/event/deer-island-meeting-2/
LOCATION:IOB Clubhouse\, 316 Islands Avenue \, Beaufort\, SC\, 29902\, United States
END:VEVENT
BEGIN:VEVENT
DTSTART;TZID=America/New_York:20250401T170000
DTEND;TZID=America/New_York:20250401T180000
DTSTAMP:20260421T150843
CREATED:20241213T151138Z
LAST-MODIFIED:20250108T144857Z
UID:4455-1743526800-1743530400@islandsofbeaufort.com
SUMMARY:SOCIAL COMMITTEE
DESCRIPTION:
URL:https://islandsofbeaufort.com/event/social-committee-25/
END:VEVENT
BEGIN:VEVENT
DTSTART;TZID=America/New_York:20250331T130000
DTEND;TZID=America/New_York:20250331T160000
DTSTAMP:20260421T150843
CREATED:20250106T191537Z
LAST-MODIFIED:20250106T191537Z
UID:4547-1743426000-1743436800@islandsofbeaufort.com
SUMMARY:CLUBHOUSE CLEANING
DESCRIPTION:
URL:https://islandsofbeaufort.com/event/clubhouse-cleaning-110/
END:VEVENT
BEGIN:VEVENT
DTSTART;TZID=America/New_York:20250331T130000
DTEND;TZID=America/New_York:20250331T153000
DTSTAMP:20260421T150843
CREATED:20250102T211313Z
LAST-MODIFIED:20260204T130111Z
UID:4487-1743426000-1743435000@islandsofbeaufort.com
SUMMARY:MAHJONG
DESCRIPTION:
URL:https://islandsofbeaufort.com/event/mahjong-31/
END:VEVENT
BEGIN:VEVENT
DTSTART;TZID=America/New_York:20250329T100000
DTEND;TZID=America/New_York:20250329T120000
DTSTAMP:20260421T150843
CREATED:20250326T125249Z
LAST-MODIFIED:20250326T125249Z
UID:4791-1743242400-1743249600@islandsofbeaufort.com
SUMMARY:Volunteer Pool Cleanup Day
DESCRIPTION:
URL:https://islandsofbeaufort.com/event/volunteer-pool-cleanup-day/
LOCATION:IOB Pool
END:VEVENT
BEGIN:VEVENT
DTSTART;TZID=America/New_York:20250325T180000
DTEND;TZID=America/New_York:20250325T200000
DTSTAMP:20260421T150843
CREATED:20250109T143107Z
LAST-MODIFIED:20250206T163959Z
UID:4607-1742925600-1742932800@islandsofbeaufort.com
SUMMARY:GAME NIGHT
DESCRIPTION:
URL:https://islandsofbeaufort.com/event/game-night-37/
END:VEVENT
BEGIN:VEVENT
DTSTART;TZID=America/New_York:20250325T150000
DTEND;TZID=America/New_York:20250325T170000
DTSTAMP:20260421T150843
CREATED:20241212T192614Z
LAST-MODIFIED:20250305T183329Z
UID:4439-1742914800-1742922000@islandsofbeaufort.com
SUMMARY:OPEN SPACE COMMITTEE
DESCRIPTION:
URL:https://islandsofbeaufort.com/event/open-space-committee-15/
END:VEVENT
BEGIN:VEVENT
DTSTART;TZID=America/New_York:20250324T130000
DTEND;TZID=America/New_York:20250324T160000
DTSTAMP:20260421T150843
CREATED:20250106T191536Z
LAST-MODIFIED:20250106T191536Z
UID:4546-1742821200-1742832000@islandsofbeaufort.com
SUMMARY:CLUBHOUSE CLEANING
DESCRIPTION:
URL:https://islandsofbeaufort.com/event/clubhouse-cleaning-109/
END:VEVENT
BEGIN:VEVENT
DTSTART;TZID=America/New_York:20250324T130000
DTEND;TZID=America/New_York:20250324T153000
DTSTAMP:20260421T150843
CREATED:20250102T211313Z
LAST-MODIFIED:20260204T130009Z
UID:4486-1742821200-1742830200@islandsofbeaufort.com
SUMMARY:MAHJONG
DESCRIPTION:
URL:https://islandsofbeaufort.com/event/mahjong-30/
END:VEVENT
BEGIN:VEVENT
DTSTART;TZID=America/New_York:20250321T173000
DTEND;TZID=America/New_York:20250321T173000
DTSTAMP:20260421T150843
CREATED:20250311T184309Z
LAST-MODIFIED:20250311T184309Z
UID:4748-1742578200-1742578200@islandsofbeaufort.com
SUMMARY:DOCKTAILS
DESCRIPTION:
URL:https://islandsofbeaufort.com/event/docktails/
LOCATION:de la Gaye Dock
END:VEVENT
BEGIN:VEVENT
DTSTART;TZID=America/New_York:20250317T130000
DTEND;TZID=America/New_York:20250317T160000
DTSTAMP:20260421T150843
CREATED:20250106T191536Z
LAST-MODIFIED:20250106T191536Z
UID:4545-1742216400-1742227200@islandsofbeaufort.com
SUMMARY:CLUBHOUSE CLEANING
DESCRIPTION:
URL:https://islandsofbeaufort.com/event/clubhouse-cleaning-108/
END:VEVENT
BEGIN:VEVENT
DTSTART;TZID=America/New_York:20250317T130000
DTEND;TZID=America/New_York:20250317T153000
DTSTAMP:20260421T150843
CREATED:20250102T211313Z
LAST-MODIFIED:20260204T130006Z
UID:4485-1742216400-1742225400@islandsofbeaufort.com
SUMMARY:MAHJONG
DESCRIPTION:
URL:https://islandsofbeaufort.com/event/mahjong-29/
END:VEVENT
BEGIN:VEVENT
DTSTART;TZID=America/New_York:20250310T130000
DTEND;TZID=America/New_York:20250310T160000
DTSTAMP:20260421T150843
CREATED:20250106T191522Z
LAST-MODIFIED:20250106T191522Z
UID:4544-1741611600-1741622400@islandsofbeaufort.com
SUMMARY:CLUBHOUSE CLEANING
DESCRIPTION:
URL:https://islandsofbeaufort.com/event/clubhouse-cleaning-107/
END:VEVENT
BEGIN:VEVENT
DTSTART;TZID=America/New_York:20250310T130000
DTEND;TZID=America/New_York:20250310T153000
DTSTAMP:20260421T150843
CREATED:20250102T211259Z
LAST-MODIFIED:20260204T125956Z
UID:4484-1741611600-1741620600@islandsofbeaufort.com
SUMMARY:MAHJONG
DESCRIPTION:
URL:https://islandsofbeaufort.com/event/mahjong-28/
END:VEVENT
BEGIN:VEVENT
DTSTART;TZID=America/New_York:20250307T160000
DTEND;TZID=America/New_York:20250307T160000
DTSTAMP:20260421T150843
CREATED:20250211T205625Z
LAST-MODIFIED:20250211T205625Z
UID:4711-1741363200-1741363200@islandsofbeaufort.com
SUMMARY:MARKETING COMMITTEE
DESCRIPTION:
URL:https://islandsofbeaufort.com/event/marketing-committee-16/
END:VEVENT
BEGIN:VEVENT
DTSTART;TZID=America/New_York:20250304T170000
DTEND;TZID=America/New_York:20250304T180000
DTSTAMP:20260421T150843
CREATED:20241213T151137Z
LAST-MODIFIED:20250108T144833Z
UID:4454-1741107600-1741111200@islandsofbeaufort.com
SUMMARY:SOCIAL COMMITTEE
DESCRIPTION:
URL:https://islandsofbeaufort.com/event/social-committee-24/
END:VEVENT
BEGIN:VEVENT
DTSTART;TZID=America/New_York:20250303T130000
DTEND;TZID=America/New_York:20250303T160000
DTSTAMP:20260421T150843
CREATED:20250106T191522Z
LAST-MODIFIED:20250106T191522Z
UID:4543-1741006800-1741017600@islandsofbeaufort.com
SUMMARY:CLUBHOUSE CLEANING
DESCRIPTION:
URL:https://islandsofbeaufort.com/event/clubhouse-cleaning-106/
END:VEVENT
BEGIN:VEVENT
DTSTART;TZID=America/New_York:20250303T130000
DTEND;TZID=America/New_York:20250303T153000
DTSTAMP:20260421T150843
CREATED:20250102T211259Z
LAST-MODIFIED:20260204T125813Z
UID:4483-1741006800-1741015800@islandsofbeaufort.com
SUMMARY:MAHJONG
DESCRIPTION:
URL:https://islandsofbeaufort.com/event/mahjong-27/
END:VEVENT
BEGIN:VEVENT
DTSTART;TZID=America/New_York:20250228T160000
DTEND;TZID=America/New_York:20250228T180000
DTSTAMP:20260421T150843
CREATED:20250224T125651Z
LAST-MODIFIED:20250224T125651Z
UID:4722-1740758400-1740765600@islandsofbeaufort.com
SUMMARY:Dominoes
DESCRIPTION:
URL:https://islandsofbeaufort.com/event/dominoes/
LOCATION:IOB Clubhouse\, 316 Islands Avenue \, Beaufort\, SC\, 29902\, United States
END:VEVENT
BEGIN:VEVENT
DTSTART;TZID=America/New_York:20250225T180000
DTEND;TZID=America/New_York:20250225T200000
DTSTAMP:20260421T150843
CREATED:20250109T143106Z
LAST-MODIFIED:20250203T141957Z
UID:4606-1740506400-1740513600@islandsofbeaufort.com
SUMMARY:GAME NIGHT
DESCRIPTION:
URL:https://islandsofbeaufort.com/event/game-night-36/
END:VEVENT
BEGIN:VEVENT
DTSTART;TZID=America/New_York:20250225T160000
DTEND;TZID=America/New_York:20250225T180000
DTSTAMP:20260421T150843
CREATED:20241212T192614Z
LAST-MODIFIED:20241212T192614Z
UID:4438-1740499200-1740506400@islandsofbeaufort.com
SUMMARY:OPEN SPACE COMMITTEE
DESCRIPTION:
URL:https://islandsofbeaufort.com/event/open-space-committee-14/
END:VEVENT
BEGIN:VEVENT
DTSTART;TZID=America/New_York:20250224T130000
DTEND;TZID=America/New_York:20250224T160000
DTSTAMP:20260421T150843
CREATED:20250106T191522Z
LAST-MODIFIED:20250106T191522Z
UID:4542-1740402000-1740412800@islandsofbeaufort.com
SUMMARY:CLUBHOUSE CLEANING
DESCRIPTION:
URL:https://islandsofbeaufort.com/event/clubhouse-cleaning-105/
END:VEVENT
BEGIN:VEVENT
DTSTART;TZID=America/New_York:20250224T130000
DTEND;TZID=America/New_York:20250224T153000
DTSTAMP:20260421T150843
CREATED:20250102T211258Z
LAST-MODIFIED:20260204T125759Z
UID:4482-1740402000-1740411000@islandsofbeaufort.com
SUMMARY:MAHJONG
DESCRIPTION:
URL:https://islandsofbeaufort.com/event/mahjong-26/
END:VEVENT
BEGIN:VEVENT
DTSTART;TZID=America/New_York:20250217T130000
DTEND;TZID=America/New_York:20250217T160000
DTSTAMP:20260421T150843
CREATED:20250106T191521Z
LAST-MODIFIED:20250106T191521Z
UID:4541-1739797200-1739808000@islandsofbeaufort.com
SUMMARY:CLUBHOUSE CLEANING
DESCRIPTION:
URL:https://islandsofbeaufort.com/event/clubhouse-cleaning-104/
END:VEVENT
END:VCALENDAR